BEGIN:VCALENDAR
VERSION:2.0
PRODID:-//Eventos - ECPv6.10.3//NONSGML v1.0//EN
CALSCALE:GREGORIAN
METHOD:PUBLISH
X-WR-CALNAME:Eventos
X-ORIGINAL-URL:https://eventos.santabrigida.es
X-WR-CALDESC:Eventos para Eventos
REFRESH-INTERVAL;VALUE=DURATION:PT1H
X-Robots-Tag:noindex
X-PUBLISHED-TTL:PT1H
BEGIN:VTIMEZONE
TZID:UTC
BEGIN:STANDARD
TZOFFSETFROM:+0000
TZOFFSETTO:+0000
TZNAME:UTC
DTSTART:20250101T000000
END:STANDARD
END:VTIMEZONE
BEGIN:VEVENT
DTSTART;TZID=UTC:20250422T160000
DTEND;TZID=UTC:20250701T190000
DTSTAMP:20260425T120058
CREATED:20250414T121247Z
LAST-MODIFIED:20250414T122509Z
UID:10001007-1745337600-1751396400@eventos.santabrigida.es
SUMMARY:Iván Quintana imparte un Curso de Tejeduría en La Atalaya
DESCRIPTION:La Concejalía de Cultura del Ayuntamiento de Santa Brígida\, en colaboración con la Fundación para la Etnografía y el Desarrollo de la Artesanía Canaria (FEDAC)\, entidad dependiente del Cabildo de Gran Canaria\, lanza un Curso de Tejeduría orientado a la recuperación y difusión de una de las tradiciones más emblemáticas del patrimonio cultural satauteño. Solo a comienzos del siglo XIX\, parte de la actividad industrial del municipio se centraba en un horno de tejas y más de 120 telares\, testimonio de un importante legado artesanal. La formación\, de carácter gratuita\, estará dirigida por Iván Quintana Ramírez\, folclorista\, artesano y miembro de Los Gofiones\, de amplia experiencia y compromiso con la investigación y preservación de un oficio artesanal casi desaparecido. A través de una experiencia educativa y amena\, donde el conocimiento y la etnografía juegan un papel esencial\, sus participantes podrán conocer\, entre otros\, los diferentes tipos de tejidos\, métodos y materiales utilizados en esta artesanía textil tradicional. Será un viaje por la historia del telar y el papel fundamental que desempeñaron tantas mujeres canarias\, cuyo trabajo silencioso ayudó a forjar la identidad cultural del Archipiélago. Detalles del curso Lugar: Teleclub de La Atalaya. Horario: 16:00 a 19:00 horas \nDías: Martes y Jueves Duración: seis semanas \n• Primer grupo: 22 de abril al 27 de mayo \n• Segundo grupo: 29 de mayo al 1 de julio Inscripciones cultura@santabrigida.es Plazas limitadas
URL:https://eventos.santabrigida.es/eventos/27897/
LOCATION:Teleclub de La Atalaya
CATEGORIES:Cultura y Educación
ATTACH;FMTTYPE=image/jpeg:https://eventos.santabrigida.es/wp-content/uploads/2025/04/Tejeduria.jpg
END:VEVENT
BEGIN:VEVENT
DTSTART;TZID=UTC:20250512T180000
DTEND;TZID=UTC:20251229T193000
DTSTAMP:20260425T120058
CREATED:20250505T102339Z
LAST-MODIFIED:20250505T102339Z
UID:10001013-1747072800-1767036600@eventos.santabrigida.es
SUMMARY:Clases gratuitas de yoga para mujeres desde mayo a diciembre
DESCRIPTION:La Concejalía de Igualdad del Ayuntamiento de Santa Brígida\, que dirige el alcalde José Armengol\, pone en marcha clases gratuitas de yoga kundalini dirigidas exclusivamente a mujeres del municipio. Las sesiones estarán a cargo de maestras especializadas en yoga para mujeres del proyecto social Océano de Luz. \nLas clases comenzarán el lunes\, 12 de mayo y se impartirán cada lunes\, de 18:00 a 19:30 horas\, hasta el mes de diciembre. El lugar de encuentro será el Edificio de Extensión Agraria de Santa Brígida\, ubicado en la Calle Acequia del Palmeral\, s/n. \nEl yoga kundalini\, aunque está indicado para todas las personas\, ofrece beneficios especialmente significativos para las mujeres. Conocido como el «yoga de la conciencia»\, su práctica promueve una conexión profunda con la energía vital (Shakti)\, que en las filosofías tántricas y yóguicas se relaciona con lo femenino divino\, favorece el equilibrio hormonal y emocional\, aporta claridad mental y fortalece el sistema nervioso\, lo que permite afrontar los retos cotidianos con serenidad\, alegría y fortaleza. \nEsta disciplina no requiere una condición física previa\, ya que los ejercicios se adaptan a las necesidades de cada participante. Por ello\, todas las mujeres\, independientemente de su edad o forma física\, están invitadas a participar. \nEsta iniciativa tiene como objetivo fomentar el bienestar físico y emocional de las mujeres\, además de crear espacios de encuentro y autocuidado. La actividad se enmarca en el compromiso del Ayuntamiento de Santa Brígida con la promoción de la salud integral de las mujeres. \n  \nInscripción\nigualdad@santabrigida.es\n928 64 81 81 (ext. 0409 / 0410) \nO bien en el QR que aparece en el cartel \n 
URL:https://eventos.santabrigida.es/eventos/clases-gratuitas-de-yoga-para-mujeres-desde-mayo-a-diciembre/
LOCATION:Edificio de Extensión Agraria de Santa Brígida\, España
CATEGORIES:Igualdad
ATTACH;FMTTYPE=image/jpeg:https://eventos.santabrigida.es/wp-content/uploads/2025/05/Insta.jpeg
END:VEVENT
BEGIN:VEVENT
DTSTART;TZID=UTC:20250625T183000
DTEND;TZID=UTC:20250708T193000
DTSTAMP:20260425T120058
CREATED:20250623T172550Z
LAST-MODIFIED:20250623T173210Z
UID:10001067-1750876200-1752003000@eventos.santabrigida.es
SUMMARY:Jóvenes talentos de Academia de Arte Mercedes Ley exponen en la Biblioteca
DESCRIPTION:La Concejalía de Cultura tiene el placer de invitar al público a la nueva exposición colectiva de la Academia de Arte Mercedes Ley. Bajo el nombre de GRATIAS\, la muestra celebra la creatividad\, la gratitud y la expresión artística a través de la mirada de su alumnado más joven. \nLa inauguración de la exposición e celebrará el miércoles\, 25 de junio a las 18:30 h en la Biblioteca Municipal de Santa Brígida. \nGRATIAS reúne una cuidada selección de obras que exploran diversas técnicas y estilos\, ofreciendo una explosión de color\, emoción y sensibilidad. Cada pieza es testimonio del crecimiento\, la dedicación y la mirada única de su autor o autora. La exposición rinde homenaje a la naturaleza y al aprendizaje compartido\, convirtiendo el arte en un puente entre generaciones\, culturas y emociones. \nLa entrada es libre y gratuita.
URL:https://eventos.santabrigida.es/eventos/jovenes-talentos-de-academia-de-arte-mercedes-ley-exponen-en-la-biblioteca/
LOCATION:Biblioteca Municipal Francisco Morales Padrón\, Calle Calvario\, Santa Brígida\, Las Palmas\, 35300
CATEGORIES:Cultura y Educación
ATTACH;FMTTYPE=image/jpeg:https://eventos.santabrigida.es/wp-content/uploads/2025/06/025-mercedes-ley-biblioteca.jpg
END:VEVENT
BEGIN:VEVENT
DTSTART;TZID=UTC:20250625T190000
DTEND;TZID=UTC:20250708T200000
DTSTAMP:20260425T120058
CREATED:20250623T172836Z
LAST-MODIFIED:20250623T172836Z
UID:10001068-1750878000-1752004800@eventos.santabrigida.es
SUMMARY:La Academia de Arte Mercedes Ley expone obra reciente en la Sala Lola Massieu
DESCRIPTION:La Academia de Arte Mercedes Ley tiene el placer de invitar al público a su nueva exposición colectiva: GRATIAS\, una muestra que celebra la creatividad\, la gratitud y la expresión artística a través de la mirada de su alumnado adulto. \nLa inauguración de la exposición infantil se celebrará el martes 25 de junio a las 19:00 horas en la Sala Lola Massieu. \nGRATIAS reúne una cuidada selección de obras que exploran diversas técnicas y estilos\, ofreciendo una explosión de color\, emoción y sensibilidad. Cada pieza es testimonio del crecimiento\, la dedicación y la mirada única de su autor o autora. La exposición rinde homenaje a la naturaleza y al aprendizaje compartido\, convirtiendo el arte en un puente entre generaciones\, culturas y emociones. \nLa exposición permanecerá abierta hasta el 8 de julio. La entrada es libre y gratuita.
URL:https://eventos.santabrigida.es/eventos/la-academia-de-arte-mercedes-ley-expone-obra-reciente-en-la-sala-lola-massieu/
LOCATION:Sala de xposiciones Lola Massieu\, Historiador Francisco Morales Padrón.\, Santa Brígida\, Las Palmas\, 35300\, España
CATEGORIES:Cultura y Educación
ATTACH;FMTTYPE=image/jpeg:https://eventos.santabrigida.es/wp-content/uploads/2025/06/025-mercedes-ley-sala-lola-massieu.jpg
END:VEVENT
BEGIN:VEVENT
DTSTART;TZID=UTC:20250627T100000
DTEND;TZID=UTC:20250706T220000
DTSTAMP:20260425T120058
CREATED:20250626T171158Z
LAST-MODIFIED:20250626T171158Z
UID:10001074-1751018400-1751839200@eventos.santabrigida.es
SUMMARY:Programa Batalla del Batán
DESCRIPTION:La Batalla del Batán vuelve a cobrar vida con un programa cargado de cultura\, memoria y recreación histórica que transformará Santa Brígida en un auténtico viaje al pasado. Esta celebración\, organizada por el Ayuntamiento de Santa Brígida y el Cabildo de Gran Canaria\, busca rendir homenaje a la mayor hazaña militar de la historia de Canarias. \nDescargar programa \nViernes\, 27 de junio\n19:00 h – Sala Lola Massieu \nLa apertura del programa será con la conferencia ‘Un testigo de arte flamenco en Gran Canaria‘\, a cargo del conservador Iván Arencibia Rivero. Se abordará la intervención de conservación del retablo gótico flamenco de San Juan de Telde\, una joya patrimonial del archipiélago. \nSábado\, 28 de junio\n21:00 h – Casco histórico de Santa Brígida \nUno de los momentos más esperados es la teatralización de la Batalla del Batán\, una recreación escénica que convertirá las calles del casco histórico en un escenario vivo\, reviviendo la resistencia isleña frente a las incursiones neerlandesas en el siglo XVI. \nJueves\, 3 de julio\n12:30 h – Plaza de la Iglesia \nSe realizará un acto castrense en homenaje a los caídos en la batalla\, un tributo solemne a los protagonistas históricos de este enfrentamiento que marcó la historia de Gran Canaria. \nViernes\, 4 de julio\n20:00 h – Iglesia de Santa Brígida \nEl grupo Capilla de Santa Ana ofrecerá el concierto ‘Aguas de fuego y sal’\, con un repertorio de música antigua que transportará a los asistentes a la espiritualidad del XVI. \n. \nSábado\, 5 de julio: Parque Municipal \n\n10:45 Paseo histórico por Santa Brígida\n11:00 Apertura del campamento\n11:00 Taller de tintes naturales (Dory\, artesana hilandera)\n11:15 Demostración de armas de fuego de 1599 y entrenamiento de milicias\n12:00 Charla ‘Las campanas de Van der Does’ (Gustavo Trujillo Yánez)\n13:00 Relatos sobre Daniel Van Damme (Alex Hansen)\nDurante toda la mañana: bailes\, hospital de campaña\n14:00 Cierre del campamento\n16:00 Reapertura del campamento.\n16:30 Teatro de títeres: ‘Retablo del Batán’\n18:30 Bailes de época y taller participativo\nActividades vespertinas: charlas históricas\, armas\, milicia\, bailes y hospital de campaña\n19:00 Cierre del campamento\n\nDomingo\, 6 de julio: Despedida \n\n10:45 Paseo por Santa Brígida\n11:00 Apertura del campamento\n11:15 Recitación del Cantar de Doramas\n11:30 Armas y entrenamiento de milicias\n12:00 Bailes\n12:30 Títeres\n13:00 Relatos sobre Daniel Van Damme (Alex Hansen)\n14:00 Cierre del campamento\n\nTambién se realizará un taller de cerámica canaria\, juegos tradicionales como la bola canaria\, y una muestra de oficios y vida cotidiana de la época.
URL:https://eventos.santabrigida.es/eventos/programa-batalla-del-batan/
LOCATION:Casco de Santa Brígida
CATEGORIES:Cultura y Educación
ATTACH;FMTTYPE=image/jpeg:https://eventos.santabrigida.es/wp-content/uploads/2025/06/Cartel-scaled.jpg
END:VEVENT
BEGIN:VEVENT
DTSTART;TZID=UTC:20250630T080000
DTEND;TZID=UTC:20250705T170000
DTSTAMP:20260425T120058
CREATED:20250627T065931Z
LAST-MODIFIED:20250627T065939Z
UID:10001075-1751270400-1751734800@eventos.santabrigida.es
SUMMARY:Programa XXXII Traída del Barro
DESCRIPTION:La XXXII edición de la Traída del Barro dará comienzo el próximo lunes\, 30 de junio\, y se extenderá hasta el sábado\, 5 de julio\, jornada en la que culminará con la esperada “embarrada” y la tradicional ducha popular. \nDurante estos días\, el barrio de La Atalaya celebrará una de sus fiestas más singulares y auténticas\, convertida con el paso del tiempo en un símbolo identitario para sus vecinos y vecinas. Inspirada en la antigua costumbre de las mujeres que subían hasta La Concepción para recolectar el barro que daba vida a las piezas de los alfareros\, esta festividad —instituida hace ya 32 años— mantiene vivo un legado patrimonial\, profundamente ligado a la memoria colectiva y al arte locero tradicional. \n\nDescargar programa \n\n\n30 de junio \n17:00 h – La festividad comienza en el Centro Locero con la apertura del taller Juega con barro\, de la mano del artesano Domingo Díaz Barrios (El Taranta)\, dedicado especialmente a niños y niñas. \n19:00 h – Homenaje floral en la Casa Alfar de Panchito a las loceras y loceros fallecidos. \n20:00 h – Inauguración de una Exposición de cerámica a cargo del colectivo ALUD. Durante el picoteo\, nos acompañará La Parranda de San Antonio. \n1 de julio \n17:00 h – Continúa el Taller Juega con barro \n19:00 h – En el Centro Locero\, el talayero Javier Santana presentará su libro Mi amigo Jung\, quien estará acompañado de la escritora Rosario Valcárcel y del arpista Armando Santana. Al finalizar\, se ofrecerá un enyesque. \n2 de julio \n 17:00 h – Taller Juega con barro \n18:00 h – El Centro Locero será el escenario de una Gymkana para niñas y niños de 3 a 14 años\, una tarde de juegos\, música y diversión\, acompañada de una merienda sana para sus participantes. La inscripción es gratuita y se puede realizar escaneando el código QR disponible en el cartel del evento. Organiza Gregorio Jesús Rivero Gutiérrez y sus hijas Candela y Graciela. \n3 de julio \n17:00 h – Taller Juega con barro. \n19:00 h – Loza: tradición en femenino en la AAVV Cataifa\, charla en la que participan Coca de Armas\, licenciada en Geografía e Historia\, impulsora del Centro Locero; Chicha Reina\, ensayista y activista\, autora de La traída del barro; Rosario Miranda\, alfarera y discípula del maestro Justo Cubas; Nona Perera\, arqueóloga y doctora en Prehistoria por la Universidad de La Laguna; Carmen Ascanio\, doctora en Antropología y profesora de la Universidad de La Laguna\, y Macarena Murcia Suárez\, técnico del Fondo Etnográfico de la FEDAC. \nEl acto contará con la presencia de antiguas loceras talayeras y la música del cantante José Manuel “El Patillas”. Se servirá vino. Acto financiado íntegramente por la FEDAC. \n\n4 de julio \n12:00 h – Para los más pequeños\, Traída Chica en el CEIP José Manuel Illera de la Mora\, con el tradicional acarreo de leña. \n18:00 h – Guisada tradicional en el antiguo horno. \n00:00 h (medianoche) – Retreta anunciadora de la XXXII Traída del Barro\, con la participación de la Batucada Aborigen. Salida trasera Ban Juansito. \n5 de julio \nXXXII Traída del Barro: La Atalaya volverá a teñirse de marrón en una cita abierta a quienes deseen disfrutar de una gran «embarrada». \n13:00 h – La Batucada Aborigen vuelve a calentar motores. En el local de la organización se repartirá paella o bocatas. Donativo: 3 euros. \n14:00 h – Actuación del DJ Airam Vega frente al Bar Juansito. ¡Juventud a tope! \n15:00 h – Concierto del Grupo Mallombe. ¡Para bailar y bailar! \n16:00 h – La Banda Guiniguada nos acompañará en la tradicional embarrada y nos traerá de regreso. \n19:00 h – Baño con agua limpia y caldito calentito.\n¡FIN DE FIESTA! \nLa Traída del Barro no es solo una fiesta\, sino un acto de amor por  la tierra y la memoria. Es una celebración donde lo popular y lo académico\, lo festivo y lo ritual\, se funden para rendir homenaje a una identidad compartida. \nOrganiza la Peña del Barro y la Asociación Cultural Deportiva Estrella Roja\, en colaboración con el Ayuntamiento de la Villa de Santa Brígida y el Cabildo de Gran Canaria.
URL:https://eventos.santabrigida.es/eventos/programa-xxxii-traida-del-barro/
LOCATION:La Atalaya
CATEGORIES:Cultura y Educación
ATTACH;FMTTYPE=image/jpeg:https://eventos.santabrigida.es/wp-content/uploads/2025/06/1.jpeg
END:VEVENT
BEGIN:VEVENT
DTSTART;TZID=UTC:20250701T180000
DTEND;TZID=UTC:20250722T190000
DTSTAMP:20260425T120059
CREATED:20250617T122055Z
LAST-MODIFIED:20250617T122055Z
UID:10001063-1751392800-1753210800@eventos.santabrigida.es
SUMMARY:"EL ARTE DE VIVIR EL PRESENTE"
DESCRIPTION:El Club municipal de mayores acoge durante el mes de julio un curso de verano muy interesante y novedoso \, «El arte de VIVIR EL PRESENTE»  de la mano de Don Javier Suárez\, monitor de Taichi de nuestro centro. \nCURSO: EL ARTE DE VIVIR EL PRESENTE \n¿Te has sorprendido alguna vez atrapada/o en tus pensamientos\, desconectada/o del momento que estás viviendo? En este curso práctico te invitamos a explorar el arte de vivir el presente\, entendiendo cómo funciona tu atención y cómo recuperarla cuando se dispersa. Aprenderás a reconocer las causas más comunes que nos alejan del aquí y ahora\, desde las distracciones externas hasta los patrones mentales automáticos que nos desconectan de nuestro cuerpo y de nuestra experiencia real. Para ello\, practicaremos ejercicios de consciencia sensorial\, distintos métodos de calma mental y las maneras de percibir y de fijar nuestro foco en nuestras energías internas. \nDÍAS: martes\, 01\, 08\, 15 y 22 de En el julio\, de 18:00 a 19:00 horas. \nPLAZAS: Limitadas a 15. \nREQUISITOS: Para participar en el taller se requiere tener buena movilidad física y no sufrir de inestabilidad o mareos al estar de pie o acostado. \nMATERIAL: Ropa deportiva. Antifaz para cubrir los ojos. Esterilla. \nAPORTACIÓN: 20€ que se entregarán el primer día de curso. \nINSCRIPCIONES: En el Club municipal de mayores \,Centro Polifuncional de Servicios Sociales de Santa Brígida\, calle Mirador de la Villa. 35300. Santa Brígida. \nIMPARTIDO POR: JAVIER SUÁREZ. Maestro de Taichi\, Chikung y Meditación. Especialista universitario en “Envejecimiento Saludable: Intervenciones en Entrenamiento Cognitivo\, Actividad Física y Nuevas Tecnologías\,” y Experto en “Técnicas Psicológicas para el Control del Estrés”. Licenciado en Derecho y presidente de la Asociación Europea para la Maduración y el Envejecimiento Saludables (AMES). \n  \nSOBRE AMES: La Asociación Europea para la Maduración y el Envejecimiento Saludables\, AMES\, tiene como primer objetivo el «Promover y extender el conocimiento y la práctica de la actividad física\, el entrenamiento cognitivo\, la alimentación sana y equilibrada\, el contacto social\, y la relajación corporal y la calma mental como los pilares de una maduración y envejecimiento saludables». https://asociames.wixsite.com/ames
URL:https://eventos.santabrigida.es/eventos/el-arte-de-vivir-el-presente/
LOCATION:Club Municipal de Mayores\, Juan Sebastian Elcano\, Santa Brígida\, Las Palmas\, 35300\, España
CATEGORIES:Acción Social,Club de Mayores
ATTACH;FMTTYPE=image/jpeg:https://eventos.santabrigida.es/wp-content/uploads/2025/06/Curso_Verano_Vivir_Presente_FINAL.jpg
END:VEVENT
END:VCALENDAR