BEGIN:VCALENDAR
VERSION:2.0
PRODID:-//Eventos - ECPv6.10.3//NONSGML v1.0//EN
CALSCALE:GREGORIAN
METHOD:PUBLISH
X-WR-CALNAME:Eventos
X-ORIGINAL-URL:https://eventos.santabrigida.es
X-WR-CALDESC:Eventos para Eventos
REFRESH-INTERVAL;VALUE=DURATION:PT1H
X-Robots-Tag:noindex
X-PUBLISHED-TTL:PT1H
BEGIN:VTIMEZONE
TZID:UTC
BEGIN:STANDARD
TZOFFSETFROM:+0000
TZOFFSETTO:+0000
TZNAME:UTC
DTSTART:20250101T000000
END:STANDARD
END:VTIMEZONE
BEGIN:VEVENT
DTSTART;TZID=UTC:20250512T180000
DTEND;TZID=UTC:20251229T193000
DTSTAMP:20260423T222009
CREATED:20250505T102339Z
LAST-MODIFIED:20250505T102339Z
UID:10001013-1747072800-1767036600@eventos.santabrigida.es
SUMMARY:Clases gratuitas de yoga para mujeres desde mayo a diciembre
DESCRIPTION:La Concejalía de Igualdad del Ayuntamiento de Santa Brígida\, que dirige el alcalde José Armengol\, pone en marcha clases gratuitas de yoga kundalini dirigidas exclusivamente a mujeres del municipio. Las sesiones estarán a cargo de maestras especializadas en yoga para mujeres del proyecto social Océano de Luz. \nLas clases comenzarán el lunes\, 12 de mayo y se impartirán cada lunes\, de 18:00 a 19:30 horas\, hasta el mes de diciembre. El lugar de encuentro será el Edificio de Extensión Agraria de Santa Brígida\, ubicado en la Calle Acequia del Palmeral\, s/n. \nEl yoga kundalini\, aunque está indicado para todas las personas\, ofrece beneficios especialmente significativos para las mujeres. Conocido como el «yoga de la conciencia»\, su práctica promueve una conexión profunda con la energía vital (Shakti)\, que en las filosofías tántricas y yóguicas se relaciona con lo femenino divino\, favorece el equilibrio hormonal y emocional\, aporta claridad mental y fortalece el sistema nervioso\, lo que permite afrontar los retos cotidianos con serenidad\, alegría y fortaleza. \nEsta disciplina no requiere una condición física previa\, ya que los ejercicios se adaptan a las necesidades de cada participante. Por ello\, todas las mujeres\, independientemente de su edad o forma física\, están invitadas a participar. \nEsta iniciativa tiene como objetivo fomentar el bienestar físico y emocional de las mujeres\, además de crear espacios de encuentro y autocuidado. La actividad se enmarca en el compromiso del Ayuntamiento de Santa Brígida con la promoción de la salud integral de las mujeres. \n  \nInscripción\nigualdad@santabrigida.es\n928 64 81 81 (ext. 0409 / 0410) \nO bien en el QR que aparece en el cartel \n 
URL:https://eventos.santabrigida.es/eventos/clases-gratuitas-de-yoga-para-mujeres-desde-mayo-a-diciembre/
LOCATION:Edificio de Extensión Agraria de Santa Brígida\, España
CATEGORIES:Igualdad
ATTACH;FMTTYPE=image/jpeg:https://eventos.santabrigida.es/wp-content/uploads/2025/05/Insta.jpeg
END:VEVENT
BEGIN:VEVENT
DTSTART;TZID=UTC:20250704T170000
DTEND;TZID=UTC:20250725T190000
DTSTAMP:20260423T222009
CREATED:20250702T121059Z
LAST-MODIFIED:20250702T121059Z
UID:10001087-1751648400-1753470000@eventos.santabrigida.es
SUMMARY:"TEJIENDO MOMENTOS"
DESCRIPTION:El Club municipal de mayores acoge a partir del viernes 4 de julio un taller de ganchillo\, «TEJIENDO MOMENTOS» en horario de 17:00 a 19:00 horas \, todas aquellas personas que sepan\, les guste o quieran pasar un rato cociendo pueden hacerlo\, actividad dirigida a soci@s \, pero que se puede abrir al público en general si hay interesados/as. El material corre a cargo de cada persona y los conocimientos  los recibirán de personas mayores expertas en la materia. El taller se va a desarrollar sobre todo con el objetivo de crear un punto de encuentro con personas que les apasiona este mundo y evocar aquellas maravillosas tardes donde antiguamente reunirse para coser era algo más importante que la propia pieza a elaborar\, lugar de risas\, desahogo y muchos recuerdos compartidos. \nLugar: Club de mayores. \nHorario : viernes de 17:00 a 19:00 horas. \nGratuito. \nMaterial : a cargo de cada usuari@.
URL:https://eventos.santabrigida.es/eventos/tejiendo-momentos/
LOCATION:Las Palmas
CATEGORIES:Acción Social,Club de Mayores
ATTACH;FMTTYPE=image/jpeg:https://eventos.santabrigida.es/wp-content/uploads/2025/07/TEJIENDO-MOMENTOS.jpg
END:VEVENT
BEGIN:VEVENT
DTSTART;TZID=UTC:20250709T080000
DTEND;TZID=UTC:20250723T140000
DTSTAMP:20260423T222009
CREATED:20250709T124514Z
LAST-MODIFIED:20250709T124514Z
UID:10001091-1752048000-1753279200@eventos.santabrigida.es
SUMMARY:"CAMPAÑA IMSERSO 2025/2026"
DESCRIPTION:Se informa que se encuentra abierto el plazo  para solicitar los viajes del Imserso\, Programa de Turismo  del Instituto de mayores y Servicios Sociales. \nServicios que incluye el Programa: \n\nAlojamiento en régimen de pensión completa\, en habitación doble a compartir. Se contempla el alojamiento en individual \, abonando el suplemento correspondiente y sujeto a disponibilidad.\nTransporte de ida y vuelta en el medio de transporte programado.\nPóliza de seguros colectiva.\nServicio de medicina general.\nPrograma de animación social y cultural.\n\nRequisitos : \n\nLas personas residentes en España que reúnan algunos de los siguientes requisitos;\nSer pensionista de jubilación del sistema de Seguridad Social español.\nSer pensionista de viudedad del sistema de Seguridad Social español con cincuenta y cinco años o más de edad.\nSer pensionista por otros conceptos del sistema de Seguridad Social español o perceptor de prestaciones o subsidios de desempleo\, con sesenta o más años de edad.\nSer asegurado beneficiario del sistema de Seguridad Social español \, con sesenta y cinco o más años de edad.\n\nLas personas usuarias podrán ir acompañados por su cónyuge o \, en su caso\, por pareja de hecho o persona con la que se constituye una unión estable y  de convivencia con análoga relación de afectividad a la conyugal\, sin necesidad de que reúnan los requisitos del titular de la pensión. \nAsimismo\, podrán ir acompañados  de los hijos con discapacidad\, en grado igual o superior al 45 por ciento \, siempre que viajen con sus padres y se alojen en la misma habitación. \nImportante: Las personas usuarias de plazas y sus acompañantes deben valerse por sí mismas para realizar las actividades básicas de la vida diaria. \nPlazo de presentación: del   1  de julio al 23 de julio de 2025 \nEs posible viajar con otra persona que vaya a presentar su solicitud en la misma provincia \, cuando sean iguales los destinos elegidos y el orden de prioridad de plazas solicitadas\, esta vinculación se reflejará en ambas solicitudes. \nLas solicitudes se tramitarán a través de la sede electrónica del Imserso  https: //imserso.es \nEn nuestras dependencias \, club municipal de mayores en el horario de oficina de 8:00 a 14:00 y de forma presencial.
URL:https://eventos.santabrigida.es/eventos/campana-imserso-2025-2026/
LOCATION:Club Mayores
CATEGORIES:Acción Social,Club de Mayores
ATTACH;FMTTYPE=image/jpeg:https://eventos.santabrigida.es/wp-content/uploads/2025/07/CLUB-MUNICIPAL-DE-MAYORES.jpg
END:VEVENT
BEGIN:VEVENT
DTSTART;TZID=UTC:20250712T060000
DTEND;TZID=UTC:20250802T190000
DTSTAMP:20260423T222009
CREATED:20250628T141747Z
LAST-MODIFIED:20250628T141747Z
UID:10001083-1752300000-1754161200@eventos.santabrigida.es
SUMMARY:Jennyfer Cabrera Guerra presenta 'Lanarte' en la Sala Lola Massieu
DESCRIPTION:La artesana Jennyfer Cabrera Guerra\, inaugura el próximo 12 de julio su nueva exposición en la Sala Lola Massieu\, bajo el nombre ‘Lanarte II’. La muestra reúne una cuidada selección de piezas textiles elaboradas con técnicas tradicionales de telar\, que reflejan el profundo vínculo entre el arte y la cultura rural canaria. \nJennyfer Cabrera Guerra\, conocida por su dedicación a la conservación y transmisión del oficio artesanal del tejido\, presenta en esta exposición obras que combinan la tradición con la innovación. A través del uso de materiales reciclados y técnicas ancestrales\, la artista transmite un mensaje de sostenibilidad\, memoria y respeto por el entorno natural. \nLa exposición estará abierta al público desde el 12 de julio y se podrá visitar en el horario habitual de la sala Lola Massieu hasta el 2 de agosto. \nLa iniciativa forma parte de la programación cultural del Ayuntamiento de Santa Brígida y pretende fortalecer la promoción de las artes tradicionales canarias\, acercándolas a un público amplio y diverso.
URL:https://eventos.santabrigida.es/eventos/jennyfer-cabrera-guerra-presenta-lanarte-en-la-sala-lola-massieu/
LOCATION:SALA DE EXPOSICIONES LOLA MASSIEU\, Francisco Morales Padrón s/n\, Santa Brígida\, Las Palmas\, 35300
CATEGORIES:Cultura y Educación
ATTACH;FMTTYPE=image/jpeg:https://eventos.santabrigida.es/wp-content/uploads/2025/06/012-Exposicion-Jennyfer-Cabrera.jpg
END:VEVENT
BEGIN:VEVENT
DTSTART;VALUE=DATE:20250722
DTEND;VALUE=DATE:20250801
DTSTAMP:20260423T222010
CREATED:20250722T125954Z
LAST-MODIFIED:20250722T125954Z
UID:10001102-1753142400-1754006399@eventos.santabrigida.es
SUMMARY:Kayak
DESCRIPTION:Se abre el plazo de inscripción para la actividad  Kayak que se realizará el próximo día 31 de julio entre las 09.00 y las 14.00 horas. Esta actividad está incluida dentro del programa de actividades «Sataute Joven 2025». \nSi estás interesado/a en participar\, descarga la inscripción adjunta y envíala a juventud@santabrigida.es con una copia del DNI del/a participante\, y si fuera menor de edad\, una copia del DNI del padre/madre/ tutor/a. Te contestaremos confirmándote la plaza o informándote que estás en reserva. \ninscripcion-menores-KAYAK \ninscripcion-menores-KAYAK pdf \ninscripción mayores de edad kayak (1) \ninscripción mayores de edad kayak (1) pdf \nLa actividad va dirigida para jóvenes satauteños/as entre los 12 años\, cumplidos o que los cumplan a lo largo del año 2025\, hasta los 30 años. Jóvenes de otros municipios de Gran Canaria que estén interesados/as en realizar la actividad formarán parte de una lista de reserva. El acceso se realizará teniendo en cuenta las plazas vacantes y por estricto orden de llegada de las inscripciones. \nEl plazo de inscripción se cierra el día 28 de julio o cuando estén cubiertas todas las plazas ofertadas. \nLa actividad incluye transporte desde el Espacio Joven Municipal hasta el lugar donde se realizará la actividad\, material necesario para realizar la actividad\, monitores especializados\, seguro de accidentes y seguro de responsabilidad civil. \nEste proyecto se realiza gracias a la subvención concedida por @grancanariajoven la Consejería de Juventud y Educación del Cabildo de Gran Canaria destinada para la colaboración y cooperación en materia de juventud 2025.\n¡Participa!\n#ayuntamientodesantabrigida\n#grancanariajoven\n#espaciojovenmunicipal\n#ocioytiempolibre\n#juventud
URL:https://eventos.santabrigida.es/eventos/kayak/
LOCATION:Espacio Joven Municipal\, Parque Municipal\, Santa Brígida\, Las Palmas\, 35300\, España
CATEGORIES:Juventud
ATTACH;FMTTYPE=image/png:https://eventos.santabrigida.es/wp-content/uploads/2025/07/Taller-de-elaboracion-de-Comic_20250718_085101_0000.png
ORGANIZER;CN="Concejal%C3%ADa de Juventud":MAILTO:juventud@santabrigida.es
END:VEVENT
END:VCALENDAR