BEGIN:VCALENDAR
VERSION:2.0
PRODID:-//Eventos - ECPv6.10.3//NONSGML v1.0//EN
CALSCALE:GREGORIAN
METHOD:PUBLISH
X-WR-CALNAME:Eventos
X-ORIGINAL-URL:https://eventos.santabrigida.es
X-WR-CALDESC:Eventos para Eventos
REFRESH-INTERVAL;VALUE=DURATION:PT1H
X-Robots-Tag:noindex
X-PUBLISHED-TTL:PT1H
BEGIN:VTIMEZONE
TZID:UTC
BEGIN:STANDARD
TZOFFSETFROM:+0000
TZOFFSETTO:+0000
TZNAME:UTC
DTSTART:20250101T000000
END:STANDARD
END:VTIMEZONE
BEGIN:VEVENT
DTSTART;TZID=UTC:20250512T180000
DTEND;TZID=UTC:20251229T193000
DTSTAMP:20260423T142345
CREATED:20250505T102339Z
LAST-MODIFIED:20250505T102339Z
UID:10001013-1747072800-1767036600@eventos.santabrigida.es
SUMMARY:Clases gratuitas de yoga para mujeres desde mayo a diciembre
DESCRIPTION:La Concejalía de Igualdad del Ayuntamiento de Santa Brígida\, que dirige el alcalde José Armengol\, pone en marcha clases gratuitas de yoga kundalini dirigidas exclusivamente a mujeres del municipio. Las sesiones estarán a cargo de maestras especializadas en yoga para mujeres del proyecto social Océano de Luz. \nLas clases comenzarán el lunes\, 12 de mayo y se impartirán cada lunes\, de 18:00 a 19:30 horas\, hasta el mes de diciembre. El lugar de encuentro será el Edificio de Extensión Agraria de Santa Brígida\, ubicado en la Calle Acequia del Palmeral\, s/n. \nEl yoga kundalini\, aunque está indicado para todas las personas\, ofrece beneficios especialmente significativos para las mujeres. Conocido como el «yoga de la conciencia»\, su práctica promueve una conexión profunda con la energía vital (Shakti)\, que en las filosofías tántricas y yóguicas se relaciona con lo femenino divino\, favorece el equilibrio hormonal y emocional\, aporta claridad mental y fortalece el sistema nervioso\, lo que permite afrontar los retos cotidianos con serenidad\, alegría y fortaleza. \nEsta disciplina no requiere una condición física previa\, ya que los ejercicios se adaptan a las necesidades de cada participante. Por ello\, todas las mujeres\, independientemente de su edad o forma física\, están invitadas a participar. \nEsta iniciativa tiene como objetivo fomentar el bienestar físico y emocional de las mujeres\, además de crear espacios de encuentro y autocuidado. La actividad se enmarca en el compromiso del Ayuntamiento de Santa Brígida con la promoción de la salud integral de las mujeres. \n  \nInscripción\nigualdad@santabrigida.es\n928 64 81 81 (ext. 0409 / 0410) \nO bien en el QR que aparece en el cartel \n 
URL:https://eventos.santabrigida.es/eventos/clases-gratuitas-de-yoga-para-mujeres-desde-mayo-a-diciembre/
LOCATION:Edificio de Extensión Agraria de Santa Brígida\, España
CATEGORIES:Igualdad
ATTACH;FMTTYPE=image/jpeg:https://eventos.santabrigida.es/wp-content/uploads/2025/05/Insta.jpeg
END:VEVENT
BEGIN:VEVENT
DTSTART;VALUE=DATE:20250805
DTEND;VALUE=DATE:20250815
DTSTAMP:20260423T142345
CREATED:20250805T125958Z
LAST-MODIFIED:20250805T125958Z
UID:10001116-1754352000-1755215999@eventos.santabrigida.es
SUMMARY:PÁDEL SURF
DESCRIPTION:Se abre el plazo de inscripción para la actividad  Pádel Surf que se realizará el próximo día 14 de agosto entre las 09.00 y las 14.00 horas. Esta actividad está incluida dentro del programa de actividades «Sataute Joven 2025». \nSi estás interesado/a en participar\, descarga la inscripción  adjunta y envíala a juventud@santabrigida.es con una copia del DNI del/a participante\, y si fuera menor de edad\, una copia del DNI del padre/madre/ tutor/a. Te contestaremos confirmándote la plaza o informándote que estás en reserva. \ninscripción menores padelsurf \ninscripción menores padelsurf pdf \ninscripción mayores de edad padelsurf \ninscripción mayores de edad padelsurf PDF \nLa actividad va dirigida para jóvenes satauteños/as entre los 12 años\, cumplidos o que los cumplan a lo largo del año 2025\, hasta los 30 años. Jóvenes de otros municipios de Gran Canaria que estén interesados/as en realizar la actividad formarán parte de una lista de reserva. El acceso se realizará teniendo en cuenta las plazas vacantes y por estricto orden de llegada de las inscripciones. \nEl plazo de inscripción se cierra el día 28 de julio o cuando estén cubiertas todas las plazas ofertadas. \nLa actividad incluye transporte desde el Espacio Joven Municipal hasta el lugar donde se realizará la actividad\, material necesario para realizar la actividad\, monitores especializados\, seguro de accidentes y seguro de responsabilidad civil. \nEste proyecto se realiza gracias a la subvención concedida por  la Consejería de Juventud y Educación del Cabildo de Gran Canaria destinada para la colaboración y cooperación en materia de juventud 2025.\n¡Participa!\n#ayuntamientodesantabrigida\n#grancanariajoven\n#espaciojovenmunicipal\n#ocioytiempolibre\n#juventud
URL:https://eventos.santabrigida.es/eventos/padel-surf-2/
LOCATION:Espacio Joven Municipal\, Parque Municipal\, Santa Brígida\, Las Palmas\, 35300\, España
CATEGORIES:Juventud
ATTACH;FMTTYPE=image/png:https://eventos.santabrigida.es/wp-content/uploads/2025/08/Taller-de-elaboracion-de-Comic.png
ORGANIZER;CN="Concejal%C3%ADa de Juventud":MAILTO:juventud@santabrigida.es
END:VEVENT
BEGIN:VEVENT
DTSTART;TZID=UTC:20250809T200000
DTEND;TZID=UTC:20250809T213000
DTSTAMP:20260423T142345
CREATED:20250731T121408Z
LAST-MODIFIED:20250731T123152Z
UID:10001115-1754769600-1754775000@eventos.santabrigida.es
SUMMARY:Los Gofiones inauguran las Fiestas de Pino Santo Alto 2025
DESCRIPTION:Pino Santo Alto da la bienvenida al mes de agosto con una de sus citas más esperadas: las Fiestas en Honor a la Virgen de la Salud 2025. Este año\, el grupo emblemático Los Gofiones será el encargado de inaugurar oficialmente las celebraciones con un concierto que promete emociones a flor de piel. \nPorque Los Gofiones no son solo música\, sino el hilo emocional del que puede tirar cualquier grancanario\, cualquier isleño. Cuentan con un reconocimiento transversal que trasciende edades\, géneros y modas. Y este 9 de agosto\, a partir de las 20:30 horas\, llenarán de sentimiento y tradición el escenario de Pino Santo Alto\, justo después del pregón inaugural a cargo de David Naranjo Ortega\, presentador del programa Tenderete de RTVE y coordinador del Instituto Canario de las Tradiciones. \nDel 9 al 17 de agosto\, el pago satauteño se convertirá así en epicentro de cultura\, devoción y pasión ecuestre con la celebración de la XXIX edición del Gran Día del Caballo y un completo programa de actividades para todos los públicos diseñada por la Comisión de Fiestas de Pino Santo Alto\, que agradece el compromiso de los vecinos y vecinas\, así como el apoyo del Cabildo de Gran Canaria\, el Ayuntamiento de Santa Brígida\, la Sociedad Municipal de Deportes y las casas comerciales colaboradoras\, que hacen posible esta celebración año tras año. \n 
URL:https://eventos.santabrigida.es/eventos/los-gofiones-inauguran-las-fiestas-de-pino-santo-alto-2025/
LOCATION:Iglesia de Pino Santo Alto\, España
CATEGORIES:Cultura y Educación
ATTACH;FMTTYPE=image/jpeg:https://eventos.santabrigida.es/wp-content/uploads/2025/07/WhatsApp-Image-2025-07-31-at-09.37.39-1.jpeg
END:VEVENT
END:VCALENDAR