BEGIN:VCALENDAR
VERSION:2.0
PRODID:-//Eventos - ECPv6.10.3//NONSGML v1.0//EN
CALSCALE:GREGORIAN
METHOD:PUBLISH
X-ORIGINAL-URL:https://eventos.santabrigida.es
X-WR-CALDESC:Eventos para Eventos
REFRESH-INTERVAL;VALUE=DURATION:PT1H
X-Robots-Tag:noindex
X-PUBLISHED-TTL:PT1H
BEGIN:VTIMEZONE
TZID:UTC
BEGIN:STANDARD
TZOFFSETFROM:+0000
TZOFFSETTO:+0000
TZNAME:UTC
DTSTART:20250101T000000
END:STANDARD
END:VTIMEZONE
BEGIN:VEVENT
DTSTART;TZID=UTC:20250512T180000
DTEND;TZID=UTC:20251229T193000
DTSTAMP:20260421T114617
CREATED:20250505T102339Z
LAST-MODIFIED:20250505T102339Z
UID:10001013-1747072800-1767036600@eventos.santabrigida.es
SUMMARY:Clases gratuitas de yoga para mujeres desde mayo a diciembre
DESCRIPTION:La Concejalía de Igualdad del Ayuntamiento de Santa Brígida\, que dirige el alcalde José Armengol\, pone en marcha clases gratuitas de yoga kundalini dirigidas exclusivamente a mujeres del municipio. Las sesiones estarán a cargo de maestras especializadas en yoga para mujeres del proyecto social Océano de Luz. \nLas clases comenzarán el lunes\, 12 de mayo y se impartirán cada lunes\, de 18:00 a 19:30 horas\, hasta el mes de diciembre. El lugar de encuentro será el Edificio de Extensión Agraria de Santa Brígida\, ubicado en la Calle Acequia del Palmeral\, s/n. \nEl yoga kundalini\, aunque está indicado para todas las personas\, ofrece beneficios especialmente significativos para las mujeres. Conocido como el «yoga de la conciencia»\, su práctica promueve una conexión profunda con la energía vital (Shakti)\, que en las filosofías tántricas y yóguicas se relaciona con lo femenino divino\, favorece el equilibrio hormonal y emocional\, aporta claridad mental y fortalece el sistema nervioso\, lo que permite afrontar los retos cotidianos con serenidad\, alegría y fortaleza. \nEsta disciplina no requiere una condición física previa\, ya que los ejercicios se adaptan a las necesidades de cada participante. Por ello\, todas las mujeres\, independientemente de su edad o forma física\, están invitadas a participar. \nEsta iniciativa tiene como objetivo fomentar el bienestar físico y emocional de las mujeres\, además de crear espacios de encuentro y autocuidado. La actividad se enmarca en el compromiso del Ayuntamiento de Santa Brígida con la promoción de la salud integral de las mujeres. \n  \nInscripción\nigualdad@santabrigida.es\n928 64 81 81 (ext. 0409 / 0410) \nO bien en el QR que aparece en el cartel \n 
URL:https://eventos.santabrigida.es/eventos/clases-gratuitas-de-yoga-para-mujeres-desde-mayo-a-diciembre/
LOCATION:Edificio de Extensión Agraria de Santa Brígida\, España
CATEGORIES:Igualdad
ATTACH;FMTTYPE=image/jpeg:https://eventos.santabrigida.es/wp-content/uploads/2025/05/Insta.jpeg
END:VEVENT
BEGIN:VEVENT
DTSTART;TZID=UTC:20250910T103000
DTEND;TZID=UTC:20251008T120000
DTSTAMP:20260421T114617
CREATED:20250903T121132Z
LAST-MODIFIED:20250903T121132Z
UID:10001131-1757500200-1759924800@eventos.santabrigida.es
SUMMARY:"TALLER:RITMICAMENTE; ACTIVAR CUERPO Y MENTE"
DESCRIPTION:El Club de mayores acoge a partir del  10 de septiembre una taller práctico de estimulación Cognitiva\, RITMICAMENTE \, a cargo de Doña Irene Adela  Franquis López\, diplomada en trabajo social\, experta en arte de la palabra pedagógico \, terapia holística de la voz y el lenguaje. (Metódo Chubarovski) \nEste programa formativo está diseñado para mejorar la calidad de vida de las personas adultas y mayores.   La relación entre el movimiento rítmico\, el lenguaje y la estimulación cognitiva ha sido ampliamente estudiada\, demostrando que contribuye no solo a mejorar la neuroplasticidad sino a potenciar la autonomía personal\, la expresión y comunicación efectiva\, así como el disfrute de una vida activa y plena. Propone actividades/ejercicios sencillos y efectivos donde puedes fortalecer la conexión entre el pensar\, el sentir y la voluntad. El ritmo\, siempre presente en las rimas y poemas\, influye en la respiración y su relación con el sistema nervioso autónomo. Así se influye positivamente en el sentido vital o sensación de bienestar. Al mover de formas específicas y rítmicas las manos y por extensión los brazos y el resto del cuerpo\, en sincronía con la palabra\, se potencia la actividad de los diferentes sentidos\, especialmente la propiocepción (posición\, movimiento y equilibrio de nuestro cuerpo).  El sentido del humor también juega un papel esencial en este programa. La risa y el humor han sido objeto de estudio en la neurociencia y la psicología positiva\, demostrando que tienen efectos positivos en la salud mental\, el sistema inmunológico y las funciones cognitivas. Las interacciones sociales de calidad se cuidan en el trabajo grupal y son claves para mejorar la autoestima y el equilibrio emocional. \n\n \n\n\n\n\n\n\n\nObjetivos del Taller​\n\n\n\n\n\n\n\n\n\n\n\n\n\nMejorar el estado físico y la mayor autonomía funcional\, estimulando la motricidad fina y gruesa\, la lateralidad\, la coordinación\, el equilibrio\, la conciencia corporal y espacial\, además de precisión en los movimientos.\nMejorar las capacidades cognitivas a través de movimientos y rimas que fortalecen la atención\, la orientación y el lenguaje.\nEstimular la función respiratoria y la relajación mental. Interacción saludable de concentración y expansión.\nTrabajar la conexión de la voz a través del sostén articulatorio y respiratorio.\nMejorar la comunicación entendiendo y vivenciando la relación del movimiento y el lenguaje.\nFavorecer las relaciones grupales\, mejorando las habilidades sociales y la autoestima\nAdaptar las sesiones a la realidad sociocultural de los participantes\, incorporando elementos de la identidad canaria y de la diversidad cultural presente en la comunidad.\n\nMetodología : \nSesiones teórico-prácticas donde se combinará el aprendizaje con la aplicación de ejercicios vivenciales. Se trabajará con un enfoque dinámico que equilibre el pensamiento\, la acción y la emoción. Cada sesión contará con tres ritmos principales: \n\n\n\nAcción y expansión.\nConcentración y relajación.\nHumor y bienestar.\n\nDía: Miércoles de 10:30 a 11:30 \nPlazas limitadas. \nInscripción: Presencial\, teléfono 928644242 o correo electrónico clubdemayores@santabrigida.es.  \nPrecio: Gratuito a cargo de la Concejalía de Mayores. \n  \n\n 
URL:https://eventos.santabrigida.es/eventos/tallerritmicamente-activar-cuerpo-y-mente/
LOCATION:Las Palmas
CATEGORIES:Acción Social,Club de Mayores
ATTACH;FMTTYPE=image/jpeg:https://eventos.santabrigida.es/wp-content/uploads/2025/09/IRENELA-FRANQUI.jpg
END:VEVENT
BEGIN:VEVENT
DTSTART;TZID=UTC:20250913T070000
DTEND;TZID=UTC:20250930T170000
DTSTAMP:20260421T114617
CREATED:20250716T090034Z
LAST-MODIFIED:20250716T102122Z
UID:10001098-1757746800-1759251600@eventos.santabrigida.es
SUMMARY:El legado de Chirino a través de la mirada de Monagas en la Sala Lola Massieu
DESCRIPTION:La historia de la escultura en la segunda mitad del siglo XX no puede entenderse sin la figura de Martín Chirino. Su obra\, profundamente ligada al hierro y al simbolismo atlántico\, ha dejado una huella imborrable en el arte contemporáneo. Con su espiral\, situó al Archipiélago Canario en el epicentro del arte internacional. \nRafael Monagas\, colaborador directo y asistente personal de Chirino durante más de cuatro décadas\, comenzó su trabajo junto a él en los años 80\, en el taller que el escultor tenía en Morata de Tajuña (Madrid). Pintor de alma contemplativa\, la obra de Monagas se nutre de la memoria y del paisaje cambiante de la vega que lo vio nacer. Su lenguaje pictórico\, íntimo y profundamente introspectivo\, se aleja del metal para adentrarse en la luz\, el color y la evocación. \nLa relación entre ambos artistas fue estrecha\, tanto en lo personal como en lo creativo. Aunque Monagas desarrolló una voz propia en el mundo de la pintura\, su convivencia con Chirino lo enriqueció profundamente\, aportándole nuevas dimensiones en su manera de concebir el espacio\, el arte y el proceso creativo. \nEl Ayuntamiento de Santa Brígida se complace en anunciar la exposición Martín Chirino por Rafael Monagas: esculturas y dibujos\, una mirada íntima\, personal y artística a la obra de uno de los grandes maestros de la escultura abstracta. \nLa muestra reúne una selección de esculturas emblemáticas y una serie de dibujos inéditos de Martín Chirino\, cuidadosamente elegidos por el artista Rafael Monagas. En el marco del centenario del nacimiento de Chirino\, esta exposición se suma a los numerosos homenajes que están teniendo lugar en instituciones de prestigio como el CAAM\, el Centro Niemeyer\, la Real Academia de Bellas Artes de San Fernando en Madrid o diversas sedes en Alemania. \nCon esta iniciativa\, Santa Brígida se sitúa a la altura de los grandes centros culturales\, rindiendo tributo al legado de un creador universal que también forma parte esencial de nuestra identidad. \nLa muestra podrá visitarse en la Sala Lola Massieu del 13 al 30 de septiembre\, y está producida por Antonio Ojeda\, como parte de la programación de la Concejalía de Cultura\, reafirmando su compromiso con la promoción del arte y la memoria cultural. \n 
URL:https://eventos.santabrigida.es/eventos/el-legado-de-chirino-a-traves-de-la-mirada-de-monagas-en-la-sala-lola-massieu/
LOCATION:SALA DE EXPOSICIONES LOLA MASSIEU\, Francisco Morales Padrón s/n\, Santa Brígida\, Las Palmas\, 35300
CATEGORIES:Cultura y Educación
ATTACH;FMTTYPE=image/png:https://eventos.santabrigida.es/wp-content/uploads/2025/07/Cartel.png
END:VEVENT
BEGIN:VEVENT
DTSTART;TZID=UTC:20250918T050000
DTEND;TZID=UTC:20251210T190000
DTSTAMP:20260421T114617
CREATED:20250822T120906Z
LAST-MODIFIED:20250822T122511Z
UID:10001129-1758171600-1765393200@eventos.santabrigida.es
SUMMARY:Taller Juvenil de Escritura Creativa en la Biblioteca
DESCRIPTION:La Biblioteca Municipal  acoge\, de septiembre a diciembre\, un nuevo Taller de Escritura Creativa dirigido a jóvenes de entre 14 y 18 años. La actividad\, organizada por el Ayuntamiento de Santa Brígida a través de la Concejalía de Cultura\, se desarrollará en una sesión semanal de dos horas durante 13 semanas con el objetivo de fomentar la creatividad\, la expresión personal y el amor por la literatura entre la juventud satauteña. \nEl taller estará a cargo de la Escuela Canaria de Letras Alexis Ravelo y será impartido por Alicia López\, escritora y formadora especializada en escritura creativa y fomento de la lectura juvenil en entornos educativos y culturales. Con formación en narrativa\, dramaturgia y dirección escénica\, López combina su labor literaria con estudios de Lengua Española y Literaturas en la UNED\, así como un microgrado en Estudios Ingleses\, Literatura y Cultura. \nSu trayectoria incluye la publicación de la novela Escribas (2020)\, seleccionada para el II Congreso Virtual de Jóvenes Lectores de Canarias; el reconocimiento como finalista del Premio José Saramago de narración corta por el relato Algo va a ocurrir (2014)\, y el primer premio en el certamen de poesía Mujeres que hicieron historia (2018)\, entre otros galardones. \n\nInscripción \n\n\nEnvía un mensaje a biblioteca@santabrigida.es\, y si deseas más información llama al 928 648181\, extensión 0320
URL:https://eventos.santabrigida.es/eventos/taller-juvenil-de-escritura-creativa-en-la-biblioteca/
LOCATION:Biblioteca Municipal Francisco Morales Padrón\, Calle Calvario\, Santa Brígida\, Las Palmas\, 35300
CATEGORIES:Cultura y Educación
ATTACH;FMTTYPE=image/png:https://eventos.santabrigida.es/wp-content/uploads/2025/08/borrador-taller-2-1.png
END:VEVENT
BEGIN:VEVENT
DTSTART;TZID=UTC:20250925T100000
DTEND;TZID=UTC:20250925T233000
DTSTAMP:20260421T114617
CREATED:20250922T121636Z
LAST-MODIFIED:20250922T121636Z
UID:10001137-1758794400-1758843000@eventos.santabrigida.es
SUMMARY:"TALLER DE COMUNICACIÓN ASERTIVA"
DESCRIPTION:El Club de mayores acoge en sus instalaciones \, el jueves 25 de septiembre una interesante jornada\, gracias a la inestimable colaboración de la organización no gubernamental Solidaridad Intergeneracional. \nJornadas de Comunicación Asertiva\, es la manera clara\, honesta y respetuosa de transmitir las emociones y sentimientos entre las personas. \nLa temática propuesta para esta jornada será fomentar y practicar la comunicación asertiva. En el taller se expondrán los diferentes tipos de comunicación\, valorando las consecuencias de cada una de ellas. Así como poniendo en práctica la comunicación asertiva a través de diversas situaciones que pueden ocurrir en nuestro día a día. Taller para practicar y fomentar la comunicación asertiva.\nHorario : de 10:00 a 11:30\nActividad para socios y publico en general.\nActividad gratuita.
URL:https://eventos.santabrigida.es/eventos/taller-de-comunicacion-asertiva/
LOCATION:Club Municipal de Mayores\, Santa Brígida\, Las Palmas\, 35300\, España
CATEGORIES:Acción Social,Club de Mayores
ATTACH;FMTTYPE=image/jpeg:https://eventos.santabrigida.es/wp-content/uploads/2025/09/comunicacion-asertiva.jpg
END:VEVENT
BEGIN:VEVENT
DTSTART;TZID=UTC:20250925T190000
DTEND;TZID=UTC:20250925T200000
DTSTAMP:20260421T114617
CREATED:20250729T130629Z
LAST-MODIFIED:20250729T131533Z
UID:10001109-1758826800-1758830400@eventos.santabrigida.es
SUMMARY:'El banquete de las brujas'
DESCRIPTION:  \nBajo la aparente calma de los frescos religiosos de Jesús Arencibia —pintor monumental nacido en Tamaraceite— se esconde un universo simbólico lleno de enigmas\, silencios y disidencias. Fabio García Saleh\, profesor de la Universidad de Las Palmas de Gran Canaria\, irrumpe en el panorama literario con El banquete de las brujas (Almuzara)\, una novela que fusiona arte\, historia y brujería. \nLa obra será presentada por la historiadora del arte Rita Camacho el 25 de septiembre\, a las 19.00 horas en la Sala Lola Massieu\, dependiente de la Concejalía de Cultura. El acto contará con la presencia del autor. \nEl banquete de las brujas arranca con la llegada de un joven arquitecto madrileño\, de origen isleño\, que regresa a Gran Canaria en busca de sus raíces. En el avión conoce a Rafael\, un anciano culto -que fue discípulo del pintor- y se encuentra en las primeras fases del alzhéimer. Durante el viaje le revela un sorprendente secreto: los murales de Jesús Arencibia. A través de este encuentro se abre un viaje narrativo que revela el contenido oculto de siete murales\, interpretados como una crónica visual de resistencia. En uno de ellos —el del aeropuerto\, con un aquelarre femenino— se habla claramente de una “asamblea de hechiceras” como metáfora del empoderamiento femenino y lésbico\, donde el número nueve representa la iniciación. \nEl banquete de las brujas muestra cómo los frescos de Arencibia\, repartidos por iglesias\, escuelas y edificios civiles de Gran Canaria\, no eran simples escenas costumbristas\, sino auténticos manifiestos visuales donde lo queer y lo disidente encontraban refugio en símbolos\, figuras ambiguas y claves esotéricas aún hoy inadvertidas. En sus páginas\, los muros hablan\, y lo hacen en un idioma ancestral que mezcla sabiduría popular\, crítica social y espiritualidad. \nEl banquete de las brujas se convierte así en un viaje de iniciación\, tanto para sus personajes como para el lector. La relación entre el joven protagonista y Rafael evoluciona hacia una simbiosis emocional: mientras el primero encuentra un guía para descifrar los secretos del pasado\, el segundo combate el olvido ejercitando su memoria a través del arte\, la conversación y la poesía. Una búsqueda que transforma la isla en un tablero de enigmas\, donde paganismo y cristianismo\, tradición y ocultismo\, se entrelazan bajo las capas del tiempo. \nLa novela tiene una estructura episódica\, casi de novela por entregas: cada capítulo gira en torno a un mural\, cada pintura se convierte en una pista\, y cada diálogo\, en una reflexión sobre el arte\, la historia y la memoria. García Saleh logra que el lector imagine una ruta cultural que recorra la isla visitando los espacios reales de los frescos. Esta dimensión es uno de los aportes más originales del libro. \nEl banquete de las brujas es también una denuncia contra el olvido institucional. “Salvar su obra es salvar una parte esencial de la memoria canaria”\, defiende el autor. “Muchos de los frescos de Arencibia se encuentran deteriorados\, ignorados por quienes deberían protegerlos como parte del patrimonio cultural de las islas”. \nEl banquete de las brujas es\, además de una novela de intriga simbólica\, un acto de amor hacia la cultura de Gran Canaria. Como dice uno de los personajes: “Los tesoros más valiosos son los que están enterrados a más profundidad”. Quizás también lo estén en los muros de una ermita olvidada\, esperando a que alguien los descifre. \nSobre el autor \nFabio García Saleh (Las Palmas de Gran Canaria\, 1972) es doctor en Filología Inglesa y\, actualmente\, reparte su vida profesional entre la docencia universitaria\, impartiendo Historia del Reino Unido\, así como Lengua y Literatura Inglesa en su ciudad natal\, y su actividad como escritor en la prensa canaria\, donde cada sábado firma la página Crónicas de un rompesuelas\, dedicada a rescatar episodios olvidados de la historia de Gran Canaria. \nGaldosiano por vocación y galdosista por convicción\, ha escrito El tesoro oculto del Conde de Montecristo —un ensayo masónico que revela cómo la novela de Dumas responde a las grandes preguntas de la humanidad\, como la búsqueda de la felicidad—\, y Revelaciones ocultas\, donde indaga en la relación simbólica entre Néstor Martín-Fernández de la Torre y Salvador Dalí. Con El banquete de las brujas\, da un paso más allá. La obra no es solo una novela; es también una guía cultural\, una obra que desafía al lector a mirar más allá de la superficie. A leer lo que ha estado escrito en los muros todo este tiempo.
URL:https://eventos.santabrigida.es/eventos/el-banquete-de-las-brujas/
LOCATION:SALA DE EXPOSICIONES LOLA MASSIEU\, Francisco Morales Padrón s/n\, Santa Brígida\, Las Palmas\, 35300
CATEGORIES:Cultura y Educación
ATTACH;FMTTYPE=image/jpeg:https://eventos.santabrigida.es/wp-content/uploads/2025/07/025-el-banquete-de-las-brujas.jpg
END:VEVENT
END:VCALENDAR