BEGIN:VCALENDAR
VERSION:2.0
PRODID:-//Eventos - ECPv6.10.3//NONSGML v1.0//EN
CALSCALE:GREGORIAN
METHOD:PUBLISH
X-ORIGINAL-URL:https://eventos.santabrigida.es
X-WR-CALDESC:Eventos para Eventos
REFRESH-INTERVAL;VALUE=DURATION:PT1H
X-Robots-Tag:noindex
X-PUBLISHED-TTL:PT1H
BEGIN:VTIMEZONE
TZID:UTC
BEGIN:STANDARD
TZOFFSETFROM:+0000
TZOFFSETTO:+0000
TZNAME:UTC
DTSTART:20250101T000000
END:STANDARD
END:VTIMEZONE
BEGIN:VEVENT
DTSTART;TZID=UTC:20250512T180000
DTEND;TZID=UTC:20251229T193000
DTSTAMP:20260421T044045
CREATED:20250505T102339Z
LAST-MODIFIED:20250505T102339Z
UID:10001013-1747072800-1767036600@eventos.santabrigida.es
SUMMARY:Clases gratuitas de yoga para mujeres desde mayo a diciembre
DESCRIPTION:La Concejalía de Igualdad del Ayuntamiento de Santa Brígida\, que dirige el alcalde José Armengol\, pone en marcha clases gratuitas de yoga kundalini dirigidas exclusivamente a mujeres del municipio. Las sesiones estarán a cargo de maestras especializadas en yoga para mujeres del proyecto social Océano de Luz. \nLas clases comenzarán el lunes\, 12 de mayo y se impartirán cada lunes\, de 18:00 a 19:30 horas\, hasta el mes de diciembre. El lugar de encuentro será el Edificio de Extensión Agraria de Santa Brígida\, ubicado en la Calle Acequia del Palmeral\, s/n. \nEl yoga kundalini\, aunque está indicado para todas las personas\, ofrece beneficios especialmente significativos para las mujeres. Conocido como el «yoga de la conciencia»\, su práctica promueve una conexión profunda con la energía vital (Shakti)\, que en las filosofías tántricas y yóguicas se relaciona con lo femenino divino\, favorece el equilibrio hormonal y emocional\, aporta claridad mental y fortalece el sistema nervioso\, lo que permite afrontar los retos cotidianos con serenidad\, alegría y fortaleza. \nEsta disciplina no requiere una condición física previa\, ya que los ejercicios se adaptan a las necesidades de cada participante. Por ello\, todas las mujeres\, independientemente de su edad o forma física\, están invitadas a participar. \nEsta iniciativa tiene como objetivo fomentar el bienestar físico y emocional de las mujeres\, además de crear espacios de encuentro y autocuidado. La actividad se enmarca en el compromiso del Ayuntamiento de Santa Brígida con la promoción de la salud integral de las mujeres. \n  \nInscripción\nigualdad@santabrigida.es\n928 64 81 81 (ext. 0409 / 0410) \nO bien en el QR que aparece en el cartel \n 
URL:https://eventos.santabrigida.es/eventos/clases-gratuitas-de-yoga-para-mujeres-desde-mayo-a-diciembre/
LOCATION:Edificio de Extensión Agraria de Santa Brígida\, España
CATEGORIES:Igualdad
ATTACH;FMTTYPE=image/jpeg:https://eventos.santabrigida.es/wp-content/uploads/2025/05/Insta.jpeg
END:VEVENT
BEGIN:VEVENT
DTSTART;TZID=UTC:20250918T050000
DTEND;TZID=UTC:20251210T190000
DTSTAMP:20260421T044045
CREATED:20250822T120906Z
LAST-MODIFIED:20250822T122511Z
UID:10001129-1758171600-1765393200@eventos.santabrigida.es
SUMMARY:Taller Juvenil de Escritura Creativa en la Biblioteca
DESCRIPTION:La Biblioteca Municipal  acoge\, de septiembre a diciembre\, un nuevo Taller de Escritura Creativa dirigido a jóvenes de entre 14 y 18 años. La actividad\, organizada por el Ayuntamiento de Santa Brígida a través de la Concejalía de Cultura\, se desarrollará en una sesión semanal de dos horas durante 13 semanas con el objetivo de fomentar la creatividad\, la expresión personal y el amor por la literatura entre la juventud satauteña. \nEl taller estará a cargo de la Escuela Canaria de Letras Alexis Ravelo y será impartido por Alicia López\, escritora y formadora especializada en escritura creativa y fomento de la lectura juvenil en entornos educativos y culturales. Con formación en narrativa\, dramaturgia y dirección escénica\, López combina su labor literaria con estudios de Lengua Española y Literaturas en la UNED\, así como un microgrado en Estudios Ingleses\, Literatura y Cultura. \nSu trayectoria incluye la publicación de la novela Escribas (2020)\, seleccionada para el II Congreso Virtual de Jóvenes Lectores de Canarias; el reconocimiento como finalista del Premio José Saramago de narración corta por el relato Algo va a ocurrir (2014)\, y el primer premio en el certamen de poesía Mujeres que hicieron historia (2018)\, entre otros galardones. \n\nInscripción \n\n\nEnvía un mensaje a biblioteca@santabrigida.es\, y si deseas más información llama al 928 648181\, extensión 0320
URL:https://eventos.santabrigida.es/eventos/taller-juvenil-de-escritura-creativa-en-la-biblioteca/
LOCATION:Biblioteca Municipal Francisco Morales Padrón\, Calle Calvario\, Santa Brígida\, Las Palmas\, 35300
CATEGORIES:Cultura y Educación
ATTACH;FMTTYPE=image/png:https://eventos.santabrigida.es/wp-content/uploads/2025/08/borrador-taller-2-1.png
END:VEVENT
BEGIN:VEVENT
DTSTART;TZID=UTC:20251006T060000
DTEND;TZID=UTC:20251114T220000
DTSTAMP:20260421T044045
CREATED:20251005T192454Z
LAST-MODIFIED:20251027T134945Z
UID:10001142-1759730400-1763157600@eventos.santabrigida.es
SUMMARY:"EXCURSIÓN A TENERIFE"
DESCRIPTION:El club municipal de mayores organiza para el próximo viernes 14 de noviembre una excursión de día completo a Tenerife. \nPresentación en Santa Brígida a las 06.00 hrs\, instalaciones del club de mayores\, traslado al muelle\, trámite de facturación y salida en el fast ferry de Naviera Armas a las 08.30 hrs. Llegada a las 10.10 hrs aprox\, asistencia de bus y guía.Traslado hacia Vilaflor de Chasna a las 12.00 horas\, llegada al pueblo más alto de las Islas\, el de menor población de Tenerife y que todos conocen porque allí\, nació el primer Santo Canario\, San Pedro de San José de Betancur\, más conocido como el Hermano Pedro.  \nConoceremos su casa natal\, hoy convertida en iglesia\, visitaremos el pequeño museo que su congregación\, las Hermanas Bethlemitas\, abren con cariño para que todos conozcamos las obras y milagros del Hermanito.\nA continuación\, pasearemos por el casco histórico\, alrededor de la Iglesia Parroquial de San Pedro. La repostería\, la artesanía\, encabezada por las maravillosas «rosetas chasneras» todo un referente de encaje canario en el mundo. Saldremos hacia el restaurante  El Cordero  menú (Pimientos de padrón\, Queso canario\,  Arroz campero\, estos platos de entrantes y para 4 personas\, de 2º plato parrillada de carne\, papas arrugadas o fritas\, pan y mojo\, vino o cerveza\, agua o refresco\, quesillo y plátano)\nSeguidamente\, saldremos a la Cueva del Hermano Pedro\, en el Médano\, lugar de culto\, donde se hacen peticiones y plegarias\, donde él visualizó su futuro.\nLlegada a Santa Cruz a las 18.45 horas\, salida en barco a las 19.30 horas. Traslado a Santa Brígida. \nDirigido a : Socios /as del club de mayores \, o hasta cubrir plazas. (Si quedasen plazas se utilizarán para el público en general) \nInscripción: Lunes 6\, martes 7 \, miércoles 8 o hasta cubrir plazas. \nPrecio : 84 € \nPrecio incluye: \n.Autocar para todo el circuito \n.Almuerzo en restaurante el cordero. \n. Billete de Naviera Armas butaca turista Gran Canaria-Tenerife-Gran Canaria \n.Seguro de viaje \nImprescindible DNI en vigor para poder viajar. \n 
URL:https://eventos.santabrigida.es/eventos/excursion-a-tenerife-2/
LOCATION:Club Municipal de Mayores\, Juan Sebastian Elcano\, Santa Brígida\, Las Palmas\, 35300\, España
CATEGORIES:Acción Social,Club de Mayores
ATTACH;FMTTYPE=image/jpeg:https://eventos.santabrigida.es/wp-content/uploads/2025/10/EXCURSION-ATENERIFE.jpg
END:VEVENT
BEGIN:VEVENT
DTSTART;TZID=UTC:20251010T090000
DTEND;TZID=UTC:20251010T183000
DTSTAMP:20260421T044045
CREATED:20251002T072836Z
LAST-MODIFIED:20251002T072836Z
UID:10001140-1760086800-1760121000@eventos.santabrigida.es
SUMMARY:"PROGRAMA SUMANDO MOMENTOS. "
DESCRIPTION:El Club de mayores organiza de nuevo\, dado el interés por esta actividad\, para el próximo viernes 10 de octubre una salida en mini tren  al municipio de Firgas. \nLa Travesía de Afurgad\nDescubre Firgas a bordo del mini tren «Aguas de Firgas»\nDescubre Firgas como nunca antes: sube al mini tren turístico Aguas de Firgas y déjate llevar por una experiencia única que combina cultura\, tradición y gastronomía en un recorrido de aproximadamente 2 horas de duración y 12 kilómetros. \nEl recorrido de La Travesía de Afurgad comienza en el nuevo estacionamiento de guaguas situado en la entrada del casco de Firgas\, en primer lugar hace una pequeña parada en el Restaurante El Rincón de Marcos probando allí la primera degustación\, a partir de aquí continua dirigiéndose hacia el La Tienda de María Teresa\, tienda de aceite y vinagre con mas de 60 años de historia\, atravesando el Barranco de las madres en un recorrido lleno de unas vistas impresionantes e historias que iremos escuchando por medio de las audio-guías\, una vez hallamos llegado pasando justo al lado de la fabrica Aguas de Firgas\, haremos otra degustación\, y veremos dicha tienda. \nDesde La Tienda de María Teresa\, continuaremos la ruta hasta el parque de Fontana Rosa\, situado junto al Colegio de Firgas\, dónde además de disfrutar de un parque con mucho encanto\, degustaremos néctar de plátano con gofio de Buenlugar. \n\n\n\n\n\n\nY ya nos queda la última visita\, a la Fabrica Deleite Canario\, en el mismo casco del municipio\, a la que llegaremos callejeando en nuestro tren y donde probaremos algunos de sus productos\, desde aquí y a bordo de nuestro tren Aguas de Firgas\, volveremos al punto de partida atravesando el resto del casco subiendo por cuatro esquinas y la Calle el Calvario hasta la GC-30 hasta nuestra parada final. \n\n\n\n\n\n\n\nAl finalizar la visita nos dirigiremos al Mesón Los Chorros  para realizar nuestro almuerzo:\n\nMenú: \nEntrantes: Pan y alioli. Queso y papas arrugadas. \nPrimer plato: Sopa de pollo /pescado / potaje o ensalada. \nSegundo plato:  Albóndigas / Pescado empanado /estofado . \nPostre: San Marcos o Helado. \nBebidas: Refrescos\, agua \, Vino. \nPrecio: Almuerzo: 17€ \nPrecio del mini tren : 13.50€ \nTransporte y seguro de accidentes: Gratuito a cargo de la Concejalía de Mayores/Servicios Sociales. \nDirigido a : Socios/as del club de mayores\, que han quedado en reserva en la anterior salida\, tendrán prioridad. Deben venir a retirar sus entradas. Si quedan plazas se pueden  adquirir por el resto del público. \nInscripción: Presencial\, Lunes 6 \, martes 7 de octubre\, o hasta cubrir plazas\, en las dependencias del Club de mayores. \nIMPORTANTE: SÓLO SE PUEDEN INSCRIBIR DOS PERSONAS POR USUARIO/A  \nInformación por teléfono:928644242 o correo electrónico: clubdemayores@santabrigida.es \n 
URL:https://eventos.santabrigida.es/eventos/programa-sumando-momentos/
LOCATION:CLUB MUNICIPAL DE MAYORESDE LA VILLA DE SANTA BRIGIDA\, C. Mirador de la Villa s/n\, Santa Brígida\, Las Palmas\, 35300\, España
CATEGORIES:Acción Social,Club de Mayores
ATTACH;FMTTYPE=image/jpeg:https://eventos.santabrigida.es/wp-content/uploads/2025/09/PROGRAMA.jpg
GEO:28.038537704017;15.497269870018
X-APPLE-STRUCTURED-LOCATION;VALUE=URI;X-ADDRESS=CLUB MUNICIPAL DE MAYORESDE LA VILLA DE SANTA BRIGIDA C. Mirador de la Villa s/n Santa Brígida Las Palmas 35300 España;X-APPLE-RADIUS=500;X-TITLE=C. Mirador de la Villa s/n:geo:15.497269870018,28.038537704017
END:VEVENT
BEGIN:VEVENT
DTSTART;TZID=UTC:20251010T100000
DTEND;TZID=UTC:20251030T210000
DTSTAMP:20260421T044045
CREATED:20251010T124039Z
LAST-MODIFIED:20251010T124051Z
UID:10001148-1760090400-1761858000@eventos.santabrigida.es
SUMMARY:Descubre cómo se vestía Gran Canaria durante los siglos XVIII y XIX
DESCRIPTION:¿Quiere saber cómo vestían la población grancanaria durante los siglos XVIII y XIX? Pues tiene usted una cita en La Atalaya. El Ayuntamiento de Santa Brígida invita a la ciudadanía a visitar este viernes\, 10 de octubre\, la exposición itinerante Vestimentas tradicionales de Gran Canaria\, de la Asociación Cultural Entre Amigos\, un recorrido que rescata la memoria de los atuendos que definieron la historia y la cultura de nuestras generaciones pasadas\, y que organiza la asociación Loza Memoria e Identidad Canaria. \nA través de un total de 42 vestimentas\, la muestra invita a descubrir cómo la ropa reflejaba no solo las condiciones sociales y económicas\, sino también los valores\, costumbres e identidad cultural de la época. Asimismo\, busca poner en valor la importancia del atuendo como un elemento esencial de la memoria colectiva. \nEspacio Juan Sixto Muñoz \nEl evento inaugural tendrá lugar este viernes a las 19:00 horas en el Espacio Juan Sixto Muñoz (Calle Cura Navarro\, nº 1)\, un nuevo espacio para la cultura y la memoria en La Atalaya. Con esta doble celebración\, se pretende dar un paso firme en la consolidación de un punto de encuentro para actividades culturales\, artísticas e históricas de gran valor para la comunidad. \nEl Castillo de Mata fue el punto de arranque de esta exposición itinerante el pasado mes de febrero\, que constituye un marco idóneo para envolver a la audiencia de los valores que se representan en el patrimonio textil grancanario. La exposición en Santa Brígida podrá visitarse hasta el 30 de octubre\, en horario de 10:00 a 13:00 horas y de 17:00 a 21:00 horas \nEl proyecto cuenta con la financiación del Cabildo de Gran Canaria\, a través del Fundación para el Estudio y Desarrollo de la Artesanía Canaria. Asimismo\, la muestra ha sido posible gracias a la colaboración de distintas entidades y colectivos comprometidos con la preservación de las tradiciones canarias\, entre ellos Tradiciones Canarias\, la Casa Cueva Juansito\, Asabicrip y Néstor Cano.
URL:https://eventos.santabrigida.es/eventos/descubre-como-se-vestia-gran-canaria-durante-los-siglos-xviii-y-xix/
LOCATION:Espacio Juan Sixto Muñoz
ATTACH;FMTTYPE=image/jpeg:https://eventos.santabrigida.es/wp-content/uploads/2025/10/10-octubre.-Vestimentas-tradicionales-de-Gran-Canaria.jpg
END:VEVENT
BEGIN:VEVENT
DTSTART;TZID=UTC:20251010T200000
DTEND;TZID=UTC:20251010T220000
DTSTAMP:20260421T044045
CREATED:20250818T080521Z
LAST-MODIFIED:20250906T062527Z
UID:10001119-1760126400-1760133600@eventos.santabrigida.es
SUMMARY:El Mendi Tour llega a Santa Brígida con lo mejor del cine de montaña
DESCRIPTION:Santa Brígida será escenario de una de las paradas del Mendi Tour\, la muestra itinerante con lo mejor del prestigioso Bilbao Mendi Film Festival\, uno de los principales certámenes internacionales de cine de montaña\, aventura y naturaleza. \nLa cita tendrá lugar el 10 de octubre a las 20:00 horas en el Centro Cultural de la Villa de Santa Brígida (C. Nueva\, 25\, 35300 Santa Brígida\, Las Palmas). La entrada es gratuita. Ya se puede reservar las entradas en https://www.cimagrancanaria.com/ \nEn esta edición\, el público podrá disfrutar de una cuidada selección de películas documentales\, todas pertenecientes a la Sección Oficial del Mendi Film 2024\, que destacan por su espectacularidad visual y su profundo mensaje humano y medioambiental. \nProgramación de películas: \n\nAlways Alive (35’ · VO · subtítulos en español)\nModo avión (15’ · VO · español)\nUna mirada atrás. El arte de equipar (29’ · VO · español)\nThe Ice Builders (15’ · VO en inglés · subtítulos en español)\nL’età sperimentale (27’ · VO en italiano · subtítulos en español · Premio al Mejor Guion MF 2024)\n\nEl Mendi Tour Santa Brígida ofrece una oportunidad única para acercarse al espíritu del cine de montaña\, la aventura y el medio natural\, con historias inspiradoras de superación personal\, exploración y conexión con la naturaleza. \nEl evento está organizado por Cima Gran Canaria y cuenta con la colaboración del Ayuntamiento de Santa Brígida\, a través de las concejalías de Turismo y Medio Ambiente\, que dirigen Carmen Juez y María Sánchez–Fernaud Vega\, respectivamente\, el Cabildo de Gran Canaria\, y la colaboración de diversas entidades vinculadas al deporte\, la cultura y la naturaleza. \nMás información en: www.mendifilmfestival.com \n 
URL:https://eventos.santabrigida.es/eventos/el-mendi-tour-llega-a-santa-brigida-con-lo-mejor-del-cine-de-montana/
LOCATION:CENTRO CULTURAL\, C. Nueva\, Santa Brígida\, Las Palmas\, 35300\, España
CATEGORIES:Medio Ambiente,Turismo
ATTACH;FMTTYPE=image/jpeg:https://eventos.santabrigida.es/wp-content/uploads/2025/08/010-Festival-Cine-de-Montana.jpg
END:VEVENT
END:VCALENDAR