BEGIN:VCALENDAR
VERSION:2.0
PRODID:-//Eventos - ECPv6.10.3//NONSGML v1.0//EN
CALSCALE:GREGORIAN
METHOD:PUBLISH
X-ORIGINAL-URL:https://eventos.santabrigida.es
X-WR-CALDESC:Eventos para Eventos
REFRESH-INTERVAL;VALUE=DURATION:PT1H
X-Robots-Tag:noindex
X-PUBLISHED-TTL:PT1H
BEGIN:VTIMEZONE
TZID:UTC
BEGIN:STANDARD
TZOFFSETFROM:+0000
TZOFFSETTO:+0000
TZNAME:UTC
DTSTART:20250101T000000
END:STANDARD
END:VTIMEZONE
BEGIN:VEVENT
DTSTART;TZID=UTC:20250512T180000
DTEND;TZID=UTC:20251229T193000
DTSTAMP:20260421T024628
CREATED:20250505T102339Z
LAST-MODIFIED:20250505T102339Z
UID:10001013-1747072800-1767036600@eventos.santabrigida.es
SUMMARY:Clases gratuitas de yoga para mujeres desde mayo a diciembre
DESCRIPTION:La Concejalía de Igualdad del Ayuntamiento de Santa Brígida\, que dirige el alcalde José Armengol\, pone en marcha clases gratuitas de yoga kundalini dirigidas exclusivamente a mujeres del municipio. Las sesiones estarán a cargo de maestras especializadas en yoga para mujeres del proyecto social Océano de Luz. \nLas clases comenzarán el lunes\, 12 de mayo y se impartirán cada lunes\, de 18:00 a 19:30 horas\, hasta el mes de diciembre. El lugar de encuentro será el Edificio de Extensión Agraria de Santa Brígida\, ubicado en la Calle Acequia del Palmeral\, s/n. \nEl yoga kundalini\, aunque está indicado para todas las personas\, ofrece beneficios especialmente significativos para las mujeres. Conocido como el «yoga de la conciencia»\, su práctica promueve una conexión profunda con la energía vital (Shakti)\, que en las filosofías tántricas y yóguicas se relaciona con lo femenino divino\, favorece el equilibrio hormonal y emocional\, aporta claridad mental y fortalece el sistema nervioso\, lo que permite afrontar los retos cotidianos con serenidad\, alegría y fortaleza. \nEsta disciplina no requiere una condición física previa\, ya que los ejercicios se adaptan a las necesidades de cada participante. Por ello\, todas las mujeres\, independientemente de su edad o forma física\, están invitadas a participar. \nEsta iniciativa tiene como objetivo fomentar el bienestar físico y emocional de las mujeres\, además de crear espacios de encuentro y autocuidado. La actividad se enmarca en el compromiso del Ayuntamiento de Santa Brígida con la promoción de la salud integral de las mujeres. \n  \nInscripción\nigualdad@santabrigida.es\n928 64 81 81 (ext. 0409 / 0410) \nO bien en el QR que aparece en el cartel \n 
URL:https://eventos.santabrigida.es/eventos/clases-gratuitas-de-yoga-para-mujeres-desde-mayo-a-diciembre/
LOCATION:Edificio de Extensión Agraria de Santa Brígida\, España
CATEGORIES:Igualdad
ATTACH;FMTTYPE=image/jpeg:https://eventos.santabrigida.es/wp-content/uploads/2025/05/Insta.jpeg
END:VEVENT
BEGIN:VEVENT
DTSTART;TZID=UTC:20250918T050000
DTEND;TZID=UTC:20251210T190000
DTSTAMP:20260421T024628
CREATED:20250822T120906Z
LAST-MODIFIED:20250822T122511Z
UID:10001129-1758171600-1765393200@eventos.santabrigida.es
SUMMARY:Taller Juvenil de Escritura Creativa en la Biblioteca
DESCRIPTION:La Biblioteca Municipal  acoge\, de septiembre a diciembre\, un nuevo Taller de Escritura Creativa dirigido a jóvenes de entre 14 y 18 años. La actividad\, organizada por el Ayuntamiento de Santa Brígida a través de la Concejalía de Cultura\, se desarrollará en una sesión semanal de dos horas durante 13 semanas con el objetivo de fomentar la creatividad\, la expresión personal y el amor por la literatura entre la juventud satauteña. \nEl taller estará a cargo de la Escuela Canaria de Letras Alexis Ravelo y será impartido por Alicia López\, escritora y formadora especializada en escritura creativa y fomento de la lectura juvenil en entornos educativos y culturales. Con formación en narrativa\, dramaturgia y dirección escénica\, López combina su labor literaria con estudios de Lengua Española y Literaturas en la UNED\, así como un microgrado en Estudios Ingleses\, Literatura y Cultura. \nSu trayectoria incluye la publicación de la novela Escribas (2020)\, seleccionada para el II Congreso Virtual de Jóvenes Lectores de Canarias; el reconocimiento como finalista del Premio José Saramago de narración corta por el relato Algo va a ocurrir (2014)\, y el primer premio en el certamen de poesía Mujeres que hicieron historia (2018)\, entre otros galardones. \n\nInscripción \n\n\nEnvía un mensaje a biblioteca@santabrigida.es\, y si deseas más información llama al 928 648181\, extensión 0320
URL:https://eventos.santabrigida.es/eventos/taller-juvenil-de-escritura-creativa-en-la-biblioteca/
LOCATION:Biblioteca Municipal Francisco Morales Padrón\, Calle Calvario\, Santa Brígida\, Las Palmas\, 35300
CATEGORIES:Cultura y Educación
ATTACH;FMTTYPE=image/png:https://eventos.santabrigida.es/wp-content/uploads/2025/08/borrador-taller-2-1.png
END:VEVENT
BEGIN:VEVENT
DTSTART;TZID=UTC:20251102T080000
DTEND;TZID=UTC:20251130T233000
DTSTAMP:20260421T024628
CREATED:20251121T211306Z
LAST-MODIFIED:20251121T211837Z
UID:10001179-1762070400-1764545400@eventos.santabrigida.es
SUMMARY:Santa Brígida con Vinos 2025
DESCRIPTION:El Ayuntamiento de Santa Brígida dedica el mes de noviembre a rendir homenaje a los vinos locales de la Villa y a su valiosa herencia cultural con el programa Santa Brígida con Vinos 2025\, una cita ya consolidada que celebra la riqueza vitivinícola del municipio a través del enoturismo\, la gastronomía y la cultura. \nDel 2 al 30 de noviembre\, residentes y visitantes podrán disfrutar de un completo calendario de actividades\, desde cenas a ciegas\, catas comentadas\, maridajes sonoros\, noches de vino y música en directo\, rutas patrimoniales y visitas a bodegas entre otras propuestas que convertirán a Santa Brígida en el epicentro del vino en Gran Canaria durante todo el mes. \nPrograma: Santa Brígida con Vinos 2025
URL:https://eventos.santabrigida.es/eventos/santa-brigida-con-vinos-2025/
LOCATION:Santa Brígida
ATTACH;FMTTYPE=image/jpeg:https://eventos.santabrigida.es/wp-content/uploads/2025/11/Cartel-Santa-Brigida-con-Vinos-2025.jpeg
END:VEVENT
BEGIN:VEVENT
DTSTART;TZID=UTC:20251128T170000
DTEND;TZID=UTC:20251128T180000
DTSTAMP:20260421T024628
CREATED:20251105T103901Z
LAST-MODIFIED:20251105T103901Z
UID:10001172-1764349200-1764352800@eventos.santabrigida.es
SUMMARY:Pase de ‘Cuentos con chocolate’ para noviembre
DESCRIPTION:El 28 de noviembre\, a las 17.00 horas\, la Biblioteca Municipal de Santa Brígida\, dependiente de la Concejalía de Cultura\, acoge la próxima sesión de Cuentos con Chocolate. \nEsta actividad\, diseñada por Alicia Ramos para el público infantil mayor de 3 años\, ofrece un espacio acogedor donde las familias pueden participar juntas y los adultos acompañantes de sus hijos/as\, sobrinos/as o nietos/as convertirse en narradores\, mientras disfrutan de un delicioso chocolate. \nRecuerden las familias que pueden traer sus cuentos favoritos de casa. También pueden elegir entre los libros disponibles en la biblioteca o\, bien\, los propuestos para la ocasión. De esta manera\, se fomenta un ambiente de conexión intergeneracional\, donde la lectura se convierte en una experiencia compartida de disfrute y aprendizaje. \nReserva plaza \nReserva plaza escribiendo a biblioteca@santabrigida.es \nSíguenos a través del canal de WhatsApp
URL:https://eventos.santabrigida.es/eventos/pase-de-cuentos-con-chocolate-para-noviembre/
LOCATION:Biblioteca Municipal Francisco Morales Padrón\, Calle Calvario\, Santa Brígida\, Las Palmas\, 35300
ATTACH;FMTTYPE=image/jpeg:https://eventos.santabrigida.es/wp-content/uploads/2025/11/028-Cuentos-con-chocolate.jpg
END:VEVENT
BEGIN:VEVENT
DTSTART;TZID=UTC:20251128T200000
DTEND;TZID=UTC:20251128T210000
DTSTAMP:20260421T024628
CREATED:20251121T210855Z
LAST-MODIFIED:20251124T140921Z
UID:10001178-1764360000-1764363600@eventos.santabrigida.es
SUMMARY:Gran Canaria Wind Orchestra
DESCRIPTION:El Ayuntamiento de Santa Brígida\, a través de la Concejalía de Cultura\, invita a la ciudadanía a disfrutar de un concierto de la Gran Canaria Wind Orchestra este viernes\, 28 de noviembre\, a las 20.00 horas en la Iglesia de Santa Brígida. \nBajo el título ‘Brass UK’\, el programa ofrece una propuesta artística que rinde homenaje al sonido británico y a su tradición musical para instrumentos de metal. El concierto incluirá arreglos y piezas originales para ensemble de metales\, destacando la versatilidad y potencia de esta formación instrumental. \nEl concierto cuenta con la colaboración del Cabildo de Gran Canaria. \nNota: entrada de carácter gratuito.
URL:https://eventos.santabrigida.es/eventos/gran-canaria-wind-orchestra/
LOCATION:Iglesia de la Villa de Santa Brígida\, C. Real\, Santa Brígida\, Las Palmas\, 35300\, España
ATTACH;FMTTYPE=image/jpeg:https://eventos.santabrigida.es/wp-content/uploads/2025/11/28-nov-Orquesta.jpeg
END:VEVENT
BEGIN:VEVENT
DTSTART;TZID=UTC:20251128T203000
DTEND;TZID=UTC:20251128T230000
DTSTAMP:20260421T024628
CREATED:20251125T172825Z
LAST-MODIFIED:20251125T172837Z
UID:10001184-1764361800-1764370800@eventos.santabrigida.es
SUMMARY:Santa Brígida celebra a lo grande su última ‘Noche con Vinos’
DESCRIPTION:El Ayuntamiento de Santa Brígida\, a través de la Concejalía de Desarrollo Rural que dirige Carmen Juez\, invita a la ciudadanía a disfrutar este viernes\, 28 de noviembre\, a las 20:30 horas\, de la última Noche con Vinos. La cita\, que forma parte del programa Santa Brígida con Vinos 2025\, reunirá un total de doce puestos gastronómicos y tres conciertos en el Aparcamiento municipal. \nLa noche ofrecerá tres actuaciones que cautivarán al público: The Duke’s Band\, un super‑show con cinco artistas y un enérgico Tributo a ABBA y Queen; Son Caché\, que presentará Mojo con Toque Cubano\, un espectáculo lleno de ritmo y sabor latino\, y el Grupo Karma\, encargado de cerrar la noche con un repertorio de versiones de los 80\, 90 y temas más actuales perfectos para bailar y celebrar. \nDoce puestos gastronómicos \nLa experiencia se acompañará de una cuidada propuesta de restauración y vinos locales con siete bodegas invitadas: Rincón del Guiniguada\, Bodega y Vinos Lava\, Finca Escudero\, Bodegas Ventura\, Bodegas Volcán\, Bien de Altura\, y Bodega San Juan\, que reflejan la riqueza vitivinícola del municipio. A ellas se suman cuatro puestos de restauración —La Giraldilla\, El Despacho\, La croqueta de Elisa y Mi Delantal para llevar — con propuestas culinarias pensadas para el maridaje perfecto\, así como dos puestos dulces\, La Casita de Irene y La Cocina de Sofi\, que completarán la experiencia con repostería artesanal.
URL:https://eventos.santabrigida.es/eventos/santa-brigida-celebra-a-lo-grande-su-ultima-noche-con-vinos/
LOCATION:Aparcamiento Municipal
ATTACH;FMTTYPE=image/jpeg:https://eventos.santabrigida.es/wp-content/uploads/2025/11/WhatsApp-Image-2025-11-25-at-16.13.12.jpeg
END:VEVENT
END:VCALENDAR