BEGIN:VCALENDAR
VERSION:2.0
PRODID:-//Eventos - ECPv6.10.3//NONSGML v1.0//EN
CALSCALE:GREGORIAN
METHOD:PUBLISH
X-ORIGINAL-URL:https://eventos.santabrigida.es
X-WR-CALDESC:Eventos para Eventos
REFRESH-INTERVAL;VALUE=DURATION:PT1H
X-Robots-Tag:noindex
X-PUBLISHED-TTL:PT1H
BEGIN:VTIMEZONE
TZID:UTC
BEGIN:STANDARD
TZOFFSETFROM:+0000
TZOFFSETTO:+0000
TZNAME:UTC
DTSTART:20250101T000000
END:STANDARD
END:VTIMEZONE
BEGIN:VEVENT
DTSTART;TZID=UTC:20250512T180000
DTEND;TZID=UTC:20251229T193000
DTSTAMP:20260421T005941
CREATED:20250505T102339Z
LAST-MODIFIED:20250505T102339Z
UID:10001013-1747072800-1767036600@eventos.santabrigida.es
SUMMARY:Clases gratuitas de yoga para mujeres desde mayo a diciembre
DESCRIPTION:La Concejalía de Igualdad del Ayuntamiento de Santa Brígida\, que dirige el alcalde José Armengol\, pone en marcha clases gratuitas de yoga kundalini dirigidas exclusivamente a mujeres del municipio. Las sesiones estarán a cargo de maestras especializadas en yoga para mujeres del proyecto social Océano de Luz. \nLas clases comenzarán el lunes\, 12 de mayo y se impartirán cada lunes\, de 18:00 a 19:30 horas\, hasta el mes de diciembre. El lugar de encuentro será el Edificio de Extensión Agraria de Santa Brígida\, ubicado en la Calle Acequia del Palmeral\, s/n. \nEl yoga kundalini\, aunque está indicado para todas las personas\, ofrece beneficios especialmente significativos para las mujeres. Conocido como el «yoga de la conciencia»\, su práctica promueve una conexión profunda con la energía vital (Shakti)\, que en las filosofías tántricas y yóguicas se relaciona con lo femenino divino\, favorece el equilibrio hormonal y emocional\, aporta claridad mental y fortalece el sistema nervioso\, lo que permite afrontar los retos cotidianos con serenidad\, alegría y fortaleza. \nEsta disciplina no requiere una condición física previa\, ya que los ejercicios se adaptan a las necesidades de cada participante. Por ello\, todas las mujeres\, independientemente de su edad o forma física\, están invitadas a participar. \nEsta iniciativa tiene como objetivo fomentar el bienestar físico y emocional de las mujeres\, además de crear espacios de encuentro y autocuidado. La actividad se enmarca en el compromiso del Ayuntamiento de Santa Brígida con la promoción de la salud integral de las mujeres. \n  \nInscripción\nigualdad@santabrigida.es\n928 64 81 81 (ext. 0409 / 0410) \nO bien en el QR que aparece en el cartel \n 
URL:https://eventos.santabrigida.es/eventos/clases-gratuitas-de-yoga-para-mujeres-desde-mayo-a-diciembre/
LOCATION:Edificio de Extensión Agraria de Santa Brígida\, España
CATEGORIES:Igualdad
ATTACH;FMTTYPE=image/jpeg:https://eventos.santabrigida.es/wp-content/uploads/2025/05/Insta.jpeg
END:VEVENT
BEGIN:VEVENT
DTSTART;TZID=UTC:20251202T190000
DTEND;TZID=UTC:20251230T200000
DTSTAMP:20260421T005941
CREATED:20251105T111208Z
LAST-MODIFIED:20260102T084331Z
UID:10001173-1764702000-1767124800@eventos.santabrigida.es
SUMMARY:‘Un viaje a la prehistoria de Santa Brígida’ contado por Álex Hansen
DESCRIPTION:El Ayuntamiento de Santa Brígida\, en colaboración con El Museo Canario y el Cabildo de Gran Canaria\, anuncia la inauguración de la exposición El Patrimonio Arqueológico de Sataute. Un recorrido por la prehistoria de Santa Brígida\, una muestra contada por Álex Hansen Machín que invita a descubrir los vestigios materiales y humanos del pasado aborigen del municipio satauteño. \nLa exposición\, que se inaugurará el 2 de diciembre\, a las 19:00 horas\, en la Sala Lola Massieu\,  presenta la evolución de las comunidades que habitaron el valle satauteño antes de la llegada de los europeos. La muestra combina el rigor científico con una presentación didáctica y accesible\, pensada tanto para el público general como para estudiantes y visitantes interesados en la arqueología de Gran Canaria. \nEste proyecto forma parte del compromiso del Ayuntamiento de Santa Brígida con la conservación\, difusión y puesta en valor del patrimonio arqueológico local\, integrándose en su programa anual de actividades culturales. A través de esta exposición se busca fomentar la conciencia ciudadana sobre la importancia de proteger y estudiar los yacimientos arqueológicos del municipio. \nLa exposición podrá visitarse del 2 al 30 de diciembre\, con el propósito de reforzar el vínculo de la ciudadanía con su pasado\, recordando que la historia de Santa Brígida se escribe desde mucho antes de la colonización europea\, cuando aquellas comunidades dejaron una huella indeleble en el paisaje y en la memoria colectiva. \nLos horarios de visita serán de lunes a viernes\, de 10.00 a 14.00 horas y de 17.00 a 20.00 horas\, mientras que los sábados la exposición podrá visitarse de 10.00 a 13.00 horas.
URL:https://eventos.santabrigida.es/eventos/un-viaje-a-la-prehistoria-de-santa-brigida-contado-por-alex-hansen/
LOCATION:SALA DE EXPOSICIONES LOLA MASSIEU\, Francisco Morales Padrón s/n\, Santa Brígida\, Las Palmas\, 35300
ATTACH;FMTTYPE=image/jpeg:https://eventos.santabrigida.es/wp-content/uploads/2025/11/02-Exposicion-Arqueologia.jpg
END:VEVENT
BEGIN:VEVENT
DTSTART;TZID=UTC:20251219T050000
DTEND;TZID=UTC:20251219T180000
DTSTAMP:20260421T005941
CREATED:20251130T072051Z
LAST-MODIFIED:20251207T073509Z
UID:10001195-1766120400-1766167200@eventos.santabrigida.es
SUMMARY:Cuento de Navidad
DESCRIPTION:El vienes\, 19\, a las 17.00 el Centro Cultural de la Villa acoge el Taller de Teatro Infantil presenta Cuento de Navidad\, de Charles Dickens. \nEsta historia\, convertida en un clásico universal\, narra la transformación del avaro y solitario Ebenezer Scrooge\, cuya fría visión del mundo comienza a deshelarse cuando recibe la visita de tres espíritus que lo guían a través de su pasado\, su presente y el futuro que le espera si no cambia su corazón. Entre vluces titilantes y el inconfundible espíritu festivo\, la función invita a reflexionar sobre la redención\, la importancia de la solidaridad y esos pequeños gestos de generosidad que hacen de la Navidad un tiempo mágico para compartir. Una tarde perfecta para disfrutar en familia y recordar que nunca es tarde para abrir la puerta a la bondad. \nLa obra forma parte de la programación diseñada por la Concejalía de Cultura para el mes de diciembre.
URL:https://eventos.santabrigida.es/eventos/cuento-de-navidad/
LOCATION:CENTRO CULTURAL\, C. Nueva\, Santa Brígida\, Las Palmas\, 35300\, España
ATTACH;FMTTYPE=image/jpeg:https://eventos.santabrigida.es/wp-content/uploads/2025/11/019-teatro-infantil-completo.jpg
END:VEVENT
BEGIN:VEVENT
DTSTART;TZID=UTC:20251219T090000
DTEND;TZID=UTC:20251219T190000
DTSTAMP:20260421T005941
CREATED:20251204T171955Z
LAST-MODIFIED:20251204T171955Z
UID:10001211-1766134800-1766170800@eventos.santabrigida.es
SUMMARY:"RUTA DE BELENES"
DESCRIPTION:El Club Municipal de mayores organiza dentro de su programa de Navidad\, una salida cultural el próximo viernes  19 de diciembre para visitar los Belenes: En primer lugar\, el Belén de Arena de la playa de las Canteras\, seguidamente el Belén de la ciudad de San Juan de Dios \, continuamos con el Belén realizado en la Iglesia del Cruce de Arinaga. Seguidamente tomaremos rumbo  al municipio de Santa Lucía. La salida será a las 9:00 de la mañana y al finalizar realizaremos nuestro almuerzo en San Bartolomé de Tirajana\,  en el Restaurante «Mirador de Tunte» . \nMenú: \nEntrantes: Pan alioli y mojo . \nPrimer plato: \nPotaje  canario  o ensalada canaria. \nSegundo plato: \nCerdo frito con papas o pescado empanado \nPostre casero : Mus de chocolate. \nBebidas: Refrescos\, agua\, cerveza\, vino . \nPrecio: 18 € el menú. A cargo de cada uno. \nTransporte y seguro  : Gratis a cargo de la Concejalía de Mayores y Acción Social. \nDirigido a: Socios/as del Club de mayores. (si quedaran plazas se pueden ocupar con público en general) Plazas muy limitadas. \nInscripción: Presencial y dos plazas por inscripción. \nLunes 15 \, martes 16\, o hasta cubrir plazas. Presencial. Horario de 8:00 a 14:00 \nTeléfono: 928644242 \nCorreo : clubdemayores@santa brigida.es. \n  \n 
URL:https://eventos.santabrigida.es/eventos/ruta-de-belenes-3/
LOCATION:CLUB MUNICIPAL DE MAYORESDE LA VILLA DE SANTA BRIGIDA\, C. Mirador de la Villa s/n\, Santa Brígida\, Las Palmas\, 35300\, España
CATEGORIES:Acción Social,Club de Mayores
ATTACH;FMTTYPE=image/jpeg:https://eventos.santabrigida.es/wp-content/uploads/2025/12/uta.jpg
GEO:28.038537704017;15.497269870018
X-APPLE-STRUCTURED-LOCATION;VALUE=URI;X-ADDRESS=CLUB MUNICIPAL DE MAYORESDE LA VILLA DE SANTA BRIGIDA C. Mirador de la Villa s/n Santa Brígida Las Palmas 35300 España;X-APPLE-RADIUS=500;X-TITLE=C. Mirador de la Villa s/n:geo:15.497269870018,28.038537704017
END:VEVENT
BEGIN:VEVENT
DTSTART;TZID=UTC:20251219T110000
DTEND;TZID=UTC:20251223T190000
DTSTAMP:20260421T005941
CREATED:20251130T071803Z
LAST-MODIFIED:20251130T071803Z
UID:10001194-1766142000-1766516400@eventos.santabrigida.es
SUMMARY:Casita de Papa Noel
DESCRIPTION:Del 19 al 23 de diciembre\, Papá Noel abrirá las puertas de la encantadora Casita de Navidad (Calle Nueva) que tiene en Santa Brígida para recibir a todos los niños y niñas. El bueno de Santa estará listo para escuchar con atención los sueños y deseos de sus pequeños visitantes. (No hace falta hacer reserva). \n\nHorarios de visita \nViernes 19: de 16:00 a 19:00 \nSábado 20: de 11:00 a 13:00 y de 17:00 a 19:00 horas. \nDomingo 21: de 11:00 a 14:00 h \nLunes 22: de 17:00 a 19:00 h \nMartes 23: de 11:00 a 13:00 y de 17:00 a 19:00 horas.
URL:https://eventos.santabrigida.es/eventos/casita-de-papa-noel/
LOCATION:Calle Nueva. Santa Brígida\, C. Nueva nº 13\, Santa Brígida\, Las Palmas\, 35300\, España
ATTACH;FMTTYPE=image/png:https://eventos.santabrigida.es/wp-content/uploads/2025/11/Casa-Papa-Noel.png
END:VEVENT
BEGIN:VEVENT
DTSTART;TZID=UTC:20251219T200000
DTEND;TZID=UTC:20251219T210000
DTSTAMP:20260421T005941
CREATED:20251130T072326Z
LAST-MODIFIED:20251207T074017Z
UID:10001196-1766174400-1766178000@eventos.santabrigida.es
SUMMARY:El cadáver del señor García
DESCRIPTION:El 19 de diciembre\, a las 20.00 horas\, el Centro Cultural acoge el Taller de Teatro de Adultos presenta El cadáver del señor García\, del maestro del humor Enrique Jardiel Poncela\, una comedia disparatada cargada de giros inesperados\, situaciones absurdas y personajes singulares. \nLa trama se desencadena cuando\, en vísperas de una tranquila noche\, aparece un cadáver en casa del señor García. A partir de ahí\, personajes extravagantes\, sospechas cruzadas\, puertas que no dejan de abrirse y un caos creciente construyen una comedia que va sorprendiendo al público en cada giro. \nLa obra forma parte de la programación diseñada por la Concejalía de Cultura para este mes de diciembre.
URL:https://eventos.santabrigida.es/eventos/el-cadaver-del-senor-garcia/
LOCATION:CENTRO CULTURAL\, C. Nueva\, Santa Brígida\, Las Palmas\, 35300\, España
ATTACH;FMTTYPE=image/jpeg:https://eventos.santabrigida.es/wp-content/uploads/2025/11/Teatro-de-Adultos.jpeg
END:VEVENT
BEGIN:VEVENT
DTSTART;TZID=UTC:20251219T200000
DTEND;TZID=UTC:20251219T210000
DTSTAMP:20260421T005941
CREATED:20251204T141247Z
LAST-MODIFIED:20251217T115349Z
UID:10001209-1766174400-1766178000@eventos.santabrigida.es
SUMMARY:La 'Coronación' de Mozart en la Iglesia de Santa Brígida
DESCRIPTION:La Iglesia de Santa Brígida invita a la ciudadanía al concierto que ofrecerán el Coro Sinfónico de la Orquesta Comunitaria Gran Canaria (OCGC) el próximo 19 de diciembre\, a las 20:00 horas\, el concierto Coronación y bendición\, un evento cultural de carácter navideño. \nEl programa incluye la Misa de Coronación de W. A. Mozart\, una de las misas más interpretadas en celebraciones solemnes a lo largo del siglo XIX y XX\, incluso en el Vaticano. Escrita en 1779\, combina la majestuosidad de la música sacra con la sensibilidad melódica que solo Mozart podía lograr. Desde el poderoso Gloria hasta el íntimo Agnus Dei\, cada momento refleja un equilibrio perfecto entre solemnidad y belleza. \nEl programa se completa con una selección de villancicos tradicionales adaptados para coro sinfónico. Además\, el público podrá disfrutar de una obra de estreno del compositor Eduardo Purruiños\, especialmente creada para esta ocasión. \nEl concierto estará dirigido por Jesús Manuel Sosa\, con la participación de la pianista Laura Esther Felipe Gil. \nLa entrada será libre hasta completar aforo.
URL:https://eventos.santabrigida.es/eventos/la-coronacion-de-mozart-en-la-iglesia-de-santa-brigida/
LOCATION:Iglesia de la Villa de Santa Brígida\, C. Real\, Santa Brígida\, Las Palmas\, 35300\, España
ATTACH;FMTTYPE=image/jpeg:https://eventos.santabrigida.es/wp-content/uploads/2025/12/19.-Coro-Sinfonico.jpeg
END:VEVENT
END:VCALENDAR