BEGIN:VCALENDAR
VERSION:2.0
PRODID:-//Eventos - ECPv6.10.3//NONSGML v1.0//EN
CALSCALE:GREGORIAN
METHOD:PUBLISH
X-WR-CALNAME:Eventos
X-ORIGINAL-URL:https://eventos.santabrigida.es
X-WR-CALDESC:Eventos para Eventos
REFRESH-INTERVAL;VALUE=DURATION:PT1H
X-Robots-Tag:noindex
X-PUBLISHED-TTL:PT1H
BEGIN:VTIMEZONE
TZID:UTC
BEGIN:STANDARD
TZOFFSETFROM:+0000
TZOFFSETTO:+0000
TZNAME:UTC
DTSTART:20250101T000000
END:STANDARD
END:VTIMEZONE
BEGIN:VEVENT
DTSTART;TZID=UTC:20250512T180000
DTEND;TZID=UTC:20251229T193000
DTSTAMP:20260421T005814
CREATED:20250505T102339Z
LAST-MODIFIED:20250505T102339Z
UID:10001013-1747072800-1767036600@eventos.santabrigida.es
SUMMARY:Clases gratuitas de yoga para mujeres desde mayo a diciembre
DESCRIPTION:La Concejalía de Igualdad del Ayuntamiento de Santa Brígida\, que dirige el alcalde José Armengol\, pone en marcha clases gratuitas de yoga kundalini dirigidas exclusivamente a mujeres del municipio. Las sesiones estarán a cargo de maestras especializadas en yoga para mujeres del proyecto social Océano de Luz. \nLas clases comenzarán el lunes\, 12 de mayo y se impartirán cada lunes\, de 18:00 a 19:30 horas\, hasta el mes de diciembre. El lugar de encuentro será el Edificio de Extensión Agraria de Santa Brígida\, ubicado en la Calle Acequia del Palmeral\, s/n. \nEl yoga kundalini\, aunque está indicado para todas las personas\, ofrece beneficios especialmente significativos para las mujeres. Conocido como el «yoga de la conciencia»\, su práctica promueve una conexión profunda con la energía vital (Shakti)\, que en las filosofías tántricas y yóguicas se relaciona con lo femenino divino\, favorece el equilibrio hormonal y emocional\, aporta claridad mental y fortalece el sistema nervioso\, lo que permite afrontar los retos cotidianos con serenidad\, alegría y fortaleza. \nEsta disciplina no requiere una condición física previa\, ya que los ejercicios se adaptan a las necesidades de cada participante. Por ello\, todas las mujeres\, independientemente de su edad o forma física\, están invitadas a participar. \nEsta iniciativa tiene como objetivo fomentar el bienestar físico y emocional de las mujeres\, además de crear espacios de encuentro y autocuidado. La actividad se enmarca en el compromiso del Ayuntamiento de Santa Brígida con la promoción de la salud integral de las mujeres. \n  \nInscripción\nigualdad@santabrigida.es\n928 64 81 81 (ext. 0409 / 0410) \nO bien en el QR que aparece en el cartel \n 
URL:https://eventos.santabrigida.es/eventos/clases-gratuitas-de-yoga-para-mujeres-desde-mayo-a-diciembre/
LOCATION:Edificio de Extensión Agraria de Santa Brígida\, España
CATEGORIES:Igualdad
ATTACH;FMTTYPE=image/jpeg:https://eventos.santabrigida.es/wp-content/uploads/2025/05/Insta.jpeg
END:VEVENT
BEGIN:VEVENT
DTSTART;TZID=UTC:20251202T190000
DTEND;TZID=UTC:20251230T200000
DTSTAMP:20260421T005814
CREATED:20251105T111208Z
LAST-MODIFIED:20260102T084331Z
UID:10001173-1764702000-1767124800@eventos.santabrigida.es
SUMMARY:‘Un viaje a la prehistoria de Santa Brígida’ contado por Álex Hansen
DESCRIPTION:El Ayuntamiento de Santa Brígida\, en colaboración con El Museo Canario y el Cabildo de Gran Canaria\, anuncia la inauguración de la exposición El Patrimonio Arqueológico de Sataute. Un recorrido por la prehistoria de Santa Brígida\, una muestra contada por Álex Hansen Machín que invita a descubrir los vestigios materiales y humanos del pasado aborigen del municipio satauteño. \nLa exposición\, que se inaugurará el 2 de diciembre\, a las 19:00 horas\, en la Sala Lola Massieu\,  presenta la evolución de las comunidades que habitaron el valle satauteño antes de la llegada de los europeos. La muestra combina el rigor científico con una presentación didáctica y accesible\, pensada tanto para el público general como para estudiantes y visitantes interesados en la arqueología de Gran Canaria. \nEste proyecto forma parte del compromiso del Ayuntamiento de Santa Brígida con la conservación\, difusión y puesta en valor del patrimonio arqueológico local\, integrándose en su programa anual de actividades culturales. A través de esta exposición se busca fomentar la conciencia ciudadana sobre la importancia de proteger y estudiar los yacimientos arqueológicos del municipio. \nLa exposición podrá visitarse del 2 al 30 de diciembre\, con el propósito de reforzar el vínculo de la ciudadanía con su pasado\, recordando que la historia de Santa Brígida se escribe desde mucho antes de la colonización europea\, cuando aquellas comunidades dejaron una huella indeleble en el paisaje y en la memoria colectiva. \nLos horarios de visita serán de lunes a viernes\, de 10.00 a 14.00 horas y de 17.00 a 20.00 horas\, mientras que los sábados la exposición podrá visitarse de 10.00 a 13.00 horas.
URL:https://eventos.santabrigida.es/eventos/un-viaje-a-la-prehistoria-de-santa-brigida-contado-por-alex-hansen/
LOCATION:SALA DE EXPOSICIONES LOLA MASSIEU\, Francisco Morales Padrón s/n\, Santa Brígida\, Las Palmas\, 35300
ATTACH;FMTTYPE=image/jpeg:https://eventos.santabrigida.es/wp-content/uploads/2025/11/02-Exposicion-Arqueologia.jpg
END:VEVENT
BEGIN:VEVENT
DTSTART;TZID=UTC:20251220T103000
DTEND;TZID=UTC:20260111T200000
DTSTAMP:20260421T005814
CREATED:20251220T043928Z
LAST-MODIFIED:20251225T075812Z
UID:10001216-1766226600-1768161600@eventos.santabrigida.es
SUMMARY:Pista de patinaje
DESCRIPTION:El Ayuntamiento de Santa Brígida invita a la ciudadanía a disfrutar de la pista de patinaje sintética y ecológica\, ubicada en una carpa en la Calle Nueva\, que estará operativa desde el 20 de diciembre al 11 de enero en horario de 11.00 a 13:30 horas y de 17:00 a 20:00 horas. Cierra los días 24\, 25 y 31 de diciembre y el 1\, 5 y 6 de enero. \nAcceso a la pista \nEl acceso es gratuito\, incluyendo el préstamo de patines y cascos\, y se realizará por orden de llegada. La organización también dispone de un número limitado de soportes para quienes deseen aprender a patinar. Para garantizar una experiencia segura y agradable\, cada turno permitirá la participación de hasta 20 personas y una duración de 15 minutos. \nEdades \nLos menores de 6 años no podrán acceder a la pista\, conforme a la normativa general sobre instalaciones deportivas recreativas. De entre 6 y 12 años podrán acceder a la pista siempre que se encuentren supervisados por un adulto responsable\, quien deberá permanecer en las instalaciones durante el uso de la pista. A partir de 13 años podrán acceder sin acompañante siempre que cuenten con autorización escrita de sus tutores legales. \nTanto la autorización como la declaración responsable puede descargarse desde la web del Ayuntamiento\, o firmarse en las instalaciones de la pista. La organización no se hace responsable de los menores que accedan sin la debida autorización. \nEl evento será gestionado por personal especializado\, encargado de organizar las entradas y salidas de los grupos\, garantizando así la seguridad y el disfrute de quienes participen. \n\n\n 
URL:https://eventos.santabrigida.es/eventos/pista-de-patinaje/
LOCATION:Calle Nueva
ATTACH;FMTTYPE=image/jpeg:https://eventos.santabrigida.es/wp-content/uploads/2025/12/WhatsApp-Image-2025-12-23-at-15.51.28-1.jpeg
END:VEVENT
BEGIN:VEVENT
DTSTART;TZID=UTC:20251226T100000
DTEND;TZID=UTC:20251228T200000
DTSTAMP:20260421T005814
CREATED:20251130T074420Z
LAST-MODIFIED:20251225T081604Z
UID:10001200-1766743200-1766952000@eventos.santabrigida.es
SUMMARY:Feria de la Infancia y la Juventud
DESCRIPTION:El Ayuntamiento de Santa Brígida\, a través de la Concejalía de Juventud que dirige Adrián García Armas\, les invita a disfrutar de la Feria de la Infancia y Juventud que se celebrará los días 26\, 27 y 28 de diciembre en el CEIP Sataute (C/ Circunvalación\, 1) para niños\, niñas y jóvenes de 3 a 16 años. \nLa Feria contará con zonas de juegos adaptadas a cada edad: \n▪️De 3 a 6 años \nLa feria contará con una zona especial\, pensada para la primera infancia con hinchables y juegos seguros ludoteca con materiales didácticos\, manualidades guiadas\, pintacaras con diseños coloridos\, piscina de bolas y juegos cooperativos pensados para el desarrollo motriz. \n▪️De 7 a 12 años \nEn el área intermedia podrán disfrutar de tiro con arco\, talleres de manualidades\, juegos dinámicos\, biblioteca\, hinchable Wipeout\, ideal para desafiar el equilibrio\, y caracterización de personajes fantásticos\, donde podrán transformarse en héroes\, heroínas\, criaturas mágicas o seres de cuento. \n▪️De 12 a 16 años \nLos jóvenes también tendrán su propio espacio con actividades más intensas y tecnológicas: Pista americana\, para poner a prueba su agilidad y resistencia\, Zona gamer\, con videojuegos actuales y competiciones\, y Bubble Ball\, una experiencia divertida y llena de risas. \n🗓️ Horarios: \n–26 diciembre: 16:00 a 20:00 horas\n–Días 27 y 28: 10:00 a 13:00 y de 16:00 a 20:00 horas \nNota: El acceso es gratuito y no hace falta inscripción. \n 
URL:https://eventos.santabrigida.es/eventos/feria-de-la-infancia-y-la-juventud/
LOCATION:CEIP Sataute
ATTACH;FMTTYPE=image/jpeg:https://eventos.santabrigida.es/wp-content/uploads/2025/11/Feria-Infancia-y-Juventud.jpeg
END:VEVENT
BEGIN:VEVENT
DTSTART;TZID=UTC:20251226T200000
DTEND;TZID=UTC:20251226T210000
DTSTAMP:20260421T005814
CREATED:20251130T075712Z
LAST-MODIFIED:20251225T082453Z
UID:10001201-1766779200-1766782800@eventos.santabrigida.es
SUMMARY:Concierto de música sacra navideña en la Iglesia de Santa Brígida
DESCRIPTION:La Iglesia de Santa Brígida acogerá este 26 de diciembre\, a las 20:00 horas\, el Concierto del Ensemble Coral Voces de las Medianías\, que estará acompañado por la Coral Polifónica Villa de Santa Brígida\, la Coral Vega de San Mateo y la Coral Voces de Tejeda\, bajo la dirección de Silvia Pileño\, con Larisa Baravik al piano. \nComo broche de oro\, el concierto contará con la participación especial del tenor Manolo García\, cuya voz aportará una intensidad y sensibilidad únicas\, envolviendo la velada en el auténtico espíritu navideño. \nEste encuentro coral ofrecerá un repertorio cuidadosamente seleccionado\, que combinará villancicos tradicionales\, obras contemporáneas y piezas emblemáticas de la música sacra navideña\, brindando al público una experiencia cargada de emoción\, belleza artística y recogimiento.
URL:https://eventos.santabrigida.es/eventos/concierto-de-navidad-3/
LOCATION:Iglesia de la Villa de Santa Brígida\, C. Real\, Santa Brígida\, Las Palmas\, 35300\, España
ATTACH;FMTTYPE=image/png:https://eventos.santabrigida.es/wp-content/uploads/2025/11/26-Ensemble-Coral.png
END:VEVENT
END:VCALENDAR