BEGIN:VCALENDAR
VERSION:2.0
PRODID:-//Eventos - ECPv6.10.3//NONSGML v1.0//EN
CALSCALE:GREGORIAN
METHOD:PUBLISH
X-WR-CALNAME:Eventos
X-ORIGINAL-URL:https://eventos.santabrigida.es
X-WR-CALDESC:Eventos para Eventos
REFRESH-INTERVAL;VALUE=DURATION:PT1H
X-Robots-Tag:noindex
X-PUBLISHED-TTL:PT1H
BEGIN:VTIMEZONE
TZID:UTC
BEGIN:STANDARD
TZOFFSETFROM:+0000
TZOFFSETTO:+0000
TZNAME:UTC
DTSTART:20250101T000000
END:STANDARD
END:VTIMEZONE
BEGIN:VEVENT
DTSTART;TZID=UTC:20251220T103000
DTEND;TZID=UTC:20260111T200000
DTSTAMP:20260420T230244
CREATED:20251220T043928Z
LAST-MODIFIED:20251225T075812Z
UID:10001216-1766226600-1768161600@eventos.santabrigida.es
SUMMARY:Pista de patinaje
DESCRIPTION:El Ayuntamiento de Santa Brígida invita a la ciudadanía a disfrutar de la pista de patinaje sintética y ecológica\, ubicada en una carpa en la Calle Nueva\, que estará operativa desde el 20 de diciembre al 11 de enero en horario de 11.00 a 13:30 horas y de 17:00 a 20:00 horas. Cierra los días 24\, 25 y 31 de diciembre y el 1\, 5 y 6 de enero. \nAcceso a la pista \nEl acceso es gratuito\, incluyendo el préstamo de patines y cascos\, y se realizará por orden de llegada. La organización también dispone de un número limitado de soportes para quienes deseen aprender a patinar. Para garantizar una experiencia segura y agradable\, cada turno permitirá la participación de hasta 20 personas y una duración de 15 minutos. \nEdades \nLos menores de 6 años no podrán acceder a la pista\, conforme a la normativa general sobre instalaciones deportivas recreativas. De entre 6 y 12 años podrán acceder a la pista siempre que se encuentren supervisados por un adulto responsable\, quien deberá permanecer en las instalaciones durante el uso de la pista. A partir de 13 años podrán acceder sin acompañante siempre que cuenten con autorización escrita de sus tutores legales. \nTanto la autorización como la declaración responsable puede descargarse desde la web del Ayuntamiento\, o firmarse en las instalaciones de la pista. La organización no se hace responsable de los menores que accedan sin la debida autorización. \nEl evento será gestionado por personal especializado\, encargado de organizar las entradas y salidas de los grupos\, garantizando así la seguridad y el disfrute de quienes participen. \n\n\n 
URL:https://eventos.santabrigida.es/eventos/pista-de-patinaje/
LOCATION:Calle Nueva
ATTACH;FMTTYPE=image/jpeg:https://eventos.santabrigida.es/wp-content/uploads/2025/12/WhatsApp-Image-2025-12-23-at-15.51.28-1.jpeg
END:VEVENT
BEGIN:VEVENT
DTSTART;TZID=UTC:20260105T173000
DTEND;TZID=UTC:20260105T213000
DTSTAMP:20260420T230244
CREATED:20251130T080305Z
LAST-MODIFIED:20251230T103705Z
UID:10001203-1767634200-1767648600@eventos.santabrigida.es
SUMMARY:Cabalgata de Sus Majestades los Reyes Magos de Oriente
DESCRIPTION:El próximo lunes\, 5 de enero\, Sus Majestades los Reyes Magos de Oriente recorrerán las calles del Casco de Santa Brígida en su tradicional Cabalgata\, acompañados de su séquito y ayudantes. \nEl desfile dará comienzo a las 18:00 horas partiendo desde el Club de Mayores. La zona neurodivergente estará en la Calle Mirador de la Villa\, donde se habilitará un tramo libre de ruido\, pensado especialmente para que los niños y niñas con TEA\, alta sensibilidad sensorial o hipersensibilidad auditiva disfrutar en directo del paso de los Reyes Magos y su comitiva con calma y alegría. Las carrozas continuarán su trayecto por la Calle Gonzalo Medina\, Calle Ramón y Cajal hasta llegar a Calle Nueva\, donde\, junto al Ayuntamiento\, habrá una zona especialmente adaptada para que las personas con movilidad reducida puedan disfrutar del cortejo con totales garantías. \nA las 19:20 horas\, la Iglesia de Santa Brígida acogerá el solemne acto de Adoración y Ofrenda al Niño Jesús\, una recreación que nos traslada a un momento muy especial cargado de sensibilidad\, cuando los magos de Oriente le llevaron oro\, incienso y mirra ofreciendo su respeto y humildad. \nPosteriormente\, en el escenario de la cancha del CEIP Sataute\, los Reyes Magos recibirán a los niños y niñas que deseen entregar sus cartas llenas de deseos\, compartiendo la magia de la noche más esperada del año. \nEl alcalde agradece la colaboración de las 200 personas que participan en la comitiva y\, de manera desinteresada\, hacen posible que esta celebración sea un momento inolvidable para toda la Villa. \nAparcamientos: Aparcamiento (Gran Canaria Central)\, Polideportivo\, Calle Mirador de la Villa\, Juan Morales\, anexo al Mercadillo y anexo al Velatorio\, y Casa del Vino. \nNota: la parada de Global situada en el CEIP Sataute se traslada justo enfrente. \n 
URL:https://eventos.santabrigida.es/eventos/cabalgata-de-sus-majestades-los-reyes-magos-de-oriente/
LOCATION:Casco de Santa Brígida
ATTACH;FMTTYPE=image/jpeg:https://eventos.santabrigida.es/wp-content/uploads/2025/11/Cabalgata.jpeg
END:VEVENT
END:VCALENDAR