BEGIN:VCALENDAR
VERSION:2.0
PRODID:-//Eventos - ECPv6.10.3//NONSGML v1.0//EN
CALSCALE:GREGORIAN
METHOD:PUBLISH
X-WR-CALNAME:Eventos
X-ORIGINAL-URL:https://eventos.santabrigida.es
X-WR-CALDESC:Eventos para Eventos
REFRESH-INTERVAL;VALUE=DURATION:PT1H
X-Robots-Tag:noindex
X-PUBLISHED-TTL:PT1H
BEGIN:VTIMEZONE
TZID:UTC
BEGIN:STANDARD
TZOFFSETFROM:+0000
TZOFFSETTO:+0000
TZNAME:UTC
DTSTART:20260101T000000
END:STANDARD
END:VTIMEZONE
BEGIN:VEVENT
DTSTART;TZID=UTC:20260110T080000
DTEND;TZID=UTC:20260124T170000
DTSTAMP:20260420T230243
CREATED:20251217T125044Z
LAST-MODIFIED:20260107T101252Z
UID:10001215-1768032000-1769274000@eventos.santabrigida.es
SUMMARY:Carmelo Sangó expone en la Sala Lola Massieu
DESCRIPTION:El Ayuntamiento de Santa Brígida\, a través de la Concejalía de Cultura\, invita a la ciudadanía a disfrutar de la exposición del artista Carmelo Sangó\, titulada Retórica y Retrato\, que se podrá visitar en la Sala Lola Massieu hasta el 24 de enero. La inauguración tendrá lugar este sábado 10\, a las 19:00 horas. \nRetórica y Retrato es uno de los proyectos más personales del artista albaceteño\, afincado en la Villa de Firgas. En esta muestra\, Sangó propone un recorrido pictórico en el que el retrato invita al espectador a reflexionar sobre la identidad\, el tiempo y la construcción simbólica de la imagen. \nCarmelo Sangó \nArtista de vocación tardía\, Sangó inicia su trayectoria en 1998 de forma autodidacta\, trabajando principalmente la técnica del pastel\, con la que realiza más de 400 obras en apenas cuatro años. A partir de 2002\, con el comienzo de sus estudios en Bellas Artes\, incorpora el óleo como medio principal\, centrando su producción en la figura humana y el retrato\, eje conceptual de su obra desde entonces. Paralelamente\, experimenta con otras técnicas y se adentra en la escultura\, especialmente en piedra. \nDesde 2008 orienta su trabajo hacia la investigación artística de carácter social\, alejándose temporalmente del circuito comercial. La trayectoria de Carmelo Sangó incluye numerosas exposiciones individuales y colectivas\, así como selecciones en certámenes nacionales e internacionales. \nLa obra que integra Retórica y Retrato ha sido expuesta en diversas salas de Gran Canaria\, destacando por su amplia interacción educativa y social.
URL:https://eventos.santabrigida.es/eventos/carmelo-sango-expone-en-la-sala-lola-massieu/
LOCATION:SALA DE EXPOSICIONES LOLA MASSIEU\, Francisco Morales Padrón s/n\, Santa Brígida\, Las Palmas\, 35300
ATTACH;FMTTYPE=image/jpeg:https://eventos.santabrigida.es/wp-content/uploads/2025/12/WhatsApp-Image-2025-12-15-at-12.28.29.jpeg
END:VEVENT
BEGIN:VEVENT
DTSTART;TZID=UTC:20260116T083000
DTEND;TZID=UTC:20260116T213000
DTSTAMP:20260420T230243
CREATED:20251220T061419Z
LAST-MODIFIED:20251231T085525Z
UID:10001218-1768552200-1768599000@eventos.santabrigida.es
SUMMARY:Música\, danza y voz en el Centro Cultural
DESCRIPTION:El Ayuntamiento de Santa Brígida invita a la ciudadanía a disfrutar del concierto “Palabra de Gran Canaria”\, que tendrá lugar en el Centro Cultural el 16 de enero\, a las 20:30 horas. \nSobre el escenario\, una banda formada por cuatro músicos construye una base sonora rica y envolvente\, mientras las voces de Claudia Álamo y Manuel Estupiñán guían al público a través de relatos\, emociones y paisajes sonoros profundamente vinculados a la identidad de la isla\, a su memoria colectiva y a su patrimonio cultural inmaterial. Historias contadas y cantadas desde una mirada artística\, sensible y cercana. \nDurante aproximadamente una hora\, el público es invitado a detenerse y escuchar\, a reconocer sonidos y palabras que forman parte del imaginario canario\, reinterpretados a través de una puesta en escena cuidada y honesta. La iluminación y el planteamiento escénico acompañan este relato\, reforzando la sensación de estar asistiendo a una experiencia casi ceremonial\, íntima y profundamente humana. \nPalabra de Gran Canaria es\, en esencia\, un encuentro entre música y narración que busca emocionar\, conectar y recordar de dónde venimos\, arropado por la calidez de las voces de Claudia Álamo y Manuel Estupiñán y el pulso constante de los músicos que los acompañan. \nEste concierto forma parte de la programación cultural del mes de enero.
URL:https://eventos.santabrigida.es/eventos/claudia-alamo-y-manuel-estupinan-en-el-centro-cultural/
LOCATION:CENTRO CULTURAL\, C. Nueva\, Santa Brígida\, Las Palmas\, 35300\, España
ATTACH;FMTTYPE=image/jpeg:https://eventos.santabrigida.es/wp-content/uploads/2025/12/016-Cartel-Concierto-PdGC-Santa-Brigida.jpg
END:VEVENT
BEGIN:VEVENT
DTSTART;TZID=UTC:20260116T170000
DTEND;TZID=UTC:20260116T180000
DTSTAMP:20260420T230243
CREATED:20251229T071359Z
LAST-MODIFIED:20251230T072053Z
UID:10001224-1768582800-1768586400@eventos.santabrigida.es
SUMMARY:Cuentacuentos en la Biblioteca
DESCRIPTION:La Biblioteca Municipal de Santa Brígida\, dependiende de la Concejalía de Cultura\, celebra el 16 de enero\, a las 17:00 horas\, una nueva sesión de cuentacuentos dirigida al público infantil y familiar\, a partir de 3 años. \nLa actividad se enmarca dentro del XIX Circuito Insular de Narración Oral\, impulsado por el Cabildo de Gran Canaria\, y en esta ocasión contará con la participación del narrador Antonio López\, que ofrecerá una sesión llena de historias\, imaginación y emoción pensadas para disfrutar en familia bajo el título Cuentos para despertar. \nEste encuentro pretende fomentar el gusto por la lectura y la tradición oral desde edades tempranas\, creando un espacio de encuentro cultural donde la palabra contada se convierte en protagonista. \nNota: acceso libre y gratuito.
URL:https://eventos.santabrigida.es/eventos/cuentacuentos-en-la-biblioteca-2/
LOCATION:Biblioteca Municipal Francisco Morales Padrón\, Calle Calvario\, Santa Brígida\, Las Palmas\, 35300
ATTACH;FMTTYPE=image/png:https://eventos.santabrigida.es/wp-content/uploads/2025/12/cartel-cuentacuentos-enero.png
END:VEVENT
END:VCALENDAR