BEGIN:VCALENDAR
VERSION:2.0
PRODID:-//Eventos - ECPv6.10.3//NONSGML v1.0//EN
CALSCALE:GREGORIAN
METHOD:PUBLISH
X-WR-CALNAME:Eventos
X-ORIGINAL-URL:https://eventos.santabrigida.es
X-WR-CALDESC:Eventos para Eventos
REFRESH-INTERVAL;VALUE=DURATION:PT1H
X-Robots-Tag:noindex
X-PUBLISHED-TTL:PT1H
BEGIN:VTIMEZONE
TZID:UTC
BEGIN:STANDARD
TZOFFSETFROM:+0000
TZOFFSETTO:+0000
TZNAME:UTC
DTSTART:20260101T000000
END:STANDARD
END:VTIMEZONE
BEGIN:VEVENT
DTSTART;TZID=UTC:20260130T190000
DTEND;TZID=UTC:20260220T000000
DTSTAMP:20260420T211342
CREATED:20260115T100941Z
LAST-MODIFIED:20260129T091823Z
UID:10001233-1769799600-1771545600@eventos.santabrigida.es
SUMMARY:Alicia Lasala expone en la Sala Lola Massieu
DESCRIPTION:El Ayuntamiento de Santa Brígida invita a la ciudadanía a visitar la exposición Serenidad en el caos\, de la creadora Alicia Lasala\, que acoge la Sala Lola Massieu. La inauguración oficial tendrá lugar el próximo 30 de enero\, a las 19:00 horas. \nLa muestra forma parte del circuito Itineraria\, un programa del Centro de Artes Plásticas de la Consejería de Cultura del Cabildo de Gran Canaria\, que traslada regularmente la obra de distintos artistas a centros y equipamientos culturales de la isla. El objetivo es acercar el arte contemporáneo a la ciudadanía y fomentar el acceso a la creación artística en todo el territorio insular. \nEspecializada en cerámica\, serigrafía\, grabado y escultura en materiales como gres\, alambre y cemento\, Alicia Lasala combina en su trabajo expresionismo figurativo y abstracto\, volcando en la figura humana emociones profundas. En Serenidad en el caos\, la artista reflexiona sobre el impacto del estrés y la ansiedad en la sociedad actual. Su proceso creativo valora lo inesperado\, representando visualmente la tensión y la liberación\, y mostrando la dualidad entre el caos y la calma a través de la pintura como vía de exploración emocional. \nSegún explica la propia Lasala\, el proyecto “se fundamenta en la estética\, en la filosofía de Aristóteles sobre la catarsis y la purificación emocional a través del arte\, así como en las ideas de Alan Watts sobre la aceptación y la comprensión de la mente”. Estas referencias dialogan con la expresión emocional de artistas como Edvard Munch\, cuya obra captura la angustia existencial\, y con referentes como Gustav Klimt y Edgar Degas\, que exploraron la complejidad de las emociones humanas. \nPara la artista\, “el arte es un lenguaje poético y reflexivo que permite analizar los procesos de la existencia desde múltiples perspectivas. El color delicado\, la textura\, la forma y el volumen guían el recorrido por la muestra. La sucesión pictórica comienza con formas expresionistas que evolucionan hacia una abstracción consciente como proceso de descubrimiento interior\, para finalmente transformarse en escultura”. \nLa muestra\, que podrá visitarse hasta el 20 de febrero\, forma parte de la programación diseñada por la Concejalía de Cultura que dirige Avelina Fernández Manrique de Lara.  \nTaller y visita guiada \nEl próximo 12 de febrero\, Lasala dará un Taller de Escultura dirigido a mayores de 15 años\, que tendrá lugar de 17.00 a 19.00 horas en la Sala Lola Massieu. La actividad requiere inscripción previa al correo: cultura@santabrigida.es \nAdemás\, el 14 de febrero\, a las 11.00 horas\, la artista ofrecerá una visita guiada\, abierta al público y sin necesidad de inscripción.
URL:https://eventos.santabrigida.es/eventos/alicia-lasala-expone-en-la-sala-lola-massieu/
LOCATION:SALA DE EXPOSICIONES LOLA MASSIEU\, Francisco Morales Padrón s/n\, Santa Brígida\, Las Palmas\, 35300
ATTACH;FMTTYPE=image/png:https://eventos.santabrigida.es/wp-content/uploads/2026/01/Cartel.png
END:VEVENT
BEGIN:VEVENT
DTSTART;TZID=UTC:20260201T073000
DTEND;TZID=UTC:20270201T233000
DTSTAMP:20260420T211342
CREATED:20260202T172116Z
LAST-MODIFIED:20260216T073732Z
UID:10001253-1769931000-1801524600@eventos.santabrigida.es
SUMMARY:Gymkana digital ‘La Batalla del Batán’
DESCRIPTION:🎲✨ Gymkana Digital en Santa Brígida📍 Punto de partida: Oficina de Turismo (escanea el QR)🔍 12 enigmas\, historia y diversión. \nEncontrar un símbolo oculto en un escudo de piedra\, descifrar el significado de una placa o descubrir qué hecho histórico conmemora una fachada son algunos de los retos que propone La Batalla del Batán\, la nueva gymkana digital que el Ayuntamiento de Santa Brígida pone en marcha para acercar a residentes y visitantes la historia y el patrimonio del municipio de una forma didáctica y entretenida. La experiencia se inicia escaneando el código QR disponible en la cartelería ubicada en la Oficina de Turismo\, punto de partida del recorrido. \nImpulsada por la Concejalía de Turismo que dirige Carmen Juez\, esta propuesta lúdico-turística está pensada para todos los públicos y combina turismo\, aprendizaje y entretenimiento\,  integrando el recorrido con el descubrimiento de su historia. \nLa experiencia discurre por el entramado histórico de la villa\, conectando plazas\, la iglesia\, casas señoriales y espacios culturales: un itinerario autoguiado de una hora\, en el que se deberá resolver acertijos relacionados con lugares\, elementos arquitectónicos y episodios de la historia local. \n¿Cómo funciona? \nLa gymkana está compuesta por 12 enigmas que se resuelven desde el móvil. Es gratuita\, no requiere descargar aplicaciones ni realizar reservas previas\, y puede realizarse desde cualquier dispositivo con conexión a internet. \nCada enigma se desbloquea al llegar al punto indicado y ofrece pistas que nos invitan a observar con atención el entorno. Cada prueba está vinculada a hechos\, personajes o lugares emblemáticos de Santa Brígida y\, a medida que se avanza\, el juego guía al participante por el casco histórico. \nEl recorrido\, de unos 1\,1 kilómetros\, está organizado en etapas temáticas: la historia de la Batalla del Batán\, personajes relevantes del pasado satauteño\, la arquitectura tradicional\, las tradiciones y oficios locales\, las leyendas y mitos populares\, así como los paisajes que definen el territorio\, mientras se superan preguntas y retos interactivos. \nLa dinámica gamificada facilita la participación de personas de todas las edades\, ofreciendo una experiencia ideal para familias\, grupos\, centros educativos y visitantes individuales. \nLa gymkana\, que toma su nombre de uno de los episodios históricos más significativos de Santa Brígida\, la defensa de la población frente a las incursiones neerlandesas en 1599\, acercará al participante a los relatos que han forjado el carácter de la Villa. \n 
URL:https://eventos.santabrigida.es/eventos/santa-brigida-estrena-la-gymkana-la-batalla-del-batan/
LOCATION:Casco histórico\, España
ATTACH;FMTTYPE=image/jpeg:https://eventos.santabrigida.es/wp-content/uploads/2026/02/WhatsApp-Image-2026-02-16-at-07.35.55.jpeg
END:VEVENT
BEGIN:VEVENT
DTSTART;TZID=UTC:20260213T100000
DTEND;TZID=UTC:20260215T213000
DTSTAMP:20260420T211342
CREATED:20260124T132605Z
LAST-MODIFIED:20260216T071635Z
UID:10001242-1770976800-1771191000@eventos.santabrigida.es
SUMMARY:Santa Brígida celebra su 'Carnaval in Love'
DESCRIPTION:El Ayuntamiento de Santa Brígida celebra su Carnaval in Love los días 13\, 14 y 15 de febrero con una edición dedicada al amor con motivo de su coincidencia con la festividad de San Valentín\, porque durante esos días el amor está en el aire y se convierte en el hilo conductor de la programación. \n13 de febrero\nLas fiestas arrancan el viernes\, 13 con el protagonismo del ámbito educativo. Desde las 10:00 horas\, los pasacalles de Carnaval de los Centros Educativos llenarán de música y disfraces el casco del municipio\, con la participación del CEIP Sataute y el IES Santa Brígida. \nA las 12:00 horas\, el barrio de La Atalaya acogerá su propio pasacalle de Carnaval\, en el que tomarán parte el CEIP Illera de la Mora y el IES La Atalaya\, poniendo en valor la implicación de la comunidad escolar en la vida cultural del municipio. \nEse mismo día\, a partir de las 17:00 horas\, la tradición volverá a ocupar un lugar central con la actividad A pedir huevitos\, una costumbre cargada de nostalgia que resalta la memoria viva de las celebraciones carnavaleras antiguas. En esta actividad participarán las familias vinculadas a Cuentos con chocolate\, que recorrerán hogares y comercios del municipio ataviadas con sus disfraces de mascarita. \nLa jornada del viernes concluirá a las 19:00 horas con una propuesta cultural de gran formato: la representación del espectáculo Azúcar\, a cargo de Comediantes de la Cacharra Verde. Un espectáculo lleno de música\, baile y diversión participativa pensado para el disfrute de toda la familia. \n 14 de febrero\nEl sábado\, 14 estará marcado por el espíritu del Carnaval in Love\, una jornada en la que el amor estará presente en cada rincón del municipio. A partir de las 11:00 horas\, tendrá lugar el Paseo de la sardina enamorada\, cuyo cortejo recorrerá distintas zonas de la Villa invitando a vecinos y visitantes a sumarse al ambiente carnavalesco. \nYa por la tarde\, desde las 17:30 horas\, la Calle Nueva se convertirá en el epicentro de la celebración con la fiesta ¡El amor está en el aire! y la Fiesta Tradicional de las Tortillas. Colectivos y asociaciones del municipio invitarán a la degustación de las tradicionales tortillas\, en una jornada amenizada con actuaciones musicales desde las 19.00 horas con Los Hombres de Cynthia\, DJ y banda\, además de animación\, photocall\, cupidos\, pintacaras y actividades para todos los públicos. \nLa jornada culminará a las 21:00 horas con uno de los momentos más simbólicos del programa: la Quema de la sardina Muerta de amor\, que tendrá lugar en el Aparcamiento municipal\, poniendo el broche final a un día cargado de emoción y convivencia. \n15 de febrero\nEl domingo 15\, los Carnavales cerrarán con el Baile del Club Municipal de Mayores\, que se celebrará en este espacio en horario de 17:00 a 21:00 horas. La velada estará amenizada por Emilio Carisma\, en una propuesta especialmente pensada para este colectivo\, reafirmando el compromiso del Ayuntamiento con unas fiestas inclusivas y adaptadas a todas las edades.
URL:https://eventos.santabrigida.es/eventos/santa-brigida-celebra-el-carnaval-in-love/
LOCATION:Santa Brígida
ATTACH;FMTTYPE=image/png:https://eventos.santabrigida.es/wp-content/uploads/2026/01/Sin-titulo-1.png
END:VEVENT
BEGIN:VEVENT
DTSTART;TZID=UTC:20260215T170000
DTEND;TZID=UTC:20260215T210000
DTSTAMP:20260420T211342
CREATED:20260203T101332Z
LAST-MODIFIED:20260203T101332Z
UID:10001236-1771174800-1771189200@eventos.santabrigida.es
SUMMARY:"BAILE DE CARNAVAL"
DESCRIPTION:El Club municipal de mayores celebra el próximo domingo 15 de febrero un «BAILE DE CARNAVAL «\, en sus instalaciones\, en horario de 17:00 a 21:00 horas\, gratuito\, amenizado por «EMILIO CARISMA «\, actividad dirigida principalmente para soci@s \, pero se permite la entrada al público en general hasta completar aforo. \nComo cada año en estas fiestas de invierno o carnavales\, celebraremos un baile  de carnaval en el que invitamos a todo el que le apetezca y quiera venir ataviado de su mejor fantasía.  Por primera vez se obsequiara a los mejores disfraces \, otorgaremos tres premios\, premio al mejor disfraz individual \, segundo al mejor disfraz de pareja y tercero al mejor disfraz de grupo. El jurado estará formado por los colaboradores/as del Club municipal de mayores y la concejala de área Doña Carmen Juez.     \n¡Ponte tu mejor disfraz y acude! \n 
URL:https://eventos.santabrigida.es/eventos/baile-de-carnaval/
LOCATION:Club Municipal de Mayores\, Santa Brígida\, Las Palmas\, 35300\, España
CATEGORIES:Acción Social,Club de Mayores
ATTACH;FMTTYPE=image/jpeg:https://eventos.santabrigida.es/wp-content/uploads/2026/01/BAILE-DE.jpg
END:VEVENT
END:VCALENDAR