BEGIN:VCALENDAR
VERSION:2.0
PRODID:-//Eventos - ECPv6.10.3//NONSGML v1.0//EN
CALSCALE:GREGORIAN
METHOD:PUBLISH
X-ORIGINAL-URL:https://eventos.santabrigida.es
X-WR-CALDESC:Eventos para Eventos
REFRESH-INTERVAL;VALUE=DURATION:PT1H
X-Robots-Tag:noindex
X-PUBLISHED-TTL:PT1H
BEGIN:VTIMEZONE
TZID:UTC
BEGIN:STANDARD
TZOFFSETFROM:+0000
TZOFFSETTO:+0000
TZNAME:UTC
DTSTART:20260101T000000
END:STANDARD
END:VTIMEZONE
BEGIN:VEVENT
DTSTART;TZID=UTC:20260201T073000
DTEND;TZID=UTC:20270201T233000
DTSTAMP:20260420T211352
CREATED:20260202T172116Z
LAST-MODIFIED:20260216T073732Z
UID:10001253-1769931000-1801524600@eventos.santabrigida.es
SUMMARY:Gymkana digital ‘La Batalla del Batán’
DESCRIPTION:🎲✨ Gymkana Digital en Santa Brígida📍 Punto de partida: Oficina de Turismo (escanea el QR)🔍 12 enigmas\, historia y diversión. \nEncontrar un símbolo oculto en un escudo de piedra\, descifrar el significado de una placa o descubrir qué hecho histórico conmemora una fachada son algunos de los retos que propone La Batalla del Batán\, la nueva gymkana digital que el Ayuntamiento de Santa Brígida pone en marcha para acercar a residentes y visitantes la historia y el patrimonio del municipio de una forma didáctica y entretenida. La experiencia se inicia escaneando el código QR disponible en la cartelería ubicada en la Oficina de Turismo\, punto de partida del recorrido. \nImpulsada por la Concejalía de Turismo que dirige Carmen Juez\, esta propuesta lúdico-turística está pensada para todos los públicos y combina turismo\, aprendizaje y entretenimiento\,  integrando el recorrido con el descubrimiento de su historia. \nLa experiencia discurre por el entramado histórico de la villa\, conectando plazas\, la iglesia\, casas señoriales y espacios culturales: un itinerario autoguiado de una hora\, en el que se deberá resolver acertijos relacionados con lugares\, elementos arquitectónicos y episodios de la historia local. \n¿Cómo funciona? \nLa gymkana está compuesta por 12 enigmas que se resuelven desde el móvil. Es gratuita\, no requiere descargar aplicaciones ni realizar reservas previas\, y puede realizarse desde cualquier dispositivo con conexión a internet. \nCada enigma se desbloquea al llegar al punto indicado y ofrece pistas que nos invitan a observar con atención el entorno. Cada prueba está vinculada a hechos\, personajes o lugares emblemáticos de Santa Brígida y\, a medida que se avanza\, el juego guía al participante por el casco histórico. \nEl recorrido\, de unos 1\,1 kilómetros\, está organizado en etapas temáticas: la historia de la Batalla del Batán\, personajes relevantes del pasado satauteño\, la arquitectura tradicional\, las tradiciones y oficios locales\, las leyendas y mitos populares\, así como los paisajes que definen el territorio\, mientras se superan preguntas y retos interactivos. \nLa dinámica gamificada facilita la participación de personas de todas las edades\, ofreciendo una experiencia ideal para familias\, grupos\, centros educativos y visitantes individuales. \nLa gymkana\, que toma su nombre de uno de los episodios históricos más significativos de Santa Brígida\, la defensa de la población frente a las incursiones neerlandesas en 1599\, acercará al participante a los relatos que han forjado el carácter de la Villa. \n 
URL:https://eventos.santabrigida.es/eventos/santa-brigida-estrena-la-gymkana-la-batalla-del-batan/
LOCATION:Casco histórico\, España
ATTACH;FMTTYPE=image/jpeg:https://eventos.santabrigida.es/wp-content/uploads/2026/02/WhatsApp-Image-2026-02-16-at-07.35.55.jpeg
END:VEVENT
BEGIN:VEVENT
DTSTART;TZID=UTC:20260220T090000
DTEND;TZID=UTC:20260220T183000
DTSTAMP:20260420T211352
CREATED:20260213T133447Z
LAST-MODIFIED:20260213T133447Z
UID:10001260-1771578000-1771612200@eventos.santabrigida.es
SUMMARY:"EXCURSIÓN A PALMITOS PARK"
DESCRIPTION:El club municipal de mayores  organiza para el próximo viernes  20 de febrero una salida cultural\,  visita a PALMITOS PARK\, disfrutaremos un día de éste maravilloso parque \, con lo mejor de la naturaleza en un entorno único. De los siguientes show: Show interactivo\, exhibición de aves exóticas\, exhibición de rapaces y show de delfines\, además de su maravilloso acuario \, orquídeas\, mariposas etc… \nAl finalizar el recorrido nos iremos a realizar nuestro almuerzo libre  \, a la zona de Puerto Rico\, centro comercial antiguo y la zona de Mogan Moll. \nActividad dirigida a los socios/as del club y si quedaran plazas se cubren con público general. \nPlazas limitadas. \nInscripción: Lunes 16 \, miércoles 18  de febrero \, hasta cubrir plazas. \nPresencial y se debe presentar carnet de socio/a. \nInformación: Teléfono 928644242 \nPrecio: Transporte . Gratuito a cargo de la Concejalía de Servicios Sociales y Mayores. \nAlmuerzo libre a cargo de cada uno. \nVisita y entrada al parque : 19.90€ \n 
URL:https://eventos.santabrigida.es/eventos/excursion-a-palmitos-park/
LOCATION:CLUB MUNICIPAL DE MAYORESDE LA VILLA DE SANTA BRIGIDA\, C. Mirador de la Villa s/n\, Santa Brígida\, Las Palmas\, 35300\, España
CATEGORIES:Acción Social,Club de Mayores
ATTACH;FMTTYPE=image/jpeg:https://eventos.santabrigida.es/wp-content/uploads/2026/02/SALIDA-CULTURAL.jpg
GEO:28.038537704017;15.497269870018
X-APPLE-STRUCTURED-LOCATION;VALUE=URI;X-ADDRESS=CLUB MUNICIPAL DE MAYORESDE LA VILLA DE SANTA BRIGIDA C. Mirador de la Villa s/n Santa Brígida Las Palmas 35300 España;X-APPLE-RADIUS=500;X-TITLE=C. Mirador de la Villa s/n:geo:15.497269870018,28.038537704017
END:VEVENT
BEGIN:VEVENT
DTSTART;TZID=UTC:20260220T170000
DTEND;TZID=UTC:20260220T180000
DTSTAMP:20260420T211352
CREATED:20260210T130051Z
LAST-MODIFIED:20260210T130107Z
UID:10001258-1771606800-1771610400@eventos.santabrigida.es
SUMMARY:¡Vuelve la cuentacuentos Loreto Socorro a la Biblioteca!
DESCRIPTION:La Biblioteca Municipal de Santa Brígida continúa apostando por la animación a la lectura con una nueva sesión de Cuentacuentos\, que se celebrará el próximo 20 de febrero a las 17:00 horas. En esta ocasión\, la narradora Loreto Socorro será la encargada de transportar a los más pequeños a un mundo lleno de imaginación\, aventuras y valores. \nLa actividad está dirigida a niños y niñas a partir de 3 años y la entrada es libre hasta completar aforo. Con una trayectoria consolidada en la narración oral\, Loreto Socorro combina humor\, ternura y creatividad para conectar con el público infantil y familiar\, haciendo de cada encuentro una experiencia mágica y participativa. \nLa Biblioteca Municipal\, dependiente de la Concejalía de Cultura\, sigue consolidándose como un espacio cultural abierto a la comunidad y comprometido con el desarrollo educativo y emocional de los más pequeños. \nEsta iniciativa forma parte del programa de fomento de la lectura impulsado por el Ayuntamiento de Santa Brígida\, en colaboración con el Cabildo de Gran Canaria\, la Biblioteca Insular de Gran Canaria y el Pacto por la Lectura y la Escritura en Gran Canaria. \nNota: no es necesaria inscripción
URL:https://eventos.santabrigida.es/eventos/vuelve-la-cuentacuentos-loreto-socorro-a-la-biblioteca/
LOCATION:Biblioteca Municipal Francisco Morales Padrón\, Calle Calvario\, Santa Brígida\, Las Palmas\, 35300
ATTACH;FMTTYPE=image/jpeg:https://eventos.santabrigida.es/wp-content/uploads/2026/02/020-Cuentacuentos-Loreto.jpg
END:VEVENT
BEGIN:VEVENT
DTSTART;TZID=UTC:20260220T180000
DTEND;TZID=UTC:20260220T190000
DTSTAMP:20260420T211352
CREATED:20260210T125608Z
LAST-MODIFIED:20260210T125608Z
UID:10001257-1771610400-1771614000@eventos.santabrigida.es
SUMMARY:'Hipatia y el Asteroide B-612'
DESCRIPTION:El Ayuntamiento de Santa Brígida invita a las familias a disfrutar de la obra de teatro Hipatia y el Asteroide B-612📅 20 de febrero | 18:00 h | Centro Cultural \nEnmarcada en la línea del teatro pedagógico y producida por la compañía La Godot Escénica\, la función está dirigida al público familiar. \nLa trama sigue a Hipatia\, una pequeña aspirante a astrónoma\, que\, ante el anuncio de la mayor lluvia de estrellas de todos los tiempos\, toma su telescopio y se dirige a la montaña más alta para disfrutar de este fenómeno de la naturaleza. Allí\, buscando estrellas\, se encuentra con el Principito\, con quien iniciará un viaje por la Tierra para descubrir por qué han desaparecido las estrellas. \nA lo largo de su aventura\, Hipatia y el Principito se topan con personajes de obras literarias emblemáticas\, en un recorrido lleno de imaginación y aprendizaje\, donde la ciencia\, la literatura y la magia del teatro se entrelazan para despertar la curiosidad de grandes y pequeños.
URL:https://eventos.santabrigida.es/eventos/hipatia-y-el-asteroide-b-612/
LOCATION:CENTRO CULTURAL\, C. Nueva\, Santa Brígida\, Las Palmas\, 35300\, España
ATTACH;FMTTYPE=image/jpeg:https://eventos.santabrigida.es/wp-content/uploads/2026/02/020-Hipatia-y-el-asteroide-B-scaled.jpg
END:VEVENT
END:VCALENDAR