BEGIN:VCALENDAR
VERSION:2.0
PRODID:-//Eventos - ECPv6.10.3//NONSGML v1.0//EN
CALSCALE:GREGORIAN
METHOD:PUBLISH
X-WR-CALNAME:Eventos
X-ORIGINAL-URL:https://eventos.santabrigida.es
X-WR-CALDESC:Eventos para Eventos
REFRESH-INTERVAL;VALUE=DURATION:PT1H
X-Robots-Tag:noindex
X-PUBLISHED-TTL:PT1H
BEGIN:VTIMEZONE
TZID:UTC
BEGIN:STANDARD
TZOFFSETFROM:+0000
TZOFFSETTO:+0000
TZNAME:UTC
DTSTART:20260101T000000
END:STANDARD
END:VTIMEZONE
BEGIN:VEVENT
DTSTART;TZID=UTC:20260201T073000
DTEND;TZID=UTC:20270201T233000
DTSTAMP:20260420T193255
CREATED:20260202T172116Z
LAST-MODIFIED:20260216T073732Z
UID:10001253-1769931000-1801524600@eventos.santabrigida.es
SUMMARY:Gymkana digital ‘La Batalla del Batán’
DESCRIPTION:🎲✨ Gymkana Digital en Santa Brígida📍 Punto de partida: Oficina de Turismo (escanea el QR)🔍 12 enigmas\, historia y diversión. \nEncontrar un símbolo oculto en un escudo de piedra\, descifrar el significado de una placa o descubrir qué hecho histórico conmemora una fachada son algunos de los retos que propone La Batalla del Batán\, la nueva gymkana digital que el Ayuntamiento de Santa Brígida pone en marcha para acercar a residentes y visitantes la historia y el patrimonio del municipio de una forma didáctica y entretenida. La experiencia se inicia escaneando el código QR disponible en la cartelería ubicada en la Oficina de Turismo\, punto de partida del recorrido. \nImpulsada por la Concejalía de Turismo que dirige Carmen Juez\, esta propuesta lúdico-turística está pensada para todos los públicos y combina turismo\, aprendizaje y entretenimiento\,  integrando el recorrido con el descubrimiento de su historia. \nLa experiencia discurre por el entramado histórico de la villa\, conectando plazas\, la iglesia\, casas señoriales y espacios culturales: un itinerario autoguiado de una hora\, en el que se deberá resolver acertijos relacionados con lugares\, elementos arquitectónicos y episodios de la historia local. \n¿Cómo funciona? \nLa gymkana está compuesta por 12 enigmas que se resuelven desde el móvil. Es gratuita\, no requiere descargar aplicaciones ni realizar reservas previas\, y puede realizarse desde cualquier dispositivo con conexión a internet. \nCada enigma se desbloquea al llegar al punto indicado y ofrece pistas que nos invitan a observar con atención el entorno. Cada prueba está vinculada a hechos\, personajes o lugares emblemáticos de Santa Brígida y\, a medida que se avanza\, el juego guía al participante por el casco histórico. \nEl recorrido\, de unos 1\,1 kilómetros\, está organizado en etapas temáticas: la historia de la Batalla del Batán\, personajes relevantes del pasado satauteño\, la arquitectura tradicional\, las tradiciones y oficios locales\, las leyendas y mitos populares\, así como los paisajes que definen el territorio\, mientras se superan preguntas y retos interactivos. \nLa dinámica gamificada facilita la participación de personas de todas las edades\, ofreciendo una experiencia ideal para familias\, grupos\, centros educativos y visitantes individuales. \nLa gymkana\, que toma su nombre de uno de los episodios históricos más significativos de Santa Brígida\, la defensa de la población frente a las incursiones neerlandesas en 1599\, acercará al participante a los relatos que han forjado el carácter de la Villa. \n 
URL:https://eventos.santabrigida.es/eventos/santa-brigida-estrena-la-gymkana-la-batalla-del-batan/
LOCATION:Casco histórico\, España
ATTACH;FMTTYPE=image/jpeg:https://eventos.santabrigida.es/wp-content/uploads/2026/02/WhatsApp-Image-2026-02-16-at-07.35.55.jpeg
END:VEVENT
BEGIN:VEVENT
DTSTART;TZID=UTC:20260224T180000
DTEND;TZID=UTC:20270101T200000
DTSTAMP:20260420T193255
CREATED:20260224T104934Z
LAST-MODIFIED:20260225T095350Z
UID:10001273-1771956000-1798833600@eventos.santabrigida.es
SUMMARY:Festejos impulsa la creación de una murga en Santa Brígida
DESCRIPTION:El área de Festejos del Ayuntamiento de Santa Brígida ha iniciado el proceso para la creación de una murga en el municipio. La iniciativa está dirigida a personas interesadas en formar parte de un proyecto popular que combine música y humor\, y que represente a Santa Brígida en los distintos actos y encuentros carnavaleros. \nDesde el Ayuntamiento se anima a vecinos y vecinas a sumarse a esta propuesta abierta\, concebida como un espacio de expresión artística\, convivencia y diversión. \nLas personas interesadas pueden formalizar su inscripción a través del correo electrónico festejos@santabrigida.es
URL:https://eventos.santabrigida.es/eventos/festejos-impulsa-la-creacion-de-una-murga-en-santa-brigida/
LOCATION:Santa Brígida
ATTACH;FMTTYPE=image/jpeg:https://eventos.santabrigida.es/wp-content/uploads/2026/02/Murga.jpeg
END:VEVENT
BEGIN:VEVENT
DTSTART;TZID=UTC:20260225T050000
DTEND;TZID=UTC:20261130T190000
DTSTAMP:20260420T193255
CREATED:20260225T090743Z
LAST-MODIFIED:20260227T095449Z
UID:10001276-1771995600-1796065200@eventos.santabrigida.es
SUMMARY:Yoga Terapéutico para mujeres
DESCRIPTION:El Ayuntamiento de Santa Brígida\, a través del área de Igualdad\, pone en marcha el Taller de Bienestar Emocional y Yoga Terapéutico para Mujeres: espacio de recuperación y sororidad\, una iniciativa pensada para el autocuidado\, la gestión emocional y el fortalecimiento de redes de apoyo entre mujeres del municipio. \nLa actividad\, de carácter gratuito\, se desarrollará los lunes por la tarde\, de marzo a noviembre\, ofreciendo un espacio continuado y seguro donde trabajar el bienestar físico y emocional mediante técnicas de yoga terapéutico\, respiración consciente y dinámicas de acompañamiento grupal. \nEste año\, el taller se impartirá en dos localizaciones para facilitar el acceso a vecinas de distintas zonas del municipio\, en el Casco\, en el Aula Formativa de Extensión Agraria (C/ Acequia\, s/n)\, y en La Atalaya (por determinar). \nDesde el área de Igualdad se subraya la importancia de crear espacios de cuidado sostenido que contribuyan a mejorar la calidad de vida de las mujeres\, promoviendo hábitos saludables\, el equilibrio emocional y el apoyo mutuo. \nInscripciónEnviar un correo a igualdad@santabrigida.es adjuntando este formulario debidamente rellenado.
URL:https://eventos.santabrigida.es/eventos/yoga-terapeutico-para-mujeres/
LOCATION:Santa Brígida
ATTACH;FMTTYPE=image/jpeg:https://eventos.santabrigida.es/wp-content/uploads/2026/02/WhatsApp-Image-2026-02-27-at-09.50.20.jpeg
END:VEVENT
BEGIN:VEVENT
DTSTART;TZID=UTC:20260225T170000
DTEND;TZID=UTC:20260306T193000
DTSTAMP:20260420T193255
CREATED:20260216T130558Z
LAST-MODIFIED:20260216T130809Z
UID:10001268-1772038800-1772825400@eventos.santabrigida.es
SUMMARY:Laboratorio fotográfico para mujeres
DESCRIPTION:¿Te apetece crear en colectivo y formar parte de una exposición fotográfica? \nEl Ayuntamiento de Santa Brígida\, a través de la Concejalía de Igualdad que dirige Adrián García Armas\, te invita al laboratorio fotográfico dirigido a mujeres con conocimientos intermedios de fotografía\, pensado como un espacio para crear juntas\, compartir miradas y dar forma a una serie fotográfica colectiva con perspectiva de género. \nNo es un curso para aprender a hacer fotos desde cero\, sino un proceso de creación y producción de una exposición\, que formará parte de la programación del Mes de la Mujer en Santa Brígida. \nFechas: 25 y 26 de febrero\, y 6 de marzo\nHorario: de 17:00 a 19:30 h\nUbicación: C. Acequia Del Palmeral\, S/N\nDirigido a: Mujeres con conocimientos medios de fotografía \nLa exposición se inaugurará el 16 de marzo por la tarde en la Biblioteca de Santa Brígida. \nPlazas limitadas.\nInscripciones abiertas
URL:https://eventos.santabrigida.es/eventos/laboratorio-fotografico-para-mujeres/
LOCATION:Acequia del Palmeral S/N.
ATTACH;FMTTYPE=image/jpeg:https://eventos.santabrigida.es/wp-content/uploads/2026/02/c7d4fcfc-4fcb-45ce-96e3-a3f8d89d9d04.jpg
END:VEVENT
BEGIN:VEVENT
DTSTART;TZID=UTC:20260225T180000
DTEND;TZID=UTC:20260409T200000
DTSTAMP:20260420T193255
CREATED:20260225T084410Z
LAST-MODIFIED:20260410T124225Z
UID:10001275-1772042400-1775764800@eventos.santabrigida.es
SUMMARY:Clases de baile moderno
DESCRIPTION:El Espacio Joven de Santa Brígida acoge\, a partir del 10 de marzo\, un Taller de baile moderno que impartirá Noelia Torres Estudios de Danza. La actividad\, de carácter gratuito\, se desarrollará durante los meses de marzo\, abril y mayo\, con clases los martes y jueves en horario de 18:00 a 20:00 horas. \nEl taller propone una formación dinámica y variada que combina baile moderno\, jazz\, hip hop y danza contemporánea\, estilos que favorecen el desarrollo de la coordinación\, la creatividad\, la condición física y la expresión corporal. La actividad está dirigida a mayores de 12 años. \n📩 InscripciónLas personas interesadas pueden inscribirse a través del correo electrónico educacion@santabrigida.es \nEsta iniciativa forma parte de la programación de actividades de Participación Ciudadana del Ayuntamiento de Santa Brígida\, gracias a la subvención otorgada por la Consejería de Juventud y Educación del Cabildo de Gran Canaria.
URL:https://eventos.santabrigida.es/eventos/clases-de-baile-moderno-inscribete/
LOCATION:Espacio Joven Municipal\, Parque Municipal\, Santa Brígida\, Las Palmas\, 35300\, España
ATTACH;FMTTYPE=image/jpeg:https://eventos.santabrigida.es/wp-content/uploads/2026/02/Participacion.jpeg
END:VEVENT
BEGIN:VEVENT
DTSTART;TZID=UTC:20260304T100000
DTEND;TZID=UTC:20260409T120000
DTSTAMP:20260420T193255
CREATED:20260227T102331Z
LAST-MODIFIED:20260410T124435Z
UID:10001278-1772618400-1775736000@eventos.santabrigida.es
SUMMARY:Programa formativo gratuito de Inclusión Digital
DESCRIPTION:El Ayuntamiento de Santa Brígida pone en marcha el programa IncluDigital\, una iniciativa de formación gratuita dirigida a personas mayores de 18 años con el objetivo de mejorar sus competencias digitales y reforzar su empleabilidad en un entorno cada vez más tecnológico. \nBajo el lema El mundo cambió a digital\, ¿y tú?\, el proyecto ofrece formación práctica en herramientas digitales básicas y habilidades para el acceso al empleo\, contribuyendo a reducir la brecha digital y favorecer la inclusión social. \nLa formación tendrá lugar en la Biblioteca Municipal\, se desarrollará todos los miércoles\, del 4 de marzo al 22 de abril\, con una sesión semanal. El programa consta de 7 sesiones\, con una duración de dos horas cada una\, en horario de 10:00 a 12:00 horas. \nLas personas interesadas pueden inscribirse a través del código QR disponible en el cartel informativo o solicitar más información llamando al 673 321 345 o escribiendo al correo electrónico tribarte.educacion@gmail.com. \nFinancia el Gobierno de Canarias\, a través de la Dirección General de Servicios Sociales e Inmigración\, y se enmarca dentro de las acciones municipales orientadas a mejorar la capacitación digital de la ciudadanía.
URL:https://eventos.santabrigida.es/eventos/programa-formativo-gratuito-de-inclusion-digital/
LOCATION:Biblioteca Municipal Francisco Morales Padrón\, Calle Calvario\, Santa Brígida\, Las Palmas\, 35300
ATTACH;FMTTYPE=image/png:https://eventos.santabrigida.es/wp-content/uploads/2026/02/Formacion-digital.png
END:VEVENT
BEGIN:VEVENT
DTSTART;TZID=UTC:20260305T070000
DTEND;TZID=UTC:20260305T200000
DTSTAMP:20260420T193255
CREATED:20260117T073833Z
LAST-MODIFIED:20260214T065652Z
UID:10001234-1772694000-1772740800@eventos.santabrigida.es
SUMMARY:la AEMET explica los fenómenos meteorológicos en Santa Brígida
DESCRIPTION:La Biblioteca Pública de Santa Brígida acoge el 5 de marzo\, a las 19:00 horas\, la conferencia titulada El tiempo en Canarias. Fenómenos meteorológicos y cómo estar bien informado” una charla divulgativa dirigida al público general y centrada en la comprensión del clima y del tiempo atmosférico en el Archipiélago. \nLa conferencia será impartida por José Antonio Monreal Martínez\, Técnico Superior de Meteorología de la Agencia Estatal de Meteorología (AEMET)\, adscrito a la Delegación Territorial de AEMET en Canarias. Monreal Martínez cuenta con una amplia trayectoria profesional en el ámbito de la predicción\, la observación meteorológica y el estudio del clima\, así como una destacada labor divulgativa relacionada con los fenómenos atmosféricos que afectan a las Islas. \nDurante la charla se abordarán\, de manera clara y accesible\, los principales elementos que determinan el clima de Canarias y cómo estos influyen en el tiempo que se registra habitualmente en el territorio insular. Asimismo\, se explicarán los riesgos asociados a determinadas situaciones meteorológicas adversas\, ayudando a diferenciar conceptos clave como aviso meteorológico y alerta\, fundamentales para una correcta interpretación de la información oficial. \nLa ponencia incluirá también una explicación del trabajo que desarrolla AEMET\, tanto en el estudio del clima como en las tareas de predicción y observación meteorológica. En este contexto\, se hará especial hincapié en cómo acceder a la información meteorológica a través de Internet\, identificar fuentes fiables y saber interpretar correctamente las previsiones para conocer qué tiempo va a hacer y dónde consultarlo. \nEsta actividad se enmarca dentro de la programación cultural y divulgativa de la Concejalía de Cultura que dirige Avelina Fernández Manrique de Lara. \nNota: la entrada es libre hasta completar aforo.
URL:https://eventos.santabrigida.es/eventos/la-aemet-explica-los-fenomenos-meteorologicos-en-la-biblioteca/
LOCATION:Biblioteca Municipal Francisco Morales Padrón\, Calle Calvario\, Santa Brígida\, Las Palmas\, 35300
ATTACH;FMTTYPE=image/jpeg:https://eventos.santabrigida.es/wp-content/uploads/2026/01/WhatsApp-Image-2026-01-16-at-20.07.29.jpeg
END:VEVENT
END:VCALENDAR