BEGIN:VCALENDAR
VERSION:2.0
PRODID:-//Eventos - ECPv6.10.3//NONSGML v1.0//EN
CALSCALE:GREGORIAN
METHOD:PUBLISH
X-WR-CALNAME:Eventos
X-ORIGINAL-URL:https://eventos.santabrigida.es
X-WR-CALDESC:Eventos para Eventos
REFRESH-INTERVAL;VALUE=DURATION:PT1H
X-Robots-Tag:noindex
X-PUBLISHED-TTL:PT1H
BEGIN:VTIMEZONE
TZID:UTC
BEGIN:STANDARD
TZOFFSETFROM:+0000
TZOFFSETTO:+0000
TZNAME:UTC
DTSTART:20260101T000000
END:STANDARD
END:VTIMEZONE
BEGIN:VEVENT
DTSTART;TZID=UTC:20260201T073000
DTEND;TZID=UTC:20270201T233000
DTSTAMP:20260420T175049
CREATED:20260202T172116Z
LAST-MODIFIED:20260216T073732Z
UID:10001253-1769931000-1801524600@eventos.santabrigida.es
SUMMARY:Gymkana digital ‘La Batalla del Batán’
DESCRIPTION:🎲✨ Gymkana Digital en Santa Brígida📍 Punto de partida: Oficina de Turismo (escanea el QR)🔍 12 enigmas\, historia y diversión. \nEncontrar un símbolo oculto en un escudo de piedra\, descifrar el significado de una placa o descubrir qué hecho histórico conmemora una fachada son algunos de los retos que propone La Batalla del Batán\, la nueva gymkana digital que el Ayuntamiento de Santa Brígida pone en marcha para acercar a residentes y visitantes la historia y el patrimonio del municipio de una forma didáctica y entretenida. La experiencia se inicia escaneando el código QR disponible en la cartelería ubicada en la Oficina de Turismo\, punto de partida del recorrido. \nImpulsada por la Concejalía de Turismo que dirige Carmen Juez\, esta propuesta lúdico-turística está pensada para todos los públicos y combina turismo\, aprendizaje y entretenimiento\,  integrando el recorrido con el descubrimiento de su historia. \nLa experiencia discurre por el entramado histórico de la villa\, conectando plazas\, la iglesia\, casas señoriales y espacios culturales: un itinerario autoguiado de una hora\, en el que se deberá resolver acertijos relacionados con lugares\, elementos arquitectónicos y episodios de la historia local. \n¿Cómo funciona? \nLa gymkana está compuesta por 12 enigmas que se resuelven desde el móvil. Es gratuita\, no requiere descargar aplicaciones ni realizar reservas previas\, y puede realizarse desde cualquier dispositivo con conexión a internet. \nCada enigma se desbloquea al llegar al punto indicado y ofrece pistas que nos invitan a observar con atención el entorno. Cada prueba está vinculada a hechos\, personajes o lugares emblemáticos de Santa Brígida y\, a medida que se avanza\, el juego guía al participante por el casco histórico. \nEl recorrido\, de unos 1\,1 kilómetros\, está organizado en etapas temáticas: la historia de la Batalla del Batán\, personajes relevantes del pasado satauteño\, la arquitectura tradicional\, las tradiciones y oficios locales\, las leyendas y mitos populares\, así como los paisajes que definen el territorio\, mientras se superan preguntas y retos interactivos. \nLa dinámica gamificada facilita la participación de personas de todas las edades\, ofreciendo una experiencia ideal para familias\, grupos\, centros educativos y visitantes individuales. \nLa gymkana\, que toma su nombre de uno de los episodios históricos más significativos de Santa Brígida\, la defensa de la población frente a las incursiones neerlandesas en 1599\, acercará al participante a los relatos que han forjado el carácter de la Villa. \n 
URL:https://eventos.santabrigida.es/eventos/santa-brigida-estrena-la-gymkana-la-batalla-del-batan/
LOCATION:Casco histórico\, España
ATTACH;FMTTYPE=image/jpeg:https://eventos.santabrigida.es/wp-content/uploads/2026/02/WhatsApp-Image-2026-02-16-at-07.35.55.jpeg
END:VEVENT
BEGIN:VEVENT
DTSTART;TZID=UTC:20260224T180000
DTEND;TZID=UTC:20270101T200000
DTSTAMP:20260420T175049
CREATED:20260224T104934Z
LAST-MODIFIED:20260225T095350Z
UID:10001273-1771956000-1798833600@eventos.santabrigida.es
SUMMARY:Festejos impulsa la creación de una murga en Santa Brígida
DESCRIPTION:El área de Festejos del Ayuntamiento de Santa Brígida ha iniciado el proceso para la creación de una murga en el municipio. La iniciativa está dirigida a personas interesadas en formar parte de un proyecto popular que combine música y humor\, y que represente a Santa Brígida en los distintos actos y encuentros carnavaleros. \nDesde el Ayuntamiento se anima a vecinos y vecinas a sumarse a esta propuesta abierta\, concebida como un espacio de expresión artística\, convivencia y diversión. \nLas personas interesadas pueden formalizar su inscripción a través del correo electrónico festejos@santabrigida.es
URL:https://eventos.santabrigida.es/eventos/festejos-impulsa-la-creacion-de-una-murga-en-santa-brigida/
LOCATION:Santa Brígida
ATTACH;FMTTYPE=image/jpeg:https://eventos.santabrigida.es/wp-content/uploads/2026/02/Murga.jpeg
END:VEVENT
BEGIN:VEVENT
DTSTART;TZID=UTC:20260225T050000
DTEND;TZID=UTC:20261130T190000
DTSTAMP:20260420T175049
CREATED:20260225T090743Z
LAST-MODIFIED:20260227T095449Z
UID:10001276-1771995600-1796065200@eventos.santabrigida.es
SUMMARY:Yoga Terapéutico para mujeres
DESCRIPTION:El Ayuntamiento de Santa Brígida\, a través del área de Igualdad\, pone en marcha el Taller de Bienestar Emocional y Yoga Terapéutico para Mujeres: espacio de recuperación y sororidad\, una iniciativa pensada para el autocuidado\, la gestión emocional y el fortalecimiento de redes de apoyo entre mujeres del municipio. \nLa actividad\, de carácter gratuito\, se desarrollará los lunes por la tarde\, de marzo a noviembre\, ofreciendo un espacio continuado y seguro donde trabajar el bienestar físico y emocional mediante técnicas de yoga terapéutico\, respiración consciente y dinámicas de acompañamiento grupal. \nEste año\, el taller se impartirá en dos localizaciones para facilitar el acceso a vecinas de distintas zonas del municipio\, en el Casco\, en el Aula Formativa de Extensión Agraria (C/ Acequia\, s/n)\, y en La Atalaya (por determinar). \nDesde el área de Igualdad se subraya la importancia de crear espacios de cuidado sostenido que contribuyan a mejorar la calidad de vida de las mujeres\, promoviendo hábitos saludables\, el equilibrio emocional y el apoyo mutuo. \nInscripciónEnviar un correo a igualdad@santabrigida.es adjuntando este formulario debidamente rellenado.
URL:https://eventos.santabrigida.es/eventos/yoga-terapeutico-para-mujeres/
LOCATION:Santa Brígida
ATTACH;FMTTYPE=image/jpeg:https://eventos.santabrigida.es/wp-content/uploads/2026/02/WhatsApp-Image-2026-02-27-at-09.50.20.jpeg
END:VEVENT
BEGIN:VEVENT
DTSTART;TZID=UTC:20260406T080000
DTEND;TZID=UTC:20260430T170000
DTSTAMP:20260420T175049
CREATED:20260410T103831Z
LAST-MODIFIED:20260410T111834Z
UID:10001312-1775462400-1777568400@eventos.santabrigida.es
SUMMARY:Concurso de Fotografía Digital
DESCRIPTION:La Asociación Drago de Sataute abre la convocatoria de concursos 2026 con la segunda edición del Concurso de Fotografía Digital Rincones de Sataute \nEs importante leer detenidamente las bases para cumplir con todos los requisitos generales y formales\, así como con los plazos establecidos. \nDel 6 al 30 de abril: periodo en el que deberán realizarse las fotografías. \nDel 16 al 30 de abril: plazo de inscripción y entrega de las imágenes realizadas. Durante estos días estará habilitado el formulario de participación. \nLas bases y el formulario de inscripción pueden consultarse en  CONCURSOS 2026.
URL:https://eventos.santabrigida.es/eventos/concurso-de-fotografia-digital-rincones-de-sataute/
LOCATION:Santa Brígida
ATTACH;FMTTYPE=image/png:https://eventos.santabrigida.es/wp-content/uploads/2026/04/CARTEL-OK-BLOG.png
END:VEVENT
BEGIN:VEVENT
DTSTART;TZID=UTC:20260410T090000
DTEND;TZID=UTC:20260425T190000
DTSTAMP:20260420T175049
CREATED:20260402T063758Z
LAST-MODIFIED:20260402T063927Z
UID:10001302-1775811600-1777143600@eventos.santabrigida.es
SUMMARY:Santa Brígida celebra el Día del Libro
DESCRIPTION:El municipio de Santa Brígida se suma a la celebración del Día del Libro con una variada programación cultural que se desarrollará a lo largo del mes de abril\, combinando actividades literarias\, familiares y participativas en distintos espacios municipales. La iniciativa busca fomentar el hábito lector y acercar la literatura a la ciudadanía desde edades tempranas. \nLa agenda arranca el viernes\, 10 de abril a las 17:00 horas en la Biblioteca Pública Municipal\, con un encuentro de narración oral a cargo de Elisabet Espín. Esta sesión de cuentacuentos propone un espacio cercano y dinámico en el que la palabra hablada se convierte en vehículo de imaginación\, tradición y aprendizaje. \nEl programa continúa el jueves\, 16 de abril a las 19:00 horas en el Centro Cultural\, con la presentación del libro Casa Winter Cofete. Este acto permitirá al público conocer de primera mano la obra\, su proceso creativo y dialogar en torno a su contenido\, en una cita pensada especialmente para amantes de la lectura y la historia. \nEl viernes\, 24 de abril\, a las 17:00 horas\, la Biblioteca Pública Municipal volverá a ser escenario de actividad con la propuesta Cuentos con chocolate\, una iniciativa que combina literatura y convivencia en un ambiente distendido y familiar\, pensada para disfrutar de la lectura de una forma sensorial y compartida. \nEl punto culminante llegará el sábado\, 25 de abril\, con la celebración de la Feria del Libro en el Parque Municipal\, en horario de 09:00 a 18:30 horas. Durante toda la jornada\, el espacio acogerá firmas de libros\, talleres infantiles\, presentaciones literarias y casetas de librerías y editoriales\, convirtiéndose en un punto de encuentro para lectores\, autores y profesionales del sector. \nLa jornada concluirá a las 18:00 horas en el Centro Cultural con la representación de teatro familiar El niño de la media luna\, una propuesta escénica que pone el broche final a una programación diseñada para integrar cultura\, ocio y participación ciudadana. \nCon este conjunto de actividades\, la Concejalía de Cultura que dirige Avelina Fernández Manrique de Lara\, reafirma su compromiso con la promoción cultural y la dinamización de espacios públicos a través de la lectura\, consolidando el Día del Libro como una cita destacada en el calendario municipal.
URL:https://eventos.santabrigida.es/eventos/santa-brigida-celebra-el-dia-del-libro-2/
LOCATION:Casco Santa Brígida
ATTACH;FMTTYPE=image/jpeg:https://eventos.santabrigida.es/wp-content/uploads/2026/04/010.jpeg
END:VEVENT
BEGIN:VEVENT
DTSTART;TZID=UTC:20260410T090000
DTEND;TZID=UTC:20260502T200000
DTSTAMP:20260420T175049
CREATED:20260410T103027Z
LAST-MODIFIED:20260410T103121Z
UID:10001311-1775811600-1777752000@eventos.santabrigida.es
SUMMARY:La Sala Lola Massieu acoge la inquietante obra de Germán Páez
DESCRIPTION:La Sala Lola Massieu inaugura mañana\, 10 de abril\, a las 19:00 horas la exposición Paisajes insulares distópicos del artista lanzaroteño Germán Páez\, cuya obra combina fotografía y herramientas de Inteligencia Artificial (IA) con un enfoque crítico y mordaz sobre el modelo de consumo\, el turismo masivo\, o la sobreexplotación urbana que transforma el paisaje insular. \nLa muestra\, organizada por el Centro de Artes Plásticas de la Consejería de Cultura del Cabildo de Gran Canaria\, dentro del circuito de arte Itineraria\, forma parte de la programación de abril de la Concejalía de Cultura del Ayuntamiento de Santa Brígida. \nA lo largo de su carrera\, Germán Páez ha combinado fotografía\, land art y arte conceptual. Desde sus inicios\, se interesó por las corrientes informalistas\, la obra de creadores como Millares\, Tàpies o Saura\, para posteriormente adentrarse en el arte conceptual y el neodadaísmo inspirado en Yves Klein y Piero Manzoni\, hasta su fotografía urbana más reciente. \nPáez utiliza tanto fotografía tradicional como técnicas digitales como la IA\, reinterpretando la realidad visual y defendiendo la capacidad del autor dirigir el proceso creativo. \nVisitas guiadas y talleres \nEl artista ofrecerá una visita guiada el sábado\, 18 de abril a las 11:00 horas\, para quienes deseen conocer de cerca la elaboración de la serie y los intereses creativos que la motivan (no hace falta inscripción). Además\, el 16 de abril a las 18:00 horas se celebrará un taller para mayores de 16 años\, previa inscripción en cultura@santabrigida.es. \nLa exposición podrá visitarse hasta el 2 de mayo. \n 
URL:https://eventos.santabrigida.es/eventos/la-sala-lola-massieu-acoge-la-inquietante-obra-de-german-paez/
LOCATION:SALA DE EXPOSICIONES LOLA MASSIEU\, Francisco Morales Padrón s/n\, Santa Brígida\, Las Palmas\, 35300
ATTACH;FMTTYPE=image/jpeg:https://eventos.santabrigida.es/wp-content/uploads/2026/04/Cartel.jpg
END:VEVENT
BEGIN:VEVENT
DTSTART;TZID=UTC:20260415T090000
DTEND;TZID=UTC:20260511T200000
DTSTAMP:20260420T175049
CREATED:20260411T081409Z
LAST-MODIFIED:20260411T081707Z
UID:10001315-1776243600-1778529600@eventos.santabrigida.es
SUMMARY:‘Retratar para resistir’\, una impactante muestra sobre cómo se sienten hoy las mujeres
DESCRIPTION:La presión estética y social\, la violencia\, la invisibilidad\, la falta de tiempo o la excesiva carga de responsabilidades son algunos de los temas comunes que preocupan a muchas mujeres hoy en día. Así se refleja en ‘Retratar para resistir’\, la exposición que reúne fotografías realizadas durante unos talleres sobre perspectiva de género y diversidad que organizó el Gobierno de Canarias y que recorre ahora varias islas. \nLa primera parada será en la Biblioteca de Santa Brígida cuya inauguración tendrá lugar este miércoles\, 15 de abril\, a las 19.00 horas. \nLos talleres fueron impartidos por iniciativa de la Unidad de Igualdad y Diversidad del Instituto Canario de Desarrollo Cultural (ICDC)\, y desarrollados a finales de 2025 en varias islas\, con carácter gratuito. En ellos se invitaban a reflexionar sobre cómo se sentían retratadas las mujeres\, entre otros colectivos vulnerables\, y si las narrativas continúan repitiéndose\, con la idea de plasmarlo en las sesiones fotográficas formativas. \nEl resultado de estos trabajos en torno a la representación del género\, los cuerpos y la diversidad podrá verse ahora en forma de exposición\, que se presenta bajo el título de ‘Retratar para resistir: Fotografía participativa con enfoque de género e interculturalidad’. \nGénero\, cuerpo y diversidad \nTodas las obras se han desarrollado siguiendo un enfoque conceptual que pretende utilizar la imagen como instrumento para expresar ideas o emociones. El proyecto creó un espacio seguro en el que las mujeres y disidencias pudieron reflexionar en torno a la representación visual del género\, los cuerpos y la diversidad. La crítica social encuentra cabida en unas fotografías que se expanden\, rompen las normas y abrazan la inclusividad. \nLos talleres fueron impartidos por tres profesionales de la fotografía y el arte: Asiria Álvarez\, diseñadora gráfica con perspectiva de género y fotógrafa; Nadia Martín\, periodista\, fotógrafa y activista social y Adriana Sandec\, artista plástica y fotógrafa. \nSus alumnas\, mediante la fotografía participativa\, han contribuido de manera significativa al fortalecimiento del tejido cultural de sus territorios. Cada obra es un diálogo con la comunidad\, un paso hacia una realidad más inclusiva. A través de este recorrido visual\, el público podrá cuestionar lo establecido y ocupar simbólicamente su territorio desde una mirada propia y consciente. \nReconocer las diversas identidades es esencial para construir una representación justa y plural en nuestro ámbito artístico y social. Esta exposición reúne las inquietudes e historias de sus creadoras\, visibiliza entornos habitualmente silenciados y resignifica experiencias vitales que habían quedado al margen. Es\, en definitiva\, una oportunidad perfecta para reivindicar a través de la cámara nuevas formas de habitar aquellos espacios que la normatividad ha limitado. \nLa exposición se podrá visitar hasta el 11 de mayo.
URL:https://eventos.santabrigida.es/eventos/retratar-para-resistir-una-impactante-muestra-sobre-como-se-sienten-hoy-las-mujeres/
LOCATION:Biblioteca Municipal Francisco Morales Padrón\, Calle Calvario\, Santa Brígida\, Las Palmas\, 35300
ATTACH;FMTTYPE=image/jpeg:https://eventos.santabrigida.es/wp-content/uploads/2026/04/AF_ExpoRetrato-grancanaria.jpg
END:VEVENT
BEGIN:VEVENT
DTSTART;TZID=UTC:20260423T183000
DTEND;TZID=UTC:20260423T193000
DTSTAMP:20260420T175049
CREATED:20260416T134417Z
LAST-MODIFIED:20260416T134417Z
UID:10001320-1776969000-1776972600@eventos.santabrigida.es
SUMMARY:Concierto del Aula de Flauta Travesera en el Centro Cultural
DESCRIPTION:El jueves 23 de abril\, la Escuela Municipal de Música de Santa Brígida celebrará en el Centro Cultural\, a las 18:30 horas\, un concierto protagonizado por el aula de flauta travesera y el alumnado que finaliza ciclo en la asignatura de Lenguaje Musical. \nEn la actuación participarán 13 estudiantes de flauta travesera y 30 de Lenguaje Musical\, quienes ofrecerán un recorrido musical por distintas épocas y estilos\, desde el Barroco hasta la actualidad\, pasando por el Clasicismo y el Romanticismo. \nLa Concejalía de Educación que dirige Adrián García Armas y la Escuela Municipal de Música reafirman su compromiso con la educación musical. \nNota: la entrada es de carácter libre.
URL:https://eventos.santabrigida.es/eventos/concierto-del-aula-de-flauta-travesera-en-el-centro-cultural/
LOCATION:CENTRO CULTURAL\, C. Nueva\, Santa Brígida\, Las Palmas\, 35300\, España
ATTACH;FMTTYPE=image/jpeg:https://eventos.santabrigida.es/wp-content/uploads/2026/04/CartelAudicionFlauta_23-04-26-2-1.jpg
END:VEVENT
BEGIN:VEVENT
DTSTART;TZID=UTC:20260423T190000
DTEND;TZID=UTC:20260423T200000
DTSTAMP:20260420T175049
CREATED:20260411T090942Z
LAST-MODIFIED:20260411T090942Z
UID:10001317-1776970800-1776974400@eventos.santabrigida.es
SUMMARY:Actas en honor a Sánchez Robayna
DESCRIPTION:Con motivo de su 250º aniversario\, la Real Sociedad Económica de Amigos del País de Gran Canaria\, junto al Ayuntamiento de Santa Brígida\, presentará el próximo jueves 23 de abril a las 19:00 horas\, en la Biblioteca Municipal\, el libro Magisterio Sintáctico: Actas del ciclo en torno a Andrés Sánchez Robayna\, en el marco de la Feria del Libro. \nLa obra rinde homenaje a uno de los poetas\, ensayistas y traductores más insignes de las letras españolas contemporáneas\, Premio Nacional de Poesía por La roca y catedrático de la Universidad de La Laguna\, cuya labor al frente de la revista Syntaxis y sus traducciones de autores como Wallace Stevens o Paul Valéry han sido fundamentales para conectar la cultura insular con la estética internacional. \nLa presentación contará con una mesa integrada por la concejal de Cultura\, Avelina Fernández Manrique de Lara\, el director de la Real Sociedad Económica de Amigos del País de Gran Canaria\, José Joaquín Díaz de Aguilar\, el filólogo\, profesor y crítico literario Victoriano Santana Sanjurjo y el editor Jorge Liria\, además de la participación de destacados intelectuales como Miguel Martinón\, Carlos Brito Díaz\, Jesús Díaz Armas\, Francisco León\, Alejandro Krawietz y Samir Delgado. \nMás que una recopilación académica\, este volumen celebra el legado de un autor que ha situado a Canarias en el epicentro del diálogo universal.
URL:https://eventos.santabrigida.es/eventos/actas-en-honor-a-sanchez-robayna/
LOCATION:Biblioteca Municipal Francisco Morales Padrón\, Calle Calvario\, Santa Brígida\, Las Palmas\, 35300
ATTACH;FMTTYPE=image/jpeg:https://eventos.santabrigida.es/wp-content/uploads/2026/04/PRESENTACION-DEL-LIBRO-DE-SANCHEZ-ROBAYNA-23_04_2026-scaled.jpg
END:VEVENT
BEGIN:VEVENT
DTSTART;TZID=UTC:20260423T190000
DTEND;TZID=UTC:20260423T203000
DTSTAMP:20260420T175049
CREATED:20260411T084207Z
LAST-MODIFIED:20260411T084220Z
UID:10001316-1776970800-1776976200@eventos.santabrigida.es
SUMMARY:Jornada dedicada a la historia y el arte del cuchillo canario
DESCRIPTION:En el marco del ciclo Exposiciones con IDENTIDAD 2026\, la Asociación LOZA y el colectivo La Vinca Ecologistas en Acción presentan este 23 de abril una jornada dedicada a uno de los símbolos más emblemáticos del patrimonio artesanal de las islas: el cuchillo canario. Bajo el lema Historia\, Tradición y Arraigo\, el evento busca poner en valor la maestría técnica y el significado cultural de esta pieza. \nLa jornada se desarrolará en el Espacio Juan Sixto Muñoz (C/ Cura Navarro\, 1)\, de La Atalaya\, y comenzará a las 19:00 horas con la presentación oficial de la exposición fotográfica de Luis Rodríguez Déniz. La muestra captura\, a través de la lente del artista\, la esencia estética y los detalles minuciosos que convierten a estas herramientas en verdaderas joyas de la artesanía canaria. Este proyecto fotográfico cuenta con el respaldo de La Vinca Ecologistas en Acción\, reforzando el vínculo entre la identidad territorial y la conservación del patrimonio. \nA las 19:30 horas\, el foco se desplazará hacia el conocimiento compartido. El reconocido coleccionista Bernabé Quintana Alfonso ofrecerá una charla en la que profundizará en la evolución histórica y el arraigo social del cuchillo canario. \nDemostración en vivo\nComo broche de oro\, la jornada incluirá un bloque dedicado a la técnica y la práctica. Los asistentes podrán presenciar el proceso de elaboración de un cuchillo de la mano de Juan Francisco Rodríguez Hernández\, permitiendo al público apreciar de cerca la complejidad del trabajo de herrería y la delicadeza de la decoración de los mangos (cabos). \nColaboran el Cabildo de Gran Canaria\, el Ayuntamiento de Santa Brígida y Casa Cueva Juansito\, entre otros.
URL:https://eventos.santabrigida.es/eventos/jornada-dedicada-a-la-historia-y-el-arte-del-cuchillo-canario/
LOCATION:Espacio Juan Sixto Muñoz
ATTACH;FMTTYPE=image/jpeg:https://eventos.santabrigida.es/wp-content/uploads/2026/04/WhatsApp-Image-2026-04-10-at-12.45.44.jpeg
END:VEVENT
END:VCALENDAR