BEGIN:VCALENDAR
VERSION:2.0
PRODID:-//Eventos - ECPv6.10.3//NONSGML v1.0//EN
CALSCALE:GREGORIAN
METHOD:PUBLISH
X-WR-CALNAME:Eventos
X-ORIGINAL-URL:https://eventos.santabrigida.es
X-WR-CALDESC:Eventos para Eventos
REFRESH-INTERVAL;VALUE=DURATION:PT1H
X-Robots-Tag:noindex
X-PUBLISHED-TTL:PT1H
BEGIN:VTIMEZONE
TZID:UTC
BEGIN:STANDARD
TZOFFSETFROM:+0000
TZOFFSETTO:+0000
TZNAME:UTC
DTSTART:20240101T000000
END:STANDARD
END:VTIMEZONE
BEGIN:VEVENT
DTSTART;TZID=UTC:20241115T080000
DTEND;TZID=UTC:20241122T233000
DTSTAMP:20260423T054938
CREATED:20241114T145815Z
LAST-MODIFIED:20241114T145815Z
UID:10000768-1731657600-1732318200@eventos.santabrigida.es
SUMMARY:Drago de Sataute presenta el Concurso de Fotografía ‘Mis rincones favoritos’
DESCRIPTION:Drago de Sataute invita a los amantes de la fotografía a participar en el concurso ‘Mis rincones favoritos’\, una iniciativa que busca resaltar los lugares más encantadores y singulares del municipio de Santa Brígida. \nBases\nCada participante podrá enviar hasta tres fotos en formato JPG/JPEG\, originales\, inéditas\, y sin retoques digitales\, permitiéndose tanto el formato en color como en blanco y negro\, al correo de la asociación (dragodesataute@gmail.com) del 15 al 22 de noviembre. \nEl concurso otorgará tres premios a las fotografías que mejor representen la temática y espíritu del concurso: \n\nPrimer Premio: 350 €\nSegundo Premio: 200 €\nTercer Premio: 150 €\n\nEl fallo se anunciará el 29 de noviembre\, y la entrega de premios se realizará en un acto público cuya fecha será comunicada próximamente.
URL:https://eventos.santabrigida.es/eventos/drago-de-sataute-presenta-el-concurso-de-fotografia-mis-rincones-favoritos/
LOCATION:Drago de Sataute\, España
CATEGORIES:Concurso
ATTACH;FMTTYPE=image/jpeg:https://eventos.santabrigida.es/wp-content/uploads/2024/11/WhatsApp-Image-2024-11-01-at-20.45.43.jpeg
END:VEVENT
END:VCALENDAR