BEGIN:VCALENDAR
VERSION:2.0
PRODID:-//Eventos - ECPv6.10.3//NONSGML v1.0//EN
CALSCALE:GREGORIAN
METHOD:PUBLISH
X-WR-CALNAME:Eventos
X-ORIGINAL-URL:https://eventos.santabrigida.es
X-WR-CALDESC:Eventos para Eventos
REFRESH-INTERVAL;VALUE=DURATION:PT1H
X-Robots-Tag:noindex
X-PUBLISHED-TTL:PT1H
BEGIN:VTIMEZONE
TZID:UTC
BEGIN:STANDARD
TZOFFSETFROM:+0000
TZOFFSETTO:+0000
TZNAME:UTC
DTSTART:20250101T000000
END:STANDARD
END:VTIMEZONE
BEGIN:VEVENT
DTSTART;TZID=UTC:20250606T090000
DTEND;TZID=UTC:20250615T210000
DTSTAMP:20260421T185657
CREATED:20250606T064016Z
LAST-MODIFIED:20250606T064016Z
UID:10001037-1749200400-1750021200@eventos.santabrigida.es
SUMMARY:Santa Brígida se viste de flores con Florabrígida 2025
DESCRIPTION:Este año\, Florabrígida presenta un carácter artístico excepcional\, una experiencia visual y sensorial que rinde homenaje a la belleza de la naturaleza\, la diversidad botánica y el arte floral en todas sus formas. \nLa inauguración tendrá lugar este viernes\, 6 de junio\, a las 21.00 horas en el Parque Municipal de la Villa\, justo después del tradicional Pregón que marcará el inicio de las Fiestas en honor a San Antonio de Padua 2025. \nDel 6 al 15 de junio\, de 09:00 a 21:00 horas\, vecinos\, vecinas y visitantes podrán sumergirse en un recorrido sensorial entre flores exóticas\, especies autóctonas e instalaciones artísticas que dialogan con el entorno natural. \nOrganiza el Ayuntamiento de Santa Brígida\, a través de la Concejalía de Parques y Jardines que dirige Adrián García Armas.
URL:https://eventos.santabrigida.es/eventos/santa-brigida-se-viste-de-flores-con-florabrigida-2025/
LOCATION:Parque Municipal\, Paseo Guiniguada\, Santa Brígida\, Las Palmas\, 35300\, España
CATEGORIES:Parques y Jardines
ATTACH;FMTTYPE=image/jpeg:https://eventos.santabrigida.es/wp-content/uploads/2025/06/WhatsApp-Image-2025-06-05-at-15.50.03.jpeg
END:VEVENT
END:VCALENDAR