BEGIN:VCALENDAR
VERSION:2.0
PRODID:-//Eventos - ECPv6.10.3//NONSGML v1.0//EN
CALSCALE:GREGORIAN
METHOD:PUBLISH
X-WR-CALNAME:Eventos
X-ORIGINAL-URL:https://eventos.santabrigida.es
X-WR-CALDESC:Eventos para Eventos
REFRESH-INTERVAL;VALUE=DURATION:PT1H
X-Robots-Tag:noindex
X-PUBLISHED-TTL:PT1H
BEGIN:VTIMEZONE
TZID:UTC
BEGIN:STANDARD
TZOFFSETFROM:+0000
TZOFFSETTO:+0000
TZNAME:UTC
DTSTART:20240101T000000
END:STANDARD
END:VTIMEZONE
BEGIN:VEVENT
DTSTART;TZID=UTC:20241008T160000
DTEND;TZID=UTC:20241008T180000
DTSTAMP:20260421T204142
CREATED:20241003T143827Z
LAST-MODIFIED:20241003T143827Z
UID:10000865-1728403200-1728410400@eventos.santabrigida.es
SUMMARY:‘¿Sabes a qué juegan? Aprendiendo a hacer una compra y un uso responsable de los videojuegos’
DESCRIPTION:El Ayuntamiento de Santa Brígida\, a través de su programa de Igualdad que dirige el concejal José Armengol\, lanza una serie de charlas formativas diseñadas para dar pautas y herramientas a familias y docentes en la detección y prevención de la ciberviolencia en los videojuegos. El acceso es de carácter libre y gratuito. \nLas charlas serán impartidas por Nira Santana\, referente dentro de la industria al combinar su pasión por los videojuegos con su compromiso en la lucha por la igualdad. Autora del estudio ‘Género\, Gamers y Videojuegos’ y experta en Diseño de Videojuegos por la Universidad de Las Palmas de Gran Canaria\, Santana ha realizado investigaciones pioneras sobre la situación de las jugadoras en la industria y es autora de varias guías\, entre ellas la ‘Guía Ciberigualdad’\, una herramienta para combatir la ciberviolencia en la tecnología. \n👥 Charlas para madres y padres\n🗓️ 8 de octubre\, de 16 a 18 horas.\n📍 Agencia de Extensión Agraria.\n▪️‘¿Sabes a qué juegan? Aprendiendo a hacer una compra y un uso responsable de los videojuegos’. \nEn esta sesión se abordará cómo algunos videojuegos pueden perpetuar roles y estereotipos de género que influyen negativamente en la actitud de los menores. Además\, se ofrecerá una explicación detallada sobre los sistemas de clasificación de videojuegos y se proporcionarán pautas para la gestión del tiempo de juego. Este conocimiento permitirá a los padres y madres tomar decisiones más informadas y fomentar un entorno de juego inclusivo y respetuoso en el hogar.
URL:https://eventos.santabrigida.es/eventos/sabes-a-que-juegan-aprendiendo-a-hacer-una-compra-y-un-uso-responsable-de-los-videojuegos/
LOCATION:Agencia de Extensión Agraria de Santa Brígida\, C/Acequia del Palmeral s/n\, Santa Brigida\, 35300\, España
CATEGORIES:Servicios Sociales
ATTACH;FMTTYPE=image/jpeg:https://eventos.santabrigida.es/wp-content/uploads/2024/10/WhatsApp-Image-2024-09-25-at-15.47.32.jpeg
END:VEVENT
END:VCALENDAR