BEGIN:VCALENDAR
VERSION:2.0
PRODID:-//Eventos - ECPv6.10.3//NONSGML v1.0//EN
CALSCALE:GREGORIAN
METHOD:PUBLISH
X-WR-CALNAME:Eventos
X-ORIGINAL-URL:https://eventos.santabrigida.es
X-WR-CALDESC:Eventos para Eventos
REFRESH-INTERVAL;VALUE=DURATION:PT1H
X-Robots-Tag:noindex
X-PUBLISHED-TTL:PT1H
BEGIN:VTIMEZONE
TZID:UTC
BEGIN:STANDARD
TZOFFSETFROM:+0000
TZOFFSETTO:+0000
TZNAME:UTC
DTSTART:20250101T000000
END:STANDARD
END:VTIMEZONE
BEGIN:VEVENT
DTSTART;TZID=UTC:20250512T180000
DTEND;TZID=UTC:20251229T193000
DTSTAMP:20260423T122854
CREATED:20250505T102339Z
LAST-MODIFIED:20250505T102339Z
UID:10001013-1747072800-1767036600@eventos.santabrigida.es
SUMMARY:Clases gratuitas de yoga para mujeres desde mayo a diciembre
DESCRIPTION:La Concejalía de Igualdad del Ayuntamiento de Santa Brígida\, que dirige el alcalde José Armengol\, pone en marcha clases gratuitas de yoga kundalini dirigidas exclusivamente a mujeres del municipio. Las sesiones estarán a cargo de maestras especializadas en yoga para mujeres del proyecto social Océano de Luz. \nLas clases comenzarán el lunes\, 12 de mayo y se impartirán cada lunes\, de 18:00 a 19:30 horas\, hasta el mes de diciembre. El lugar de encuentro será el Edificio de Extensión Agraria de Santa Brígida\, ubicado en la Calle Acequia del Palmeral\, s/n. \nEl yoga kundalini\, aunque está indicado para todas las personas\, ofrece beneficios especialmente significativos para las mujeres. Conocido como el «yoga de la conciencia»\, su práctica promueve una conexión profunda con la energía vital (Shakti)\, que en las filosofías tántricas y yóguicas se relaciona con lo femenino divino\, favorece el equilibrio hormonal y emocional\, aporta claridad mental y fortalece el sistema nervioso\, lo que permite afrontar los retos cotidianos con serenidad\, alegría y fortaleza. \nEsta disciplina no requiere una condición física previa\, ya que los ejercicios se adaptan a las necesidades de cada participante. Por ello\, todas las mujeres\, independientemente de su edad o forma física\, están invitadas a participar. \nEsta iniciativa tiene como objetivo fomentar el bienestar físico y emocional de las mujeres\, además de crear espacios de encuentro y autocuidado. La actividad se enmarca en el compromiso del Ayuntamiento de Santa Brígida con la promoción de la salud integral de las mujeres. \n  \nInscripción\nigualdad@santabrigida.es\n928 64 81 81 (ext. 0409 / 0410) \nO bien en el QR que aparece en el cartel \n 
URL:https://eventos.santabrigida.es/eventos/clases-gratuitas-de-yoga-para-mujeres-desde-mayo-a-diciembre/
LOCATION:Edificio de Extensión Agraria de Santa Brígida\, España
CATEGORIES:Igualdad
ATTACH;FMTTYPE=image/jpeg:https://eventos.santabrigida.es/wp-content/uploads/2025/05/Insta.jpeg
END:VEVENT
BEGIN:VEVENT
DTSTART;TZID=UTC:20250712T060000
DTEND;TZID=UTC:20250802T190000
DTSTAMP:20260423T122854
CREATED:20250628T141747Z
LAST-MODIFIED:20250628T141747Z
UID:10001083-1752300000-1754161200@eventos.santabrigida.es
SUMMARY:Jennyfer Cabrera Guerra presenta 'Lanarte' en la Sala Lola Massieu
DESCRIPTION:La artesana Jennyfer Cabrera Guerra\, inaugura el próximo 12 de julio su nueva exposición en la Sala Lola Massieu\, bajo el nombre ‘Lanarte II’. La muestra reúne una cuidada selección de piezas textiles elaboradas con técnicas tradicionales de telar\, que reflejan el profundo vínculo entre el arte y la cultura rural canaria. \nJennyfer Cabrera Guerra\, conocida por su dedicación a la conservación y transmisión del oficio artesanal del tejido\, presenta en esta exposición obras que combinan la tradición con la innovación. A través del uso de materiales reciclados y técnicas ancestrales\, la artista transmite un mensaje de sostenibilidad\, memoria y respeto por el entorno natural. \nLa exposición estará abierta al público desde el 12 de julio y se podrá visitar en el horario habitual de la sala Lola Massieu hasta el 2 de agosto. \nLa iniciativa forma parte de la programación cultural del Ayuntamiento de Santa Brígida y pretende fortalecer la promoción de las artes tradicionales canarias\, acercándolas a un público amplio y diverso.
URL:https://eventos.santabrigida.es/eventos/jennyfer-cabrera-guerra-presenta-lanarte-en-la-sala-lola-massieu/
LOCATION:SALA DE EXPOSICIONES LOLA MASSIEU\, Francisco Morales Padrón s/n\, Santa Brígida\, Las Palmas\, 35300
CATEGORIES:Cultura y Educación
ATTACH;FMTTYPE=image/jpeg:https://eventos.santabrigida.es/wp-content/uploads/2025/06/012-Exposicion-Jennyfer-Cabrera.jpg
END:VEVENT
BEGIN:VEVENT
DTSTART;TZID=UTC:20250725T080000
DTEND;TZID=UTC:20250803T130000
DTSTAMP:20260423T122854
CREATED:20250711T112920Z
LAST-MODIFIED:20250711T113057Z
UID:10001096-1753430400-1754226000@eventos.santabrigida.es
SUMMARY:Santa Brígida celebra sus Fiestas Patronales
DESCRIPTION:El Ayuntamiento de Santa Brígida invita a la ciudadanía a disfrutar de las Fiestas Patronales 2025. Desde el 25 de julio hasta el 3 de agosto\, vecinos\, vecinas y visitantes podrán disfrutar de una programación que no solo celebra una fiesta; celebra su identidad\, su historia y su gente. \nPROGRAMA (descargar) \n \n\n  \n 
URL:https://eventos.santabrigida.es/eventos/santa-brigida-celebra-sus-fiestas-patronales/
LOCATION:Casco de Santa Brígida
CATEGORIES:Festejos
ATTACH;FMTTYPE=image/jpeg:https://eventos.santabrigida.es/wp-content/uploads/2025/07/1.jpg
END:VEVENT
BEGIN:VEVENT
DTSTART;TZID=UTC:20250725T080000
DTEND;TZID=UTC:20250803T233000
DTSTAMP:20260423T122854
CREATED:20250725T125907Z
LAST-MODIFIED:20250725T125907Z
UID:10001104-1753430400-1754263800@eventos.santabrigida.es
SUMMARY:"EXPOSICIÓN DE MAQUETAS Y MINIATURAS"
DESCRIPTION:El Club municipal de mayores acoge con motivo de las fiestas patronales 2025\, desde el próximo lunes 28 de julio hasta el 3 de agosto . Una exposición de maquetas y miniaturas de Doña Alicia Guerra  López y sus alumn@s. No pierdan la oportunidad de visitarla \, para facilitar la visita a la misma se encuentra ubicada en la zona acristalada de nuestra cafetería\, es visible desde el exterior. \nSiendo una oportunidad única para disfrutar y conocer éste maravilloso mundo \, tan creativo como apasionante. \n 
URL:https://eventos.santabrigida.es/eventos/exposicion-de-maquetas-y-miniaturas/
LOCATION:Las Palmas
CATEGORIES:Acción Social,Club de Mayores
ATTACH;FMTTYPE=image/jpeg:https://eventos.santabrigida.es/wp-content/uploads/2025/07/1753447774119.jpg
END:VEVENT
BEGIN:VEVENT
DTSTART;VALUE=DATE:20250729
DTEND;VALUE=DATE:20250808
DTSTAMP:20260423T122854
CREATED:20250729T130058Z
LAST-MODIFIED:20250729T130058Z
UID:10001107-1753747200-1754611199@eventos.santabrigida.es
SUMMARY:AQUALAND
DESCRIPTION:Se abre el plazo de inscripción para la actividad  AQUALAND que se realizará el próximo día 7  de agosto entre las 09.30 y las 18.00 horas. Esta actividad está incluida dentro del programa de actividades «Sataute Joven 2025». \nSi estás interesado/a en participar\, descarga la inscripción adjunta y envíala a juventud@santabrigida.es con una copia del DNI del/a participante\, y si fuera menor de edad\, una copia del DNI del padre/madre/ tutor/a. Te contestaremos confirmándote la plaza o informándote que estás en reserva. \ninscripción menores aqualand \ninscripción menores aqualand pdf \ninscripción mayores de edad aqualand \ninscripción mayores de edad aqualand pdf \nLa actividad va dirigida para jóvenes satauteños/as entre los 12 años\, cumplidos o que los cumplan a lo largo del año 2025\, hasta los 30 años. Jóvenes de otros municipios de Gran Canaria que estén interesados/as en realizar la actividad formarán parte de una lista de reserva. El acceso se realizará teniendo en cuenta las plazas vacantes y por estricto orden de llegada de las inscripciones. \nEl plazo de inscripción se cierra el día 4 de agosto o cuando estén cubiertas todas las plazas ofertadas. \nLa actividad incluye transporte desde el Espacio Joven Municipal hasta el lugar donde se realizará la actividad\, material necesario para realizar la actividad\, monitores especializados\, seguro de accidentes y seguro de responsabilidad civil. \nEste proyecto se realiza gracias a la subvención concedida por  la Consejería de Juventud y Educación del Cabildo de Gran Canaria destinada para la colaboración y cooperación en materia de juventud 2025.\n¡Participa!\n#ayuntamientodesantabrigida\n#grancanariajoven\n#espaciojovenmunicipal\n#ocioytiempolibre\n#juventud
URL:https://eventos.santabrigida.es/eventos/aqualand/
LOCATION:Espacio Joven Municipal\, Parque Municipal\, Santa Brígida\, Las Palmas\, 35300\, España
CATEGORIES:Juventud
ATTACH;FMTTYPE=image/png:https://eventos.santabrigida.es/wp-content/uploads/2025/07/Taller-de-elaboracion-de-Comic-2.png
ORGANIZER;CN="Concejal%C3%ADa de Juventud":MAILTO:juventud@santabrigida.es
END:VEVENT
BEGIN:VEVENT
DTSTART;VALUE=DATE:20250805
DTEND;VALUE=DATE:20250815
DTSTAMP:20260423T122854
CREATED:20250805T125958Z
LAST-MODIFIED:20250805T125958Z
UID:10001116-1754352000-1755215999@eventos.santabrigida.es
SUMMARY:PÁDEL SURF
DESCRIPTION:Se abre el plazo de inscripción para la actividad  Pádel Surf que se realizará el próximo día 14 de agosto entre las 09.00 y las 14.00 horas. Esta actividad está incluida dentro del programa de actividades «Sataute Joven 2025». \nSi estás interesado/a en participar\, descarga la inscripción  adjunta y envíala a juventud@santabrigida.es con una copia del DNI del/a participante\, y si fuera menor de edad\, una copia del DNI del padre/madre/ tutor/a. Te contestaremos confirmándote la plaza o informándote que estás en reserva. \ninscripción menores padelsurf \ninscripción menores padelsurf pdf \ninscripción mayores de edad padelsurf \ninscripción mayores de edad padelsurf PDF \nLa actividad va dirigida para jóvenes satauteños/as entre los 12 años\, cumplidos o que los cumplan a lo largo del año 2025\, hasta los 30 años. Jóvenes de otros municipios de Gran Canaria que estén interesados/as en realizar la actividad formarán parte de una lista de reserva. El acceso se realizará teniendo en cuenta las plazas vacantes y por estricto orden de llegada de las inscripciones. \nEl plazo de inscripción se cierra el día 28 de julio o cuando estén cubiertas todas las plazas ofertadas. \nLa actividad incluye transporte desde el Espacio Joven Municipal hasta el lugar donde se realizará la actividad\, material necesario para realizar la actividad\, monitores especializados\, seguro de accidentes y seguro de responsabilidad civil. \nEste proyecto se realiza gracias a la subvención concedida por  la Consejería de Juventud y Educación del Cabildo de Gran Canaria destinada para la colaboración y cooperación en materia de juventud 2025.\n¡Participa!\n#ayuntamientodesantabrigida\n#grancanariajoven\n#espaciojovenmunicipal\n#ocioytiempolibre\n#juventud
URL:https://eventos.santabrigida.es/eventos/padel-surf-2/
LOCATION:Espacio Joven Municipal\, Parque Municipal\, Santa Brígida\, Las Palmas\, 35300\, España
CATEGORIES:Juventud
ATTACH;FMTTYPE=image/png:https://eventos.santabrigida.es/wp-content/uploads/2025/08/Taller-de-elaboracion-de-Comic.png
ORGANIZER;CN="Concejal%C3%ADa de Juventud":MAILTO:juventud@santabrigida.es
END:VEVENT
BEGIN:VEVENT
DTSTART;TZID=UTC:20250809T200000
DTEND;TZID=UTC:20250809T213000
DTSTAMP:20260423T122854
CREATED:20250731T121408Z
LAST-MODIFIED:20250731T123152Z
UID:10001115-1754769600-1754775000@eventos.santabrigida.es
SUMMARY:Los Gofiones inauguran las Fiestas de Pino Santo Alto 2025
DESCRIPTION:Pino Santo Alto da la bienvenida al mes de agosto con una de sus citas más esperadas: las Fiestas en Honor a la Virgen de la Salud 2025. Este año\, el grupo emblemático Los Gofiones será el encargado de inaugurar oficialmente las celebraciones con un concierto que promete emociones a flor de piel. \nPorque Los Gofiones no son solo música\, sino el hilo emocional del que puede tirar cualquier grancanario\, cualquier isleño. Cuentan con un reconocimiento transversal que trasciende edades\, géneros y modas. Y este 9 de agosto\, a partir de las 20:30 horas\, llenarán de sentimiento y tradición el escenario de Pino Santo Alto\, justo después del pregón inaugural a cargo de David Naranjo Ortega\, presentador del programa Tenderete de RTVE y coordinador del Instituto Canario de las Tradiciones. \nDel 9 al 17 de agosto\, el pago satauteño se convertirá así en epicentro de cultura\, devoción y pasión ecuestre con la celebración de la XXIX edición del Gran Día del Caballo y un completo programa de actividades para todos los públicos diseñada por la Comisión de Fiestas de Pino Santo Alto\, que agradece el compromiso de los vecinos y vecinas\, así como el apoyo del Cabildo de Gran Canaria\, el Ayuntamiento de Santa Brígida\, la Sociedad Municipal de Deportes y las casas comerciales colaboradoras\, que hacen posible esta celebración año tras año. \n 
URL:https://eventos.santabrigida.es/eventos/los-gofiones-inauguran-las-fiestas-de-pino-santo-alto-2025/
LOCATION:Iglesia de Pino Santo Alto\, España
CATEGORIES:Cultura y Educación
ATTACH;FMTTYPE=image/jpeg:https://eventos.santabrigida.es/wp-content/uploads/2025/07/WhatsApp-Image-2025-07-31-at-09.37.39-1.jpeg
END:VEVENT
BEGIN:VEVENT
DTSTART;VALUE=DATE:20250812
DTEND;VALUE=DATE:20250822
DTSTAMP:20260423T122854
CREATED:20250812T130102Z
LAST-MODIFIED:20250813T121029Z
UID:10001118-1754956800-1755820799@eventos.santabrigida.es
SUMMARY:Taller Calistenia
DESCRIPTION:Se abre el plazo de inscripción para la actividad  taller de Calistenia que se realizará los próximos días  de agosto entre las 12.30 y las 14.30 horas. Esta actividad está incluida dentro del programa de actividades «Sataute Joven 2025» \nSi estás interesado/a en participar\, descarga la inscripción del siguiente enlace  y envíala a juventud@santabrigida.es con una copia del DNI del/a participante\, y si fuera menor de edad\, una copia del DNI del padre/madre/ tutor/a. Te contestaremos confirmándote la plaza o informándote que estás en reserva. \ninscripción menores calistenia \ninscripción menores calistenia pdf \ninscripción mayores de edad calistenia \ninscripción mayores de edad calistenia pdf \nLa actividad va dirigida para jóvenes satauteños/as entre los 12 años\, cumplidos o que los cumplan a lo largo del año 2025\, hasta los 30 años. Jóvenes de otros municipios de Gran Canaria que estén interesados/as en realizar la actividad formarán parte de una lista de reserva. El acceso se realizará teniendo en cuenta las plazas vacantes y por estricto orden de llegada de las inscripciones. \nEl plazo de inscripción se cierra el día 18 de agosto o cuando estén cubiertas todas las plazas ofertadas. \nLa actividad incluye el material necesario para realizar la actividad\, monitores especializados\, seguro de accidentes y seguro de responsabilidad civil. \nEsta actividad se realiza gracias a la subvención concedida por @grancanariajoven la Consejería de Juventud y Educación del Cabildo de Gran Canaria destinada para la colaboración y cooperación en materia de juventud 2025 y a la colaboración de la Sociedad Municipal de Deportes de Santa Brígida.\n¡Participa!\n#ayuntamientodesantabrigida\n#grancanariajoven\n#espaciojovenmunicipal\n#ocioytiempolibre\n#juventud
URL:https://eventos.santabrigida.es/eventos/taller-calistenia/
LOCATION:Espacio Joven Municipal\, Parque Municipal\, Santa Brígida\, Las Palmas\, 35300\, España
CATEGORIES:Juventud
ATTACH;FMTTYPE=image/png:https://eventos.santabrigida.es/wp-content/uploads/2025/08/Taller-de-elaboracion-de-Comic-1.png
END:VEVENT
BEGIN:VEVENT
DTSTART;VALUE=DATE:20250819
DTEND;VALUE=DATE:20250829
DTSTAMP:20260423T122854
CREATED:20250819T125958Z
LAST-MODIFIED:20250819T125958Z
UID:10001124-1755561600-1756425599@eventos.santabrigida.es
SUMMARY:Multiaventura en la MONTAÑA
DESCRIPTION:Se abre el plazo de inscripción para la actividad  Multiaventura en la Montaña que se realizará el próximo día 28 de agosto entre las 08.30 y las 17.00 horas. Esta actividad está incluida dentro del programa de actividades «Sataute Joven 2025». \nSi estás interesado/a en participar\, descarga la inscripción en el enlace adjunto y envíala a juventud@santabrigida.es con una copia del DNI del/a participante\, y si fuera menor de edad\, una copia del DNI del padre/madre/ tutor/a. Te contestaremos confirmándote la plaza o informándote que estás en reserva. \ninscripción menores multiaventuras en la montaña \ninscripción menores multiaventuras en la montaña pdf \ninscripción mayores de edad multiaventuras en la montaña \ninscripción mayores de edad multiaventuras en la montaña pdf \nLa actividad va dirigida para jóvenes satauteños/as entre los 12 años\, cumplidos o que los cumplan a lo largo del año 2025\, hasta los 30 años. Jóvenes de otros municipios de Gran Canaria que estén interesados/as en realizar la actividad formarán parte de una lista de reserva. El acceso se realizará teniendo en cuenta las plazas vacantes y por estricto orden de llegada de las inscripciones. \nEl plazo de inscripción se cierra el día 25 de agosto o cuando estén cubiertas todas las plazas ofertadas. \nLa actividad incluye transporte desde el Espacio Joven Municipal hasta el lugar donde se realizará la actividad\, material necesario para realizar la actividad\, monitores especializados\, seguro de accidentes y seguro de responsabilidad civil. \nEste proyecto se realiza gracias a la subvención concedida por la Consejería de Juventud y Educación del Cabildo de Gran Canaria destinada para la colaboración y cooperación en materia de juventud 2025.\n¡Participa!\n#ayuntamientodesantabrigida\n#grancanariajoven\n#espaciojovenmunicipal\n#ocioytiempolibre\n#juventud
URL:https://eventos.santabrigida.es/eventos/multiaventura-en-la-montana/
LOCATION:Espacio Joven Municipal\, Parque Municipal\, Santa Brígida\, Las Palmas\, 35300\, España
CATEGORIES:Juventud
ATTACH;FMTTYPE=image/png:https://eventos.santabrigida.es/wp-content/uploads/2025/08/Taller-de-elaboracion-de-Comic-2.png
END:VEVENT
BEGIN:VEVENT
DTSTART;TZID=UTC:20250830T070000
DTEND;TZID=UTC:20250830T130000
DTSTAMP:20260423T122854
CREATED:20250717T110459Z
LAST-MODIFIED:20250717T110622Z
UID:10001101-1756537200-1756558800@eventos.santabrigida.es
SUMMARY:Santa Brígida prepara su caminata a Teror
DESCRIPTION:El Ayuntamiento de la Villa de Santa Brígida\, a través de las áreas de Festejos y Deportes\, organiza la tradicional ruta a la Basílica del Pino para 300 vecinos y vecinas. \nEste año\, la caminata a Teror tendrá lugar el 30 de agosto. Los vecinos y vecinas de la Villa que deseen participar podrán inscribirse a partir del 1 de agosto hasta el 27 de agosto -o hasta agotar plazas- en la Sociedad Municipal de Deportes. \nLos participantes partirán del casco antiguo de Santa Brígida a las 7:00 de la mañana del 30 de agosto\, desde la plaza de la Iglesia. Tras la salida\, comenzará la caminata hacia Pino Santo Alto\, donde se realizará una parada para desayunar. Se estima que el grupo llegará a Teror alrededor de las 11:00 horas\, donde podrán asistir a la Misa del Peregrino que se celebrará aproximadamente a las 11:30 en la Basílica del Pino. \nEl regreso de los participantes que deseen volver con el grupo de caminantes será alrededor de las 13:00 horas en las guaguas que estarán situadas en la carretera junto a la Plaza de Sintes.
URL:https://eventos.santabrigida.es/eventos/santa-brigida-prepara-su-caminata-a-teror/
LOCATION:Plaza León y Castillo. Plaza de la iglesia\, Plaza León y Castillo\, Santa Brígida\, Las Palmas\, 35300\, España
CATEGORIES:Festejos
ATTACH;FMTTYPE=image/jpeg:https://eventos.santabrigida.es/wp-content/uploads/2025/07/Teror-2025-JPG.jpg
END:VEVENT
BEGIN:VEVENT
DTSTART;TZID=UTC:20250830T090000
DTEND;TZID=UTC:20250830T183000
DTSTAMP:20260423T122854
CREATED:20250725T124156Z
LAST-MODIFIED:20250725T124156Z
UID:10001103-1756544400-1756578600@eventos.santabrigida.es
SUMMARY:"EXCURSIÓN ESPECIAL "VAMOS PAL`PINO"
DESCRIPTION:El Club Municipal de mayores\,  organiza para el próximo sábado 30 de agosto una excursión especial «Vamos Pal´Pino»\, donde coincidiremos con los caminantes que salgan en la tradicional caminata desde nuestro municipio\, para encontrarnos todos en Teror\, cuyo recorrido es el siguiente: Santa Brígida-Teror-Valleseco-Almuerzo (Restaurante Balcón de Zamora) -Gáldar (Baile)  y regreso. \nLa excursión estará amenizada por el grupo «EMILIO CARISMA». \nLas guaguas saldrán de los barrios: 8:20 desde la Atalaya y 8:00 desde el Llano de Mª Rivera\, y a las 9:00 del Club de Mayores. \nEl almuerzo se realizará en el  «Restaurante Balcón de Zamora « a cargo de cada uno. \nEntrantes: Pan y alioli\, Papas Arrugadas\, Queso Tierno\, Gofio Escaldao \nPrimer Plato: Sopa de pollo\, potaje  o ensalada. \nSegundo  plato:  Estofado de ternera\, Pescado Encebollado\, Cerdo en Adobo. \nPostre: San Marcos con helado. \nAgua\, vino \, refresco. \nPRECIO: 16€ \nDirigido/ a : Socios/as del Club de Mayores(Si quedaran plazas libres se ocuparán con el público en general) \nPlazas limitadas. \nInscripción: miércoles 27 \, jueves 28 de agosto\, de 8:00 a 14:00 o hasta cubrir las plazas.  (Presencial) Imprescindible presentar carnet de socio/a . \nPrecio: Transporte \, música y seguro de accidentes: Gratuito a cargo de la Concejalía de Mayores y Servicios Sociales \nAlmuerzo : a cargo de cada participante. \nInformación: 928644242 \n 
URL:https://eventos.santabrigida.es/eventos/excursion-especial-vamos-palpino/
LOCATION:Club Municipal de Mayores\, Juan Sebastian Elcano\, Santa Brígida\, Las Palmas\, 35300\, España
CATEGORIES:Acción Social,Club de Mayores
ATTACH;FMTTYPE=image/jpeg:https://eventos.santabrigida.es/wp-content/uploads/2025/07/EXCURSION-TABLERO-DE-MASPALOMAS-ARGUINEGUIN-CRUCE-DE-ARINAGA.jpg
END:VEVENT
END:VCALENDAR