BEGIN:VCALENDAR
VERSION:2.0
PRODID:-//Eventos - ECPv6.10.3//NONSGML v1.0//EN
CALSCALE:GREGORIAN
METHOD:PUBLISH
X-ORIGINAL-URL:https://eventos.santabrigida.es
X-WR-CALDESC:Eventos para Eventos
REFRESH-INTERVAL;VALUE=DURATION:PT1H
X-Robots-Tag:noindex
X-PUBLISHED-TTL:PT1H
BEGIN:VTIMEZONE
TZID:UTC
BEGIN:STANDARD
TZOFFSETFROM:+0000
TZOFFSETTO:+0000
TZNAME:UTC
DTSTART:20210101T000000
END:STANDARD
END:VTIMEZONE
BEGIN:VEVENT
DTSTART;TZID=UTC:20251219T110000
DTEND;TZID=UTC:20251223T190000
DTSTAMP:20260425T153201
CREATED:20251130T071803Z
LAST-MODIFIED:20251130T071803Z
UID:10001194-1766142000-1766516400@eventos.santabrigida.es
SUMMARY:Casita de Papa Noel
DESCRIPTION:Del 19 al 23 de diciembre\, Papá Noel abrirá las puertas de la encantadora Casita de Navidad (Calle Nueva) que tiene en Santa Brígida para recibir a todos los niños y niñas. El bueno de Santa estará listo para escuchar con atención los sueños y deseos de sus pequeños visitantes. (No hace falta hacer reserva). \n\nHorarios de visita \nViernes 19: de 16:00 a 19:00 \nSábado 20: de 11:00 a 13:00 y de 17:00 a 19:00 horas. \nDomingo 21: de 11:00 a 14:00 h \nLunes 22: de 17:00 a 19:00 h \nMartes 23: de 11:00 a 13:00 y de 17:00 a 19:00 horas.
URL:https://eventos.santabrigida.es/eventos/casita-de-papa-noel/
LOCATION:Calle Nueva. Santa Brígida\, C. Nueva nº 13\, Santa Brígida\, Las Palmas\, 35300\, España
ATTACH;FMTTYPE=image/png:https://eventos.santabrigida.es/wp-content/uploads/2025/11/Casa-Papa-Noel.png
END:VEVENT
BEGIN:VEVENT
DTSTART;TZID=UTC:20251204T183000
DTEND;TZID=UTC:20251204T190000
DTSTAMP:20260425T153201
CREATED:20251130T091442Z
LAST-MODIFIED:20251202T085558Z
UID:10001204-1764873000-1764874800@eventos.santabrigida.es
SUMMARY:Encendido Navideño
DESCRIPTION:El Ayuntamiento de Santa Brígida invita a la ciudadanía a dar la bienvenida a la temporada navideña con el tradicional Encendido de Luces\, que tendrá lugar este jueves\, 4 de diciembre\, a las 18:30 horas en Calle Nueva. El acto contará con la participación especial del Coro Infantil del CEIP Sataute\, que llenará la velada de armonía y espíritu festivo. \nTras el encendido\, se procederá a la inauguración del Belén municipal bajo el pórtico del Consistorio con el título La Magia de Belén\, obra de Yeray Rodríguez. La calidad artesanal de las piezas y los detalles minuciosos de cada escena son elementos distintivos del trabajo de este artista satauteño. \nEste entrañable símbolo navideño\, que celebra el nacimiento de Jesús\, forma parte esencial de la tradición y está presente en numerosos hogares y espacios públicos\, invitando a la reflexión y al disfrute de estas fechas. Podrá visitarse hasta el 7 de enero\, en horario de 10:00 a 20:00 horas. \nCon el Encendido de Luces y la apertura del Belén\, Santa Brígida abre paso a un mes lleno de actividades y momentos mágicos para toda la familia.
URL:https://eventos.santabrigida.es/eventos/encendido-navideno/
LOCATION:Calle Nueva. Santa Brígida\, C. Nueva nº 13\, Santa Brígida\, Las Palmas\, 35300\, España
ATTACH;FMTTYPE=image/jpeg:https://eventos.santabrigida.es/wp-content/uploads/2025/11/christmas-2919725_640.jpg
END:VEVENT
BEGIN:VEVENT
DTSTART;TZID=UTC:20241223T080000
DTEND;TZID=UTC:20241230T170000
DTSTAMP:20260425T153201
CREATED:20241123T134118Z
LAST-MODIFIED:20241123T134318Z
UID:10000896-1734940800-1735578000@eventos.santabrigida.es
SUMMARY:Pista de patinaje de hielo
DESCRIPTION:Santa Brígida se prepara para recibir estas fiestas navideñas con una propuesta muy especial: una pista de hielo ecológica que estará disponible para el disfrute de grandes y pequeños del 23 al 30 de diciembre. La instalación\, situada en una carpa en la Calle Nueva\, estará abierta en horario de: \n\nMañanas: De 10:00 a 14:00 horas.\nTardes: De 16:00 a 20:00 horas\n\nNota: es importante señalar que la pista estará cerrada los días 24 y 25 de diciembre\, para que todos puedan disfrutar de las celebraciones en familia. \nPista ecológica\nLa pista utiliza tecnología sostenible\, reemplazando el hielo tradicional con materiales ecológicos que imitan su textura y propiedades\, permitiendo patinar con total comodidad y reduciendo considerablemente el consumo de energía y agua.
URL:https://eventos.santabrigida.es/eventos/pista-de-hielo/
LOCATION:Calle Nueva. Santa Brígida\, C. Nueva nº 13\, Santa Brígida\, Las Palmas\, 35300\, España
CATEGORIES:Festejos
ATTACH;FMTTYPE=image/jpeg:https://eventos.santabrigida.es/wp-content/uploads/2024/11/023-PISTA-DE-HIELO.jpg
END:VEVENT
BEGIN:VEVENT
DTSTART;TZID=UTC:20241220T110000
DTEND;TZID=UTC:20241223T190000
DTSTAMP:20260425T153201
CREATED:20241123T133718Z
LAST-MODIFIED:20241123T133718Z
UID:10000895-1734692400-1734980400@eventos.santabrigida.es
SUMMARY:Papá Noel vuelve a su casita de Santa Brígida
DESCRIPTION:El Ayuntamiento de la Villa de Santa Brígida anuncia que\, con motivo de las celebraciones navideñas\, entre los días 20 y 23 de diciembre\, se habilitará una Casita de a Papá Noel para que reciba a todos los niños y niñas que deseen visitarlo y compartir con él sus sueños y deseos. \nEl bueno de Santa abrirá las puertas de su casita de Navidad el viernes 20 de diciembre\, a las 16.00 horas para escuchar atentamente cada una de las peticiones de los pequeños visitantes. Papá Noel estará acompañado por dos diligentes elfas\, que le asistirán en la recepción de las cartas y en la organización de los deseos. \nEl mágico trineo de Papá Noel\, listo y repleto de obsequios\, partirá de Santa Brígida en la noche del 23 de diciembre para recorrer el mundo entero y llenar de regalitos los hogares de todos los niños y niñas. \nNota: La entrada es gratuita y no es necesario reservar cita. \n🎅🏻🏡 Horarios \nviernes 20: 16.00 a 19.00 horas. \nSábado\, 21: 11.00 a 13.00 y 17.00 a 19.00 horas. \nDomingo\, 22: 11.00 a 14.00 horas. \nLunes\, 23: 11.00 a 13.00 y 17.00 a 19.00 horas. \n 
URL:https://eventos.santabrigida.es/eventos/papa-noel-vuelve-a-su-casita-de-santa-brigida/
LOCATION:Calle Nueva. Santa Brígida\, C. Nueva nº 13\, Santa Brígida\, Las Palmas\, 35300\, España
CATEGORIES:Festejos
ATTACH;FMTTYPE=image/jpeg:https://eventos.santabrigida.es/wp-content/uploads/2024/11/020-Casita-de-PAPA-Noel.jpg
END:VEVENT
BEGIN:VEVENT
DTSTART;TZID=UTC:20231124T203000
DTEND;TZID=UTC:20231124T233000
DTSTAMP:20260425T153201
CREATED:20231122T111206Z
LAST-MODIFIED:20231122T140019Z
UID:10000564-1700857800-1700868600@eventos.santabrigida.es
SUMMARY:'Noche de Vinos' este viernes en la calle Nueva
DESCRIPTION:El Ayuntamiento de Santa Brígida celebra la segunda ‘Noche de Vinos’ este viernes\, 24 de noviembre.   \nLa cita tendrá lugar en la calle Nueva\, dará comienzo a las 20.30 y se extenderá hasta la medianoche\, brindando a los asistentes la oportunidad de disfrutar de una velada llena de vinos\, gastronomía y música en un ambiente festivo y acogedor. El evento contará con la participación de vitivinicultores locales\, bodegas de la isla y la colaboración de los restauradores de la Villa\, mientras que los conciertos de Cool2 y Los Sarantontones pondrán el toque musical para amenizar la noche. La cita forma parte del programa de actividades ‘Santa Brígida con Vino 2023’ que la Concejalía de Desarrollo Rural ha programado para honrar a los vinos locales y su herencia cultural. Un homenaje merecido a la dedicación de viticultores\, bodegueros\, enólogos y a todos aquellos cuyo esfuerzo ha contribuido a forjar el carácter distintivo del municipio. Nota: Se instalará una carpa para la venta de tickets\, a partir de las 12.00 horas del mismo viernes\, que estará disponible toda la noche.
URL:https://eventos.santabrigida.es/eventos/noche-de-vinos-este-viernes-en-la-calle-nueva-2/
LOCATION:Calle Nueva. Santa Brígida\, C. Nueva nº 13\, Santa Brígida\, Las Palmas\, 35300\, España
CATEGORIES:Desarrollo Rural
ATTACH;FMTTYPE=image/jpeg:https://eventos.santabrigida.es/wp-content/uploads/2023/11/IG_Post_Programa_5-1-1.jpg
END:VEVENT
BEGIN:VEVENT
DTSTART;TZID=UTC:20220423T120000
DTEND;TZID=UTC:20220423T130000
DTSTAMP:20260425T153201
CREATED:20220408T132322Z
LAST-MODIFIED:20220408T132322Z
UID:10000516-1650715200-1650718800@eventos.santabrigida.es
SUMMARY:FERIA DEL LIBRO.TALLER  DE  HADAS DE LANA  FIELTRADA
DESCRIPTION:Celebración del Día Internacional del Libro. Vente a pasar una jornada entre libros. \nSábado 23 de abril \, C. Nueva \nTALLER  DE  HADAS DE LANA  FIELTRADA. TURNO 12:00 h. / 13:00 h. \nMayores de  7 años. \nMáximo dos reservas por contacto
URL:https://eventos.santabrigida.es/eventos/feria-del-libro-taller-de-hadas-de-lana-fieltrada-2/
LOCATION:Calle Nueva. Santa Brígida\, C. Nueva nº 13\, Santa Brígida\, Las Palmas\, 35300\, España
CATEGORIES:Cultura y Educación
ATTACH;FMTTYPE=image/jpeg:https://eventos.santabrigida.es/wp-content/uploads/2022/04/HADAS.jpg
ORGANIZER;CN="Concejal%C3%ADa de Cultura":MAILTO:cultura@santabrigida.es
END:VEVENT
BEGIN:VEVENT
DTSTART;TZID=UTC:20220423T103000
DTEND;TZID=UTC:20220423T233000
DTSTAMP:20260425T153201
CREATED:20220408T131841Z
LAST-MODIFIED:20220408T131841Z
UID:10000515-1650709800-1650756600@eventos.santabrigida.es
SUMMARY:FERIA DEL LIBRO. TALLER DE HADAS DE LANA  FIELTRADA
DESCRIPTION:Celebración del Día Internacional del Libro. Vente a pasar una jornada entre libros. \nSábado 23 de abril \, C. Nueva \nTALLER  DE  HADAS DE LANA  FIELTRADA. TURNO 10:30 h. / 11:30 h. \nMayores de  7 años. \nMáximo dos reservas por contacto
URL:https://eventos.santabrigida.es/eventos/feria-del-libro-taller-de-hadas-de-lana-fieltrada/
LOCATION:Calle Nueva. Santa Brígida\, C. Nueva nº 13\, Santa Brígida\, Las Palmas\, 35300\, España
CATEGORIES:Cultura y Educación
ATTACH;FMTTYPE=image/jpeg:https://eventos.santabrigida.es/wp-content/uploads/2022/04/HADAS.jpg
ORGANIZER;CN="Concejal%C3%ADa de Cultura":MAILTO:biblioteca@santabrigida.es
END:VEVENT
BEGIN:VEVENT
DTSTART;TZID=UTC:20211203T183000
DTEND;TZID=UTC:20211203T203000
DTSTAMP:20260425T153201
CREATED:20211127T142305Z
LAST-MODIFIED:20211127T153500Z
UID:10000479-1638556200-1638563400@eventos.santabrigida.es
SUMMARY:INAUGURACIÓN DEL ALUMBRADO NAVIDEÑO Y CONCIERTO DE MLOU GOSPEL
DESCRIPTION:Inauguración del Alumbrado Navideño\, los Belenes Municipales y la Casa de la Navidad de la Villa de Santa Brígida 2021.
URL:https://eventos.santabrigida.es/eventos/inauguracion-del-alumbrado-navideno-y-concierto-de-mlou-gospel/
LOCATION:Calle Nueva. Santa Brígida\, C. Nueva nº 13\, Santa Brígida\, Las Palmas\, 35300\, España
CATEGORIES:Festejos
ATTACH;FMTTYPE=image/jpeg:https://eventos.santabrigida.es/wp-content/uploads/2021/11/GOSPEL.jpg
END:VEVENT
END:VCALENDAR