BEGIN:VCALENDAR
VERSION:2.0
PRODID:-//Eventos - ECPv6.10.3//NONSGML v1.0//EN
CALSCALE:GREGORIAN
METHOD:PUBLISH
X-WR-CALNAME:Eventos
X-ORIGINAL-URL:https://eventos.santabrigida.es
X-WR-CALDESC:Eventos para Eventos
REFRESH-INTERVAL;VALUE=DURATION:PT1H
X-Robots-Tag:noindex
X-PUBLISHED-TTL:PT1H
BEGIN:VTIMEZONE
TZID:UTC
BEGIN:STANDARD
TZOFFSETFROM:+0000
TZOFFSETTO:+0000
TZNAME:UTC
DTSTART:20210101T000000
END:STANDARD
END:VTIMEZONE
BEGIN:VEVENT
DTSTART;TZID=UTC:20220423T103000
DTEND;TZID=UTC:20220423T233000
DTSTAMP:20260425T172241
CREATED:20220408T131841Z
LAST-MODIFIED:20220408T131841Z
UID:10000515-1650709800-1650756600@eventos.santabrigida.es
SUMMARY:FERIA DEL LIBRO. TALLER DE HADAS DE LANA  FIELTRADA
DESCRIPTION:Celebración del Día Internacional del Libro. Vente a pasar una jornada entre libros. \nSábado 23 de abril \, C. Nueva \nTALLER  DE  HADAS DE LANA  FIELTRADA. TURNO 10:30 h. / 11:30 h. \nMayores de  7 años. \nMáximo dos reservas por contacto
URL:https://eventos.santabrigida.es/eventos/feria-del-libro-taller-de-hadas-de-lana-fieltrada/
LOCATION:Calle Nueva. Santa Brígida\, C. Nueva nº 13\, Santa Brígida\, Las Palmas\, 35300\, España
CATEGORIES:Cultura y Educación
ATTACH;FMTTYPE=image/jpeg:https://eventos.santabrigida.es/wp-content/uploads/2022/04/HADAS.jpg
ORGANIZER;CN="Concejal%C3%ADa de Cultura":MAILTO:biblioteca@santabrigida.es
END:VEVENT
BEGIN:VEVENT
DTSTART;TZID=UTC:20211203T183000
DTEND;TZID=UTC:20211203T203000
DTSTAMP:20260425T172241
CREATED:20211127T142305Z
LAST-MODIFIED:20211127T153500Z
UID:10000479-1638556200-1638563400@eventos.santabrigida.es
SUMMARY:INAUGURACIÓN DEL ALUMBRADO NAVIDEÑO Y CONCIERTO DE MLOU GOSPEL
DESCRIPTION:Inauguración del Alumbrado Navideño\, los Belenes Municipales y la Casa de la Navidad de la Villa de Santa Brígida 2021.
URL:https://eventos.santabrigida.es/eventos/inauguracion-del-alumbrado-navideno-y-concierto-de-mlou-gospel/
LOCATION:Calle Nueva. Santa Brígida\, C. Nueva nº 13\, Santa Brígida\, Las Palmas\, 35300\, España
CATEGORIES:Festejos
ATTACH;FMTTYPE=image/jpeg:https://eventos.santabrigida.es/wp-content/uploads/2021/11/GOSPEL.jpg
END:VEVENT
END:VCALENDAR