BEGIN:VCALENDAR
VERSION:2.0
PRODID:-//Eventos - ECPv6.10.3//NONSGML v1.0//EN
CALSCALE:GREGORIAN
METHOD:PUBLISH
X-ORIGINAL-URL:https://eventos.santabrigida.es
X-WR-CALDESC:Eventos para Eventos
REFRESH-INTERVAL;VALUE=DURATION:PT1H
X-Robots-Tag:noindex
X-PUBLISHED-TTL:PT1H
BEGIN:VTIMEZONE
TZID:UTC
BEGIN:STANDARD
TZOFFSETFROM:+0000
TZOFFSETTO:+0000
TZNAME:UTC
DTSTART:20240101T000000
END:STANDARD
END:VTIMEZONE
BEGIN:VEVENT
DTSTART;TZID=UTC:20250322T173000
DTEND;TZID=UTC:20250322T230000
DTSTAMP:20260422T141032
CREATED:20250312T154717Z
LAST-MODIFIED:20250312T154717Z
UID:10000973-1742664600-1742684400@eventos.santabrigida.es
SUMMARY:Carnaval Vecinal en el Parque Municipal
DESCRIPTION:Este sábado\, 22 de marzo\, a partir de las 17.30 con el Carnaval Vecinal en el Parque Municipal del Casco urbano. Durante esta jornada\, quienes asistan podrán degustar las tradicionales tortillas de carnaval elaboradas por asociaciones vecinales y colectivos locales. Habrá también un Concurso de Disfraces\, una de las actividades más esperadas del evento. Todo ellos amenizado por DJ Kike. \nAdemás\, los más pequeños disfrutarán de una Fiesta Infantil\, con atracciones como hinchables y pintacaras. \nY a las 20.00 horas tendremos a Los Hombres de Cynthia en directo. Una hora después\, se procederá a la Quema de la Sardina. \nDesde el Ayuntamiento de Santa Brígida\, a través de la Concejalía de Festejos que dirige Javier Ramírez\, y la Comisión de Fiestas se invita a la ciudadanía a sumarse a esta gran celebración.
URL:https://eventos.santabrigida.es/eventos/carnaval-vecinal-en-el-parque-municipal/
LOCATION:PARQUE MUNICIPAL\, Paseo Guiniguada\, Santa Brígida\, Las Palmas\, 35300\, España
CATEGORIES:Festejos
ATTACH;FMTTYPE=image/jpeg:https://eventos.santabrigida.es/wp-content/uploads/2025/03/WhatsApp-Image-2025-03-12-at-08.08.11-1.jpeg
END:VEVENT
BEGIN:VEVENT
DTSTART;TZID=UTC:20240531T080000
DTEND;TZID=UTC:20240614T233000
DTSTAMP:20260422T141032
CREATED:20240524T072613Z
LAST-MODIFIED:20240524T072613Z
UID:10000790-1717142400-1718407800@eventos.santabrigida.es
SUMMARY:FloraBrígida regresa al Parque municipal
DESCRIPTION:La fiesta de San Antonio vuelve a ser escaparate de nuestro municipio\, con el retorno de nuestra querida FloraBrígida al entorno del Parque municipal. \nEl próximo viernes\, 31 de mayo\, tras el Pregón\, tendrá lugar la inauguración de la edición número 48 de Florabrígida que irá de mano de un concierto\, a las 21.00 horas\, a cargo de Ada Santana Aday (violín) y Enrique Fernández-Villamil Menéndez (guitarra). \nFlorabrígida llenará de flores el pueblo durante los 14 días de festividad\, entre el 31 de mayo y el 14 de junio. A lo largo de las calles habrá también referencias a las flores. En el Parque municipal habrá una zona donde los vecinos y las vecinas tendrán sus puestos de flores decorados por ellos\, donde está la Fuente habrá un diseño floral\, y el 8 de junio habrá un Mercado de Flores en la calle Nueva. Y muchas más sorpresas…
URL:https://eventos.santabrigida.es/eventos/florabrigida-regresa-al-parque-municipal/
LOCATION:PARQUE MUNICIPAL\, Paseo Guiniguada\, Santa Brígida\, Las Palmas\, 35300\, España
CATEGORIES:Festejos,Parques y Jardines
ATTACH;FMTTYPE=image/jpeg:https://eventos.santabrigida.es/wp-content/uploads/2024/05/FloraBrigida.jpg
END:VEVENT
BEGIN:VEVENT
DTSTART;TZID=UTC:20240507T173000
DTEND;TZID=UTC:20240520T190000
DTSTAMP:20260422T141032
CREATED:20240502T105733Z
LAST-MODIFIED:20240502T105733Z
UID:10000767-1715103000-1716231600@eventos.santabrigida.es
SUMMARY:‘Juegos de Calle’ recupera la diversión al aire libre
DESCRIPTION:El Ayuntamiento de Santa Brígida\, a través de la Concejalía de Asuntos Sociales\, anuncia una serie de ‘Juegos de Calle’ programados para los días 7\, 16 y 20 de mayo en diversos puntos del casco de la Villa. Estos eventos están diseñados para sacar a los niños y niños de las pantallas y reunirlos en un ambiente lúdico y saludable\, promoviendo la actividad física y la interacción interpersonal en la calle. \nLos juegos tendrán lugar en el Parque Municipal (día 7)\, la Plaza de la Iglesia (día 16) y el Paseo del Galeón (día 20)\, entre las 17:30 y las 19:00 horas\, garantizando una tarde de entretenimiento para todas las edades. \nPara guiar y animar estas actividades\, se contará con la presencia de dos monitores capacitados\, cuyo objetivo es facilitar la dinámica de los juegos y asegurar que niños y niñas disfruten de una experiencia gratificante. \nEntre las actividades planificadas se incluyen\, entre otras\, clásicos como carreras de sacos\, competencias con pelotas\, el popular juego de la silla y dinámicas musicales que harán que los corazones y las risas resuenen en las calles. Estos juegos\, tradicionalmente asociados con la diversión al aire libre\, buscan transmitir valores de cooperación y contrarrestar el predominio de las pantallas en la vida cotidiana\, ofreciendo una alternativa saludable y estimulante para el tiempo libre.
URL:https://eventos.santabrigida.es/eventos/juegos-de-calle-recupera-la-diversion-al-aire-libre/
LOCATION:PARQUE MUNICIPAL\, Paseo Guiniguada\, Santa Brígida\, Las Palmas\, 35300\, España
CATEGORIES:Acción Social
ATTACH;FMTTYPE=image/jpeg:https://eventos.santabrigida.es/wp-content/uploads/2024/05/WhatsApp-Image-2024-04-30-at-16.15.45.jpeg
END:VEVENT
END:VCALENDAR