BEGIN:VCALENDAR
VERSION:2.0
PRODID:-//Eventos - ECPv6.10.3//NONSGML v1.0//EN
CALSCALE:GREGORIAN
METHOD:PUBLISH
X-WR-CALNAME:Eventos
X-ORIGINAL-URL:https://eventos.santabrigida.es
X-WR-CALDESC:Eventos para Eventos
REFRESH-INTERVAL;VALUE=DURATION:PT1H
X-Robots-Tag:noindex
X-PUBLISHED-TTL:PT1H
BEGIN:VTIMEZONE
TZID:UTC
BEGIN:STANDARD
TZOFFSETFROM:+0000
TZOFFSETTO:+0000
TZNAME:UTC
DTSTART:20260101T000000
END:STANDARD
END:VTIMEZONE
BEGIN:VEVENT
DTSTART;TZID=UTC:20260201T110000
DTEND;TZID=UTC:20260201T140000
DTSTAMP:20260425T212530
CREATED:20251204T112653Z
LAST-MODIFIED:20260124T092213Z
UID:10001208-1769943600-1769954400@eventos.santabrigida.es
SUMMARY:Conoce la pintadera de Tasaute en El Tejar
DESCRIPTION:El municipio de Santa Brígida acoge el sábado\, 1 de febrero a las 11:00 horas la presentación y puesta en valor del topónimo y la pintadera Tasaute\, de Santa Brígida\, un acto que tendrá lugar en el Yacimiento Arqueológico de El Tejar\, en la calle El Rincón\, junto al CEIP Lola Massieu (La Angostura). \nTasaute merece dedicar especial dedicación a las loceras y su tradición alfarera empezando por conocer el yacimiento de El Tejar\, donde se encontró esta preciosa pintadera\, embarrarnos las manos y acabar bailando un tajaraste al ritmo de Tambor de Cabra. \nEl acto contará con la participación del doctor en Geografía Alex Hansen\, quien guiará la visita al yacimiento. Por su parte\, Loza. Memoria e Identidad Canaria abordará el valor identitario del patrimonio cerámico\, e intervendrá Isabel Quintana\, responsable del taller dedicado a la tradición del barro. Además\, Pintadera Digital presentará su propuesta de cultura en camiseta. La suma de estas voces permitirá ofrecer una mirada amplia que conecta la arqueología\, la artesanía\, la identidad y la creación contemporánea. \nLa jornada estaimpulsada por Pintadera Digital y apoyada por el Ayuntamiento de Santa Brígida\, Consejería de Cultura del Cabildo de Gran Canaria\, el Fondo de Desarrollo de Actividades Culturales\, Casa Cueva Juanito\, Néstor Cano y otros agentes comprometidos con la protección y difusión de la cultura canaria. \nNota: No hace falta inscripción. El acto es de carácter libre y gratuito.
URL:https://eventos.santabrigida.es/eventos/el-tejar-reivindica-la-pintadera-de-tasaute/
LOCATION:Yacimiento Arqueológico de El Tejar
ATTACH;FMTTYPE=image/jpeg:https://eventos.santabrigida.es/wp-content/uploads/2025/12/WhatsApp-Image-2026-01-23-at-17.59.47.jpeg
END:VEVENT
END:VCALENDAR